BEGIN:VCALENDAR
VERSION:2.0
PRODID:-//TCHEKLIAN - ECPv6.2.9//NONSGML v1.0//EN
CALSCALE:GREGORIAN
METHOD:PUBLISH
X-ORIGINAL-URL:https://tcheklian-notaires.fr
X-WR-CALDESC:évènements pour TCHEKLIAN
REFRESH-INTERVAL;VALUE=DURATION:PT1H
X-Robots-Tag:noindex
X-PUBLISHED-TTL:PT1H
BEGIN:VTIMEZONE
TZID:UTC
BEGIN:STANDARD
TZOFFSETFROM:+0000
TZOFFSETTO:+0000
TZNAME:UTC
DTSTART:20260101T000000
END:STANDARD
END:VTIMEZONE
BEGIN:VEVENT
DTSTART;VALUE=DATE:20260320
DTEND;VALUE=DATE:20260321
DTSTAMP:20260420T081114
CREATED:20240125T095011Z
LAST-MODIFIED:20240125T095011Z
UID:10025375-1773964800-1774051199@tcheklian-notaires.fr
SUMMARY:Ouvert
DESCRIPTION:
URL:https://tcheklian-notaires.fr/event/ouvert/2026-03-20/
END:VEVENT
BEGIN:VEVENT
DTSTART;VALUE=DATE:20260321
DTEND;VALUE=DATE:20260322
DTSTAMP:20260420T081114
CREATED:20240125T095011Z
LAST-MODIFIED:20240125T095011Z
UID:10025376-1774051200-1774137599@tcheklian-notaires.fr
SUMMARY:Ouvert
DESCRIPTION:
URL:https://tcheklian-notaires.fr/event/ouvert/2026-03-21/
END:VEVENT
BEGIN:VEVENT
DTSTART;VALUE=DATE:20260322
DTEND;VALUE=DATE:20260323
DTSTAMP:20260420T081114
CREATED:20240125T095421Z
LAST-MODIFIED:20240125T095421Z
UID:10031149-1774137600-1774223999@tcheklian-notaires.fr
SUMMARY:Fermé
DESCRIPTION:
URL:https://tcheklian-notaires.fr/event/ferme/2026-03-22/
END:VEVENT
BEGIN:VEVENT
DTSTART;VALUE=DATE:20260323
DTEND;VALUE=DATE:20260324
DTSTAMP:20260420T081114
CREATED:20240125T095011Z
LAST-MODIFIED:20240125T095011Z
UID:10025377-1774224000-1774310399@tcheklian-notaires.fr
SUMMARY:Ouvert
DESCRIPTION:
URL:https://tcheklian-notaires.fr/event/ouvert/2026-03-23/
END:VEVENT
BEGIN:VEVENT
DTSTART;VALUE=DATE:20260324
DTEND;VALUE=DATE:20260325
DTSTAMP:20260420T081114
CREATED:20240125T095011Z
LAST-MODIFIED:20240125T095011Z
UID:10025378-1774310400-1774396799@tcheklian-notaires.fr
SUMMARY:Ouvert
DESCRIPTION:
URL:https://tcheklian-notaires.fr/event/ouvert/2026-03-24/
END:VEVENT
BEGIN:VEVENT
DTSTART;VALUE=DATE:20260325
DTEND;VALUE=DATE:20260326
DTSTAMP:20260420T081114
CREATED:20240125T095011Z
LAST-MODIFIED:20240125T095011Z
UID:10025379-1774396800-1774483199@tcheklian-notaires.fr
SUMMARY:Ouvert
DESCRIPTION:
URL:https://tcheklian-notaires.fr/event/ouvert/2026-03-25/
END:VEVENT
BEGIN:VEVENT
DTSTART;VALUE=DATE:20260326
DTEND;VALUE=DATE:20260327
DTSTAMP:20260420T081114
CREATED:20240125T095011Z
LAST-MODIFIED:20240125T095011Z
UID:10025380-1774483200-1774569599@tcheklian-notaires.fr
SUMMARY:Ouvert
DESCRIPTION:
URL:https://tcheklian-notaires.fr/event/ouvert/2026-03-26/
END:VEVENT
BEGIN:VEVENT
DTSTART;VALUE=DATE:20260327
DTEND;VALUE=DATE:20260328
DTSTAMP:20260420T081114
CREATED:20240125T095011Z
LAST-MODIFIED:20240125T095011Z
UID:10025381-1774569600-1774655999@tcheklian-notaires.fr
SUMMARY:Ouvert
DESCRIPTION:
URL:https://tcheklian-notaires.fr/event/ouvert/2026-03-27/
END:VEVENT
BEGIN:VEVENT
DTSTART;VALUE=DATE:20260328
DTEND;VALUE=DATE:20260329
DTSTAMP:20260420T081115
CREATED:20240125T095011Z
LAST-MODIFIED:20240125T095011Z
UID:10025382-1774656000-1774742399@tcheklian-notaires.fr
SUMMARY:Ouvert
DESCRIPTION:
URL:https://tcheklian-notaires.fr/event/ouvert/2026-03-28/
END:VEVENT
BEGIN:VEVENT
DTSTART;VALUE=DATE:20260329
DTEND;VALUE=DATE:20260330
DTSTAMP:20260420T081115
CREATED:20240125T095421Z
LAST-MODIFIED:20240125T095421Z
UID:10031150-1774742400-1774828799@tcheklian-notaires.fr
SUMMARY:Fermé
DESCRIPTION:
URL:https://tcheklian-notaires.fr/event/ferme/2026-03-29/
END:VEVENT
BEGIN:VEVENT
DTSTART;VALUE=DATE:20260330
DTEND;VALUE=DATE:20260331
DTSTAMP:20260420T081115
CREATED:20240125T095011Z
LAST-MODIFIED:20240125T095011Z
UID:10025383-1774828800-1774915199@tcheklian-notaires.fr
SUMMARY:Ouvert
DESCRIPTION:
URL:https://tcheklian-notaires.fr/event/ouvert/2026-03-30/
END:VEVENT
BEGIN:VEVENT
DTSTART;VALUE=DATE:20260331
DTEND;VALUE=DATE:20260401
DTSTAMP:20260420T081115
CREATED:20240125T095011Z
LAST-MODIFIED:20240125T095011Z
UID:10025384-1774915200-1775001599@tcheklian-notaires.fr
SUMMARY:Ouvert
DESCRIPTION:
URL:https://tcheklian-notaires.fr/event/ouvert/2026-03-31/
END:VEVENT
BEGIN:VEVENT
DTSTART;VALUE=DATE:20260401
DTEND;VALUE=DATE:20260402
DTSTAMP:20260420T081115
CREATED:20240125T095011Z
LAST-MODIFIED:20240125T095011Z
UID:10025385-1775001600-1775087999@tcheklian-notaires.fr
SUMMARY:Ouvert
DESCRIPTION:
URL:https://tcheklian-notaires.fr/event/ouvert/2026-04-01/
END:VEVENT
BEGIN:VEVENT
DTSTART;VALUE=DATE:20260402
DTEND;VALUE=DATE:20260403
DTSTAMP:20260420T081115
CREATED:20240125T095011Z
LAST-MODIFIED:20240125T095011Z
UID:10025386-1775088000-1775174399@tcheklian-notaires.fr
SUMMARY:Ouvert
DESCRIPTION:
URL:https://tcheklian-notaires.fr/event/ouvert/2026-04-02/
END:VEVENT
BEGIN:VEVENT
DTSTART;VALUE=DATE:20260403
DTEND;VALUE=DATE:20260404
DTSTAMP:20260420T081115
CREATED:20240125T095011Z
LAST-MODIFIED:20240125T095011Z
UID:10025387-1775174400-1775260799@tcheklian-notaires.fr
SUMMARY:Ouvert
DESCRIPTION:
URL:https://tcheklian-notaires.fr/event/ouvert/2026-04-03/
END:VEVENT
BEGIN:VEVENT
DTSTART;VALUE=DATE:20260404
DTEND;VALUE=DATE:20260405
DTSTAMP:20260420T081115
CREATED:20240125T095011Z
LAST-MODIFIED:20240125T095011Z
UID:10025388-1775260800-1775347199@tcheklian-notaires.fr
SUMMARY:Ouvert
DESCRIPTION:
URL:https://tcheklian-notaires.fr/event/ouvert/2026-04-04/
END:VEVENT
BEGIN:VEVENT
DTSTART;VALUE=DATE:20260405
DTEND;VALUE=DATE:20260406
DTSTAMP:20260420T081115
CREATED:20240125T095421Z
LAST-MODIFIED:20240125T095421Z
UID:10031151-1775347200-1775433599@tcheklian-notaires.fr
SUMMARY:Fermé
DESCRIPTION:
URL:https://tcheklian-notaires.fr/event/ferme/2026-04-05/
END:VEVENT
BEGIN:VEVENT
DTSTART;VALUE=DATE:20260406
DTEND;VALUE=DATE:20260407
DTSTAMP:20260420T081115
CREATED:20240125T095011Z
LAST-MODIFIED:20240125T095011Z
UID:10025389-1775433600-1775519999@tcheklian-notaires.fr
SUMMARY:Ouvert
DESCRIPTION:
URL:https://tcheklian-notaires.fr/event/ouvert/2026-04-06/
END:VEVENT
BEGIN:VEVENT
DTSTART;VALUE=DATE:20260407
DTEND;VALUE=DATE:20260408
DTSTAMP:20260420T081115
CREATED:20240125T095011Z
LAST-MODIFIED:20240125T095011Z
UID:10025390-1775520000-1775606399@tcheklian-notaires.fr
SUMMARY:Ouvert
DESCRIPTION:
URL:https://tcheklian-notaires.fr/event/ouvert/2026-04-07/
END:VEVENT
BEGIN:VEVENT
DTSTART;VALUE=DATE:20260408
DTEND;VALUE=DATE:20260409
DTSTAMP:20260420T081115
CREATED:20240125T095011Z
LAST-MODIFIED:20240125T095011Z
UID:10025391-1775606400-1775692799@tcheklian-notaires.fr
SUMMARY:Ouvert
DESCRIPTION:
URL:https://tcheklian-notaires.fr/event/ouvert/2026-04-08/
END:VEVENT
BEGIN:VEVENT
DTSTART;VALUE=DATE:20260409
DTEND;VALUE=DATE:20260410
DTSTAMP:20260420T081115
CREATED:20240125T095011Z
LAST-MODIFIED:20240125T095011Z
UID:10025392-1775692800-1775779199@tcheklian-notaires.fr
SUMMARY:Ouvert
DESCRIPTION:
URL:https://tcheklian-notaires.fr/event/ouvert/2026-04-09/
END:VEVENT
BEGIN:VEVENT
DTSTART;VALUE=DATE:20260410
DTEND;VALUE=DATE:20260411
DTSTAMP:20260420T081115
CREATED:20240125T095011Z
LAST-MODIFIED:20240125T095011Z
UID:10025393-1775779200-1775865599@tcheklian-notaires.fr
SUMMARY:Ouvert
DESCRIPTION:
URL:https://tcheklian-notaires.fr/event/ouvert/2026-04-10/
END:VEVENT
BEGIN:VEVENT
DTSTART;VALUE=DATE:20260411
DTEND;VALUE=DATE:20260412
DTSTAMP:20260420T081115
CREATED:20240125T095011Z
LAST-MODIFIED:20240125T095011Z
UID:10025394-1775865600-1775951999@tcheklian-notaires.fr
SUMMARY:Ouvert
DESCRIPTION:
URL:https://tcheklian-notaires.fr/event/ouvert/2026-04-11/
END:VEVENT
BEGIN:VEVENT
DTSTART;VALUE=DATE:20260412
DTEND;VALUE=DATE:20260413
DTSTAMP:20260420T081115
CREATED:20240125T095421Z
LAST-MODIFIED:20240125T095421Z
UID:10031152-1775952000-1776038399@tcheklian-notaires.fr
SUMMARY:Fermé
DESCRIPTION:
URL:https://tcheklian-notaires.fr/event/ferme/2026-04-12/
END:VEVENT
BEGIN:VEVENT
DTSTART;VALUE=DATE:20260413
DTEND;VALUE=DATE:20260414
DTSTAMP:20260420T081115
CREATED:20240125T095011Z
LAST-MODIFIED:20240125T095011Z
UID:10025395-1776038400-1776124799@tcheklian-notaires.fr
SUMMARY:Ouvert
DESCRIPTION:
URL:https://tcheklian-notaires.fr/event/ouvert/2026-04-13/
END:VEVENT
BEGIN:VEVENT
DTSTART;VALUE=DATE:20260414
DTEND;VALUE=DATE:20260415
DTSTAMP:20260420T081115
CREATED:20240125T095011Z
LAST-MODIFIED:20240125T095011Z
UID:10025396-1776124800-1776211199@tcheklian-notaires.fr
SUMMARY:Ouvert
DESCRIPTION:
URL:https://tcheklian-notaires.fr/event/ouvert/2026-04-14/
END:VEVENT
BEGIN:VEVENT
DTSTART;VALUE=DATE:20260415
DTEND;VALUE=DATE:20260416
DTSTAMP:20260420T081115
CREATED:20240125T095011Z
LAST-MODIFIED:20240125T095011Z
UID:10025397-1776211200-1776297599@tcheklian-notaires.fr
SUMMARY:Ouvert
DESCRIPTION:
URL:https://tcheklian-notaires.fr/event/ouvert/2026-04-15/
END:VEVENT
BEGIN:VEVENT
DTSTART;VALUE=DATE:20260416
DTEND;VALUE=DATE:20260417
DTSTAMP:20260420T081115
CREATED:20240125T095011Z
LAST-MODIFIED:20240125T095011Z
UID:10025398-1776297600-1776383999@tcheklian-notaires.fr
SUMMARY:Ouvert
DESCRIPTION:
URL:https://tcheklian-notaires.fr/event/ouvert/2026-04-16/
END:VEVENT
BEGIN:VEVENT
DTSTART;VALUE=DATE:20260417
DTEND;VALUE=DATE:20260418
DTSTAMP:20260420T081115
CREATED:20240125T095011Z
LAST-MODIFIED:20240125T095011Z
UID:10025399-1776384000-1776470399@tcheklian-notaires.fr
SUMMARY:Ouvert
DESCRIPTION:
URL:https://tcheklian-notaires.fr/event/ouvert/2026-04-17/
END:VEVENT
BEGIN:VEVENT
DTSTART;VALUE=DATE:20260418
DTEND;VALUE=DATE:20260419
DTSTAMP:20260420T081115
CREATED:20240125T095011Z
LAST-MODIFIED:20240125T095011Z
UID:10025400-1776470400-1776556799@tcheklian-notaires.fr
SUMMARY:Ouvert
DESCRIPTION:
URL:https://tcheklian-notaires.fr/event/ouvert/2026-04-18/
END:VEVENT
END:VCALENDAR