BEGIN:VCALENDAR
VERSION:2.0
PRODID:-//TCHEKLIAN - ECPv6.2.9//NONSGML v1.0//EN
CALSCALE:GREGORIAN
METHOD:PUBLISH
X-ORIGINAL-URL:https://tcheklian-notaires.fr
X-WR-CALDESC:évènements pour TCHEKLIAN
REFRESH-INTERVAL;VALUE=DURATION:PT1H
X-Robots-Tag:noindex
X-PUBLISHED-TTL:PT1H
BEGIN:VTIMEZONE
TZID:UTC
BEGIN:STANDARD
TZOFFSETFROM:+0000
TZOFFSETTO:+0000
TZNAME:UTC
DTSTART:20260101T000000
END:STANDARD
END:VTIMEZONE
BEGIN:VEVENT
DTSTART;VALUE=DATE:20260514
DTEND;VALUE=DATE:20260515
DTSTAMP:20260419T232147
CREATED:20240125T095011Z
LAST-MODIFIED:20240125T095011Z
UID:10025422-1778716800-1778803199@tcheklian-notaires.fr
SUMMARY:Ouvert
DESCRIPTION:
URL:https://tcheklian-notaires.fr/event/ouvert/2026-05-14/
END:VEVENT
BEGIN:VEVENT
DTSTART;VALUE=DATE:20260515
DTEND;VALUE=DATE:20260516
DTSTAMP:20260419T232147
CREATED:20240125T095011Z
LAST-MODIFIED:20240125T095011Z
UID:10025423-1778803200-1778889599@tcheklian-notaires.fr
SUMMARY:Ouvert
DESCRIPTION:
URL:https://tcheklian-notaires.fr/event/ouvert/2026-05-15/
END:VEVENT
BEGIN:VEVENT
DTSTART;VALUE=DATE:20260516
DTEND;VALUE=DATE:20260517
DTSTAMP:20260419T232147
CREATED:20240125T095011Z
LAST-MODIFIED:20240125T095011Z
UID:10025424-1778889600-1778975999@tcheklian-notaires.fr
SUMMARY:Ouvert
DESCRIPTION:
URL:https://tcheklian-notaires.fr/event/ouvert/2026-05-16/
END:VEVENT
BEGIN:VEVENT
DTSTART;VALUE=DATE:20260517
DTEND;VALUE=DATE:20260518
DTSTAMP:20260419T232147
CREATED:20240125T095421Z
LAST-MODIFIED:20240125T095421Z
UID:10031157-1778976000-1779062399@tcheklian-notaires.fr
SUMMARY:Fermé
DESCRIPTION:
URL:https://tcheklian-notaires.fr/event/ferme/2026-05-17/
END:VEVENT
BEGIN:VEVENT
DTSTART;VALUE=DATE:20260518
DTEND;VALUE=DATE:20260519
DTSTAMP:20260419T232147
CREATED:20240125T095011Z
LAST-MODIFIED:20240125T095011Z
UID:10025425-1779062400-1779148799@tcheklian-notaires.fr
SUMMARY:Ouvert
DESCRIPTION:
URL:https://tcheklian-notaires.fr/event/ouvert/2026-05-18/
END:VEVENT
BEGIN:VEVENT
DTSTART;VALUE=DATE:20260519
DTEND;VALUE=DATE:20260520
DTSTAMP:20260419T232147
CREATED:20240125T095011Z
LAST-MODIFIED:20240125T095011Z
UID:10025426-1779148800-1779235199@tcheklian-notaires.fr
SUMMARY:Ouvert
DESCRIPTION:
URL:https://tcheklian-notaires.fr/event/ouvert/2026-05-19/
END:VEVENT
BEGIN:VEVENT
DTSTART;VALUE=DATE:20260520
DTEND;VALUE=DATE:20260521
DTSTAMP:20260419T232147
CREATED:20240125T095011Z
LAST-MODIFIED:20240125T095011Z
UID:10025427-1779235200-1779321599@tcheklian-notaires.fr
SUMMARY:Ouvert
DESCRIPTION:
URL:https://tcheklian-notaires.fr/event/ouvert/2026-05-20/
END:VEVENT
BEGIN:VEVENT
DTSTART;VALUE=DATE:20260521
DTEND;VALUE=DATE:20260522
DTSTAMP:20260419T232147
CREATED:20240125T095011Z
LAST-MODIFIED:20240125T095011Z
UID:10025428-1779321600-1779407999@tcheklian-notaires.fr
SUMMARY:Ouvert
DESCRIPTION:
URL:https://tcheklian-notaires.fr/event/ouvert/2026-05-21/
END:VEVENT
BEGIN:VEVENT
DTSTART;VALUE=DATE:20260522
DTEND;VALUE=DATE:20260523
DTSTAMP:20260419T232147
CREATED:20240125T095011Z
LAST-MODIFIED:20240125T095011Z
UID:10025429-1779408000-1779494399@tcheklian-notaires.fr
SUMMARY:Ouvert
DESCRIPTION:
URL:https://tcheklian-notaires.fr/event/ouvert/2026-05-22/
END:VEVENT
BEGIN:VEVENT
DTSTART;VALUE=DATE:20260523
DTEND;VALUE=DATE:20260524
DTSTAMP:20260419T232147
CREATED:20240125T095011Z
LAST-MODIFIED:20240125T095011Z
UID:10025430-1779494400-1779580799@tcheklian-notaires.fr
SUMMARY:Ouvert
DESCRIPTION:
URL:https://tcheklian-notaires.fr/event/ouvert/2026-05-23/
END:VEVENT
BEGIN:VEVENT
DTSTART;VALUE=DATE:20260524
DTEND;VALUE=DATE:20260525
DTSTAMP:20260419T232147
CREATED:20240125T095421Z
LAST-MODIFIED:20240125T095421Z
UID:10031158-1779580800-1779667199@tcheklian-notaires.fr
SUMMARY:Fermé
DESCRIPTION:
URL:https://tcheklian-notaires.fr/event/ferme/2026-05-24/
END:VEVENT
BEGIN:VEVENT
DTSTART;VALUE=DATE:20260525
DTEND;VALUE=DATE:20260526
DTSTAMP:20260419T232147
CREATED:20240125T095011Z
LAST-MODIFIED:20240125T095011Z
UID:10025431-1779667200-1779753599@tcheklian-notaires.fr
SUMMARY:Ouvert
DESCRIPTION:
URL:https://tcheklian-notaires.fr/event/ouvert/2026-05-25/
END:VEVENT
BEGIN:VEVENT
DTSTART;VALUE=DATE:20260526
DTEND;VALUE=DATE:20260527
DTSTAMP:20260419T232147
CREATED:20240125T095011Z
LAST-MODIFIED:20240125T095011Z
UID:10025432-1779753600-1779839999@tcheklian-notaires.fr
SUMMARY:Ouvert
DESCRIPTION:
URL:https://tcheklian-notaires.fr/event/ouvert/2026-05-26/
END:VEVENT
BEGIN:VEVENT
DTSTART;VALUE=DATE:20260527
DTEND;VALUE=DATE:20260528
DTSTAMP:20260419T232147
CREATED:20240125T095011Z
LAST-MODIFIED:20240125T095011Z
UID:10025433-1779840000-1779926399@tcheklian-notaires.fr
SUMMARY:Ouvert
DESCRIPTION:
URL:https://tcheklian-notaires.fr/event/ouvert/2026-05-27/
END:VEVENT
BEGIN:VEVENT
DTSTART;VALUE=DATE:20260528
DTEND;VALUE=DATE:20260529
DTSTAMP:20260419T232147
CREATED:20240125T095011Z
LAST-MODIFIED:20240125T095011Z
UID:10025434-1779926400-1780012799@tcheklian-notaires.fr
SUMMARY:Ouvert
DESCRIPTION:
URL:https://tcheklian-notaires.fr/event/ouvert/2026-05-28/
END:VEVENT
BEGIN:VEVENT
DTSTART;VALUE=DATE:20260529
DTEND;VALUE=DATE:20260530
DTSTAMP:20260419T232147
CREATED:20240125T095011Z
LAST-MODIFIED:20240125T095011Z
UID:10025435-1780012800-1780099199@tcheklian-notaires.fr
SUMMARY:Ouvert
DESCRIPTION:
URL:https://tcheklian-notaires.fr/event/ouvert/2026-05-29/
END:VEVENT
BEGIN:VEVENT
DTSTART;VALUE=DATE:20260530
DTEND;VALUE=DATE:20260531
DTSTAMP:20260419T232147
CREATED:20240125T095011Z
LAST-MODIFIED:20240125T095011Z
UID:10025436-1780099200-1780185599@tcheklian-notaires.fr
SUMMARY:Ouvert
DESCRIPTION:
URL:https://tcheklian-notaires.fr/event/ouvert/2026-05-30/
END:VEVENT
BEGIN:VEVENT
DTSTART;VALUE=DATE:20260531
DTEND;VALUE=DATE:20260601
DTSTAMP:20260419T232147
CREATED:20240125T095421Z
LAST-MODIFIED:20240125T095421Z
UID:10031159-1780185600-1780271999@tcheklian-notaires.fr
SUMMARY:Fermé
DESCRIPTION:
URL:https://tcheklian-notaires.fr/event/ferme/2026-05-31/
END:VEVENT
BEGIN:VEVENT
DTSTART;VALUE=DATE:20260601
DTEND;VALUE=DATE:20260602
DTSTAMP:20260419T232147
CREATED:20240125T095011Z
LAST-MODIFIED:20240125T095011Z
UID:10025437-1780272000-1780358399@tcheklian-notaires.fr
SUMMARY:Ouvert
DESCRIPTION:
URL:https://tcheklian-notaires.fr/event/ouvert/2026-06-01/
END:VEVENT
BEGIN:VEVENT
DTSTART;VALUE=DATE:20260602
DTEND;VALUE=DATE:20260603
DTSTAMP:20260419T232147
CREATED:20240125T095011Z
LAST-MODIFIED:20240125T095011Z
UID:10025438-1780358400-1780444799@tcheklian-notaires.fr
SUMMARY:Ouvert
DESCRIPTION:
URL:https://tcheklian-notaires.fr/event/ouvert/2026-06-02/
END:VEVENT
BEGIN:VEVENT
DTSTART;VALUE=DATE:20260603
DTEND;VALUE=DATE:20260604
DTSTAMP:20260419T232148
CREATED:20240125T095011Z
LAST-MODIFIED:20240125T095011Z
UID:10025439-1780444800-1780531199@tcheklian-notaires.fr
SUMMARY:Ouvert
DESCRIPTION:
URL:https://tcheklian-notaires.fr/event/ouvert/2026-06-03/
END:VEVENT
BEGIN:VEVENT
DTSTART;VALUE=DATE:20260604
DTEND;VALUE=DATE:20260605
DTSTAMP:20260419T232148
CREATED:20240125T095011Z
LAST-MODIFIED:20240125T095011Z
UID:10025440-1780531200-1780617599@tcheklian-notaires.fr
SUMMARY:Ouvert
DESCRIPTION:
URL:https://tcheklian-notaires.fr/event/ouvert/2026-06-04/
END:VEVENT
BEGIN:VEVENT
DTSTART;VALUE=DATE:20260605
DTEND;VALUE=DATE:20260606
DTSTAMP:20260419T232148
CREATED:20240125T095011Z
LAST-MODIFIED:20240125T095011Z
UID:10025441-1780617600-1780703999@tcheklian-notaires.fr
SUMMARY:Ouvert
DESCRIPTION:
URL:https://tcheklian-notaires.fr/event/ouvert/2026-06-05/
END:VEVENT
BEGIN:VEVENT
DTSTART;VALUE=DATE:20260606
DTEND;VALUE=DATE:20260607
DTSTAMP:20260419T232148
CREATED:20240125T095011Z
LAST-MODIFIED:20240125T095011Z
UID:10025442-1780704000-1780790399@tcheklian-notaires.fr
SUMMARY:Ouvert
DESCRIPTION:
URL:https://tcheklian-notaires.fr/event/ouvert/2026-06-06/
END:VEVENT
BEGIN:VEVENT
DTSTART;VALUE=DATE:20260607
DTEND;VALUE=DATE:20260608
DTSTAMP:20260419T232148
CREATED:20240125T095421Z
LAST-MODIFIED:20240125T095421Z
UID:10031160-1780790400-1780876799@tcheklian-notaires.fr
SUMMARY:Fermé
DESCRIPTION:
URL:https://tcheklian-notaires.fr/event/ferme/2026-06-07/
END:VEVENT
BEGIN:VEVENT
DTSTART;VALUE=DATE:20260608
DTEND;VALUE=DATE:20260609
DTSTAMP:20260419T232148
CREATED:20240125T095011Z
LAST-MODIFIED:20240125T095011Z
UID:10025443-1780876800-1780963199@tcheklian-notaires.fr
SUMMARY:Ouvert
DESCRIPTION:
URL:https://tcheklian-notaires.fr/event/ouvert/2026-06-08/
END:VEVENT
BEGIN:VEVENT
DTSTART;VALUE=DATE:20260609
DTEND;VALUE=DATE:20260610
DTSTAMP:20260419T232148
CREATED:20240125T095011Z
LAST-MODIFIED:20240125T095011Z
UID:10025444-1780963200-1781049599@tcheklian-notaires.fr
SUMMARY:Ouvert
DESCRIPTION:
URL:https://tcheklian-notaires.fr/event/ouvert/2026-06-09/
END:VEVENT
BEGIN:VEVENT
DTSTART;VALUE=DATE:20260610
DTEND;VALUE=DATE:20260611
DTSTAMP:20260419T232148
CREATED:20240125T095011Z
LAST-MODIFIED:20240125T095011Z
UID:10025445-1781049600-1781135999@tcheklian-notaires.fr
SUMMARY:Ouvert
DESCRIPTION:
URL:https://tcheklian-notaires.fr/event/ouvert/2026-06-10/
END:VEVENT
BEGIN:VEVENT
DTSTART;VALUE=DATE:20260611
DTEND;VALUE=DATE:20260612
DTSTAMP:20260419T232148
CREATED:20240125T095011Z
LAST-MODIFIED:20240125T095011Z
UID:10025446-1781136000-1781222399@tcheklian-notaires.fr
SUMMARY:Ouvert
DESCRIPTION:
URL:https://tcheklian-notaires.fr/event/ouvert/2026-06-11/
END:VEVENT
BEGIN:VEVENT
DTSTART;VALUE=DATE:20260612
DTEND;VALUE=DATE:20260613
DTSTAMP:20260419T232148
CREATED:20240125T095011Z
LAST-MODIFIED:20240125T095011Z
UID:10025447-1781222400-1781308799@tcheklian-notaires.fr
SUMMARY:Ouvert
DESCRIPTION:
URL:https://tcheklian-notaires.fr/event/ouvert/2026-06-12/
END:VEVENT
END:VCALENDAR