BEGIN:VCALENDAR
VERSION:2.0
PRODID:-//TCHEKLIAN - ECPv6.2.9//NONSGML v1.0//EN
CALSCALE:GREGORIAN
METHOD:PUBLISH
X-WR-CALNAME:TCHEKLIAN
X-ORIGINAL-URL:https://tcheklian-notaires.fr
X-WR-CALDESC:évènements pour TCHEKLIAN
REFRESH-INTERVAL;VALUE=DURATION:PT1H
X-Robots-Tag:noindex
X-PUBLISHED-TTL:PT1H
BEGIN:VTIMEZONE
TZID:UTC
BEGIN:STANDARD
TZOFFSETFROM:+0000
TZOFFSETTO:+0000
TZNAME:UTC
DTSTART:20260101T000000
END:STANDARD
END:VTIMEZONE
BEGIN:VEVENT
DTSTART;VALUE=DATE:20260619
DTEND;VALUE=DATE:20260620
DTSTAMP:20260420T081439
CREATED:20240125T095011Z
LAST-MODIFIED:20240125T095011Z
UID:10025453-1781827200-1781913599@tcheklian-notaires.fr
SUMMARY:Ouvert
DESCRIPTION:
URL:https://tcheklian-notaires.fr/event/ouvert/2026-06-19/
END:VEVENT
BEGIN:VEVENT
DTSTART;VALUE=DATE:20260620
DTEND;VALUE=DATE:20260621
DTSTAMP:20260420T081439
CREATED:20240125T095011Z
LAST-MODIFIED:20240125T095011Z
UID:10025454-1781913600-1781999999@tcheklian-notaires.fr
SUMMARY:Ouvert
DESCRIPTION:
URL:https://tcheklian-notaires.fr/event/ouvert/2026-06-20/
END:VEVENT
BEGIN:VEVENT
DTSTART;VALUE=DATE:20260621
DTEND;VALUE=DATE:20260622
DTSTAMP:20260420T081439
CREATED:20240125T095421Z
LAST-MODIFIED:20240125T095421Z
UID:10031162-1782000000-1782086399@tcheklian-notaires.fr
SUMMARY:Fermé
DESCRIPTION:
URL:https://tcheklian-notaires.fr/event/ferme/2026-06-21/
END:VEVENT
BEGIN:VEVENT
DTSTART;VALUE=DATE:20260622
DTEND;VALUE=DATE:20260623
DTSTAMP:20260420T081439
CREATED:20240125T095011Z
LAST-MODIFIED:20240125T095011Z
UID:10025455-1782086400-1782172799@tcheklian-notaires.fr
SUMMARY:Ouvert
DESCRIPTION:
URL:https://tcheklian-notaires.fr/event/ouvert/2026-06-22/
END:VEVENT
BEGIN:VEVENT
DTSTART;VALUE=DATE:20260623
DTEND;VALUE=DATE:20260624
DTSTAMP:20260420T081439
CREATED:20240125T095011Z
LAST-MODIFIED:20240125T095011Z
UID:10025456-1782172800-1782259199@tcheklian-notaires.fr
SUMMARY:Ouvert
DESCRIPTION:
URL:https://tcheklian-notaires.fr/event/ouvert/2026-06-23/
END:VEVENT
BEGIN:VEVENT
DTSTART;VALUE=DATE:20260624
DTEND;VALUE=DATE:20260625
DTSTAMP:20260420T081439
CREATED:20240125T095011Z
LAST-MODIFIED:20240125T095011Z
UID:10025457-1782259200-1782345599@tcheklian-notaires.fr
SUMMARY:Ouvert
DESCRIPTION:
URL:https://tcheklian-notaires.fr/event/ouvert/2026-06-24/
END:VEVENT
BEGIN:VEVENT
DTSTART;VALUE=DATE:20260625
DTEND;VALUE=DATE:20260626
DTSTAMP:20260420T081439
CREATED:20240125T095011Z
LAST-MODIFIED:20240125T095011Z
UID:10025458-1782345600-1782431999@tcheklian-notaires.fr
SUMMARY:Ouvert
DESCRIPTION:
URL:https://tcheklian-notaires.fr/event/ouvert/2026-06-25/
END:VEVENT
BEGIN:VEVENT
DTSTART;VALUE=DATE:20260626
DTEND;VALUE=DATE:20260627
DTSTAMP:20260420T081439
CREATED:20240125T095011Z
LAST-MODIFIED:20240125T095011Z
UID:10025459-1782432000-1782518399@tcheklian-notaires.fr
SUMMARY:Ouvert
DESCRIPTION:
URL:https://tcheklian-notaires.fr/event/ouvert/2026-06-26/
END:VEVENT
BEGIN:VEVENT
DTSTART;VALUE=DATE:20260627
DTEND;VALUE=DATE:20260628
DTSTAMP:20260420T081439
CREATED:20240125T095011Z
LAST-MODIFIED:20240125T095011Z
UID:10025460-1782518400-1782604799@tcheklian-notaires.fr
SUMMARY:Ouvert
DESCRIPTION:
URL:https://tcheklian-notaires.fr/event/ouvert/2026-06-27/
END:VEVENT
BEGIN:VEVENT
DTSTART;VALUE=DATE:20260628
DTEND;VALUE=DATE:20260629
DTSTAMP:20260420T081439
CREATED:20240125T095421Z
LAST-MODIFIED:20240125T095421Z
UID:10031163-1782604800-1782691199@tcheklian-notaires.fr
SUMMARY:Fermé
DESCRIPTION:
URL:https://tcheklian-notaires.fr/event/ferme/2026-06-28/
END:VEVENT
BEGIN:VEVENT
DTSTART;VALUE=DATE:20260629
DTEND;VALUE=DATE:20260630
DTSTAMP:20260420T081439
CREATED:20240125T095011Z
LAST-MODIFIED:20240125T095011Z
UID:10025461-1782691200-1782777599@tcheklian-notaires.fr
SUMMARY:Ouvert
DESCRIPTION:
URL:https://tcheklian-notaires.fr/event/ouvert/2026-06-29/
END:VEVENT
BEGIN:VEVENT
DTSTART;VALUE=DATE:20260630
DTEND;VALUE=DATE:20260701
DTSTAMP:20260420T081439
CREATED:20240125T095011Z
LAST-MODIFIED:20240125T095011Z
UID:10025462-1782777600-1782863999@tcheklian-notaires.fr
SUMMARY:Ouvert
DESCRIPTION:
URL:https://tcheklian-notaires.fr/event/ouvert/2026-06-30/
END:VEVENT
BEGIN:VEVENT
DTSTART;VALUE=DATE:20260701
DTEND;VALUE=DATE:20260702
DTSTAMP:20260420T081439
CREATED:20240125T095011Z
LAST-MODIFIED:20240125T095011Z
UID:10025463-1782864000-1782950399@tcheklian-notaires.fr
SUMMARY:Ouvert
DESCRIPTION:
URL:https://tcheklian-notaires.fr/event/ouvert/2026-07-01/
END:VEVENT
BEGIN:VEVENT
DTSTART;VALUE=DATE:20260702
DTEND;VALUE=DATE:20260703
DTSTAMP:20260420T081439
CREATED:20240125T095011Z
LAST-MODIFIED:20240125T095011Z
UID:10025464-1782950400-1783036799@tcheklian-notaires.fr
SUMMARY:Ouvert
DESCRIPTION:
URL:https://tcheklian-notaires.fr/event/ouvert/2026-07-02/
END:VEVENT
BEGIN:VEVENT
DTSTART;VALUE=DATE:20260703
DTEND;VALUE=DATE:20260704
DTSTAMP:20260420T081439
CREATED:20240125T095011Z
LAST-MODIFIED:20240125T095011Z
UID:10025465-1783036800-1783123199@tcheklian-notaires.fr
SUMMARY:Ouvert
DESCRIPTION:
URL:https://tcheklian-notaires.fr/event/ouvert/2026-07-03/
END:VEVENT
BEGIN:VEVENT
DTSTART;VALUE=DATE:20260704
DTEND;VALUE=DATE:20260705
DTSTAMP:20260420T081439
CREATED:20240125T095011Z
LAST-MODIFIED:20240125T095011Z
UID:10025466-1783123200-1783209599@tcheklian-notaires.fr
SUMMARY:Ouvert
DESCRIPTION:
URL:https://tcheklian-notaires.fr/event/ouvert/2026-07-04/
END:VEVENT
BEGIN:VEVENT
DTSTART;VALUE=DATE:20260705
DTEND;VALUE=DATE:20260706
DTSTAMP:20260420T081439
CREATED:20240125T095421Z
LAST-MODIFIED:20240125T095421Z
UID:10031164-1783209600-1783295999@tcheklian-notaires.fr
SUMMARY:Fermé
DESCRIPTION:
URL:https://tcheklian-notaires.fr/event/ferme/2026-07-05/
END:VEVENT
BEGIN:VEVENT
DTSTART;VALUE=DATE:20260706
DTEND;VALUE=DATE:20260707
DTSTAMP:20260420T081439
CREATED:20240125T095011Z
LAST-MODIFIED:20240125T095011Z
UID:10025467-1783296000-1783382399@tcheklian-notaires.fr
SUMMARY:Ouvert
DESCRIPTION:
URL:https://tcheklian-notaires.fr/event/ouvert/2026-07-06/
END:VEVENT
BEGIN:VEVENT
DTSTART;VALUE=DATE:20260707
DTEND;VALUE=DATE:20260708
DTSTAMP:20260420T081439
CREATED:20240125T095011Z
LAST-MODIFIED:20240125T095011Z
UID:10025468-1783382400-1783468799@tcheklian-notaires.fr
SUMMARY:Ouvert
DESCRIPTION:
URL:https://tcheklian-notaires.fr/event/ouvert/2026-07-07/
END:VEVENT
BEGIN:VEVENT
DTSTART;VALUE=DATE:20260708
DTEND;VALUE=DATE:20260709
DTSTAMP:20260420T081439
CREATED:20240125T095011Z
LAST-MODIFIED:20240125T095011Z
UID:10025469-1783468800-1783555199@tcheklian-notaires.fr
SUMMARY:Ouvert
DESCRIPTION:
URL:https://tcheklian-notaires.fr/event/ouvert/2026-07-08/
END:VEVENT
BEGIN:VEVENT
DTSTART;VALUE=DATE:20260709
DTEND;VALUE=DATE:20260710
DTSTAMP:20260420T081439
CREATED:20240125T095011Z
LAST-MODIFIED:20240125T095011Z
UID:10025470-1783555200-1783641599@tcheklian-notaires.fr
SUMMARY:Ouvert
DESCRIPTION:
URL:https://tcheklian-notaires.fr/event/ouvert/2026-07-09/
END:VEVENT
BEGIN:VEVENT
DTSTART;VALUE=DATE:20260710
DTEND;VALUE=DATE:20260711
DTSTAMP:20260420T081439
CREATED:20240125T095011Z
LAST-MODIFIED:20240125T095011Z
UID:10025471-1783641600-1783727999@tcheklian-notaires.fr
SUMMARY:Ouvert
DESCRIPTION:
URL:https://tcheklian-notaires.fr/event/ouvert/2026-07-10/
END:VEVENT
BEGIN:VEVENT
DTSTART;VALUE=DATE:20260711
DTEND;VALUE=DATE:20260712
DTSTAMP:20260420T081439
CREATED:20240125T095011Z
LAST-MODIFIED:20240125T095011Z
UID:10025472-1783728000-1783814399@tcheklian-notaires.fr
SUMMARY:Ouvert
DESCRIPTION:
URL:https://tcheklian-notaires.fr/event/ouvert/2026-07-11/
END:VEVENT
BEGIN:VEVENT
DTSTART;VALUE=DATE:20260712
DTEND;VALUE=DATE:20260713
DTSTAMP:20260420T081439
CREATED:20240125T095421Z
LAST-MODIFIED:20240125T095421Z
UID:10031165-1783814400-1783900799@tcheklian-notaires.fr
SUMMARY:Fermé
DESCRIPTION:
URL:https://tcheklian-notaires.fr/event/ferme/2026-07-12/
END:VEVENT
BEGIN:VEVENT
DTSTART;VALUE=DATE:20260713
DTEND;VALUE=DATE:20260714
DTSTAMP:20260420T081439
CREATED:20240125T095011Z
LAST-MODIFIED:20240125T095011Z
UID:10025473-1783900800-1783987199@tcheklian-notaires.fr
SUMMARY:Ouvert
DESCRIPTION:
URL:https://tcheklian-notaires.fr/event/ouvert/2026-07-13/
END:VEVENT
BEGIN:VEVENT
DTSTART;VALUE=DATE:20260714
DTEND;VALUE=DATE:20260715
DTSTAMP:20260420T081439
CREATED:20240125T095011Z
LAST-MODIFIED:20240125T095011Z
UID:10025474-1783987200-1784073599@tcheklian-notaires.fr
SUMMARY:Ouvert
DESCRIPTION:
URL:https://tcheklian-notaires.fr/event/ouvert/2026-07-14/
END:VEVENT
BEGIN:VEVENT
DTSTART;VALUE=DATE:20260715
DTEND;VALUE=DATE:20260716
DTSTAMP:20260420T081439
CREATED:20240125T095011Z
LAST-MODIFIED:20240125T095011Z
UID:10025475-1784073600-1784159999@tcheklian-notaires.fr
SUMMARY:Ouvert
DESCRIPTION:
URL:https://tcheklian-notaires.fr/event/ouvert/2026-07-15/
END:VEVENT
BEGIN:VEVENT
DTSTART;VALUE=DATE:20260716
DTEND;VALUE=DATE:20260717
DTSTAMP:20260420T081439
CREATED:20240125T095011Z
LAST-MODIFIED:20240125T095011Z
UID:10025476-1784160000-1784246399@tcheklian-notaires.fr
SUMMARY:Ouvert
DESCRIPTION:
URL:https://tcheklian-notaires.fr/event/ouvert/2026-07-16/
END:VEVENT
BEGIN:VEVENT
DTSTART;VALUE=DATE:20260717
DTEND;VALUE=DATE:20260718
DTSTAMP:20260420T081439
CREATED:20240125T095011Z
LAST-MODIFIED:20240125T095011Z
UID:10025477-1784246400-1784332799@tcheklian-notaires.fr
SUMMARY:Ouvert
DESCRIPTION:
URL:https://tcheklian-notaires.fr/event/ouvert/2026-07-17/
END:VEVENT
BEGIN:VEVENT
DTSTART;VALUE=DATE:20260718
DTEND;VALUE=DATE:20260719
DTSTAMP:20260420T081439
CREATED:20240125T095011Z
LAST-MODIFIED:20240125T095011Z
UID:10025478-1784332800-1784419199@tcheklian-notaires.fr
SUMMARY:Ouvert
DESCRIPTION:
URL:https://tcheklian-notaires.fr/event/ouvert/2026-07-18/
END:VEVENT
END:VCALENDAR