BEGIN:VCALENDAR
VERSION:2.0
PRODID:-//TCHEKLIAN - ECPv6.2.9//NONSGML v1.0//EN
CALSCALE:GREGORIAN
METHOD:PUBLISH
X-WR-CALNAME:TCHEKLIAN
X-ORIGINAL-URL:https://tcheklian-notaires.fr
X-WR-CALDESC:Events for TCHEKLIAN
REFRESH-INTERVAL;VALUE=DURATION:PT1H
X-Robots-Tag:noindex
X-PUBLISHED-TTL:PT1H
BEGIN:VTIMEZONE
TZID:UTC
BEGIN:STANDARD
TZOFFSETFROM:+0000
TZOFFSETTO:+0000
TZNAME:UTC
DTSTART:20260101T000000
END:STANDARD
END:VTIMEZONE
BEGIN:VEVENT
DTSTART;VALUE=DATE:20260313
DTEND;VALUE=DATE:20260314
DTSTAMP:20260420T064335
CREATED:20240125T095204Z
LAST-MODIFIED:20240125T095204Z
UID:10026957-1773360000-1773446399@tcheklian-notaires.fr
SUMMARY:Open
DESCRIPTION:
URL:https://tcheklian-notaires.fr/event/open/2026-03-13/
END:VEVENT
BEGIN:VEVENT
DTSTART;VALUE=DATE:20260314
DTEND;VALUE=DATE:20260315
DTSTAMP:20260420T064335
CREATED:20240125T095204Z
LAST-MODIFIED:20240125T095204Z
UID:10026958-1773446400-1773532799@tcheklian-notaires.fr
SUMMARY:Open
DESCRIPTION:
URL:https://tcheklian-notaires.fr/event/open/2026-03-14/
END:VEVENT
BEGIN:VEVENT
DTSTART;VALUE=DATE:20260315
DTEND;VALUE=DATE:20260316
DTSTAMP:20260420T064335
CREATED:20240125T095503Z
LAST-MODIFIED:20240125T095503Z
UID:10031413-1773532800-1773619199@tcheklian-notaires.fr
SUMMARY:Closed
DESCRIPTION:
URL:https://tcheklian-notaires.fr/event/closed/2026-03-15/
END:VEVENT
BEGIN:VEVENT
DTSTART;VALUE=DATE:20260316
DTEND;VALUE=DATE:20260317
DTSTAMP:20260420T064335
CREATED:20240125T095204Z
LAST-MODIFIED:20240125T095204Z
UID:10026959-1773619200-1773705599@tcheklian-notaires.fr
SUMMARY:Open
DESCRIPTION:
URL:https://tcheklian-notaires.fr/event/open/2026-03-16/
END:VEVENT
BEGIN:VEVENT
DTSTART;VALUE=DATE:20260317
DTEND;VALUE=DATE:20260318
DTSTAMP:20260420T064335
CREATED:20240125T095204Z
LAST-MODIFIED:20240125T095204Z
UID:10026960-1773705600-1773791999@tcheklian-notaires.fr
SUMMARY:Open
DESCRIPTION:
URL:https://tcheklian-notaires.fr/event/open/2026-03-17/
END:VEVENT
BEGIN:VEVENT
DTSTART;VALUE=DATE:20260318
DTEND;VALUE=DATE:20260319
DTSTAMP:20260420T064335
CREATED:20240125T095204Z
LAST-MODIFIED:20240125T095204Z
UID:10026961-1773792000-1773878399@tcheklian-notaires.fr
SUMMARY:Open
DESCRIPTION:
URL:https://tcheklian-notaires.fr/event/open/2026-03-18/
END:VEVENT
BEGIN:VEVENT
DTSTART;VALUE=DATE:20260319
DTEND;VALUE=DATE:20260320
DTSTAMP:20260420T064335
CREATED:20240125T095204Z
LAST-MODIFIED:20240125T095204Z
UID:10026962-1773878400-1773964799@tcheklian-notaires.fr
SUMMARY:Open
DESCRIPTION:
URL:https://tcheklian-notaires.fr/event/open/2026-03-19/
END:VEVENT
BEGIN:VEVENT
DTSTART;VALUE=DATE:20260320
DTEND;VALUE=DATE:20260321
DTSTAMP:20260420T064335
CREATED:20240125T095204Z
LAST-MODIFIED:20240125T095204Z
UID:10026963-1773964800-1774051199@tcheklian-notaires.fr
SUMMARY:Open
DESCRIPTION:
URL:https://tcheklian-notaires.fr/event/open/2026-03-20/
END:VEVENT
BEGIN:VEVENT
DTSTART;VALUE=DATE:20260321
DTEND;VALUE=DATE:20260322
DTSTAMP:20260420T064335
CREATED:20240125T095204Z
LAST-MODIFIED:20240125T095204Z
UID:10026964-1774051200-1774137599@tcheklian-notaires.fr
SUMMARY:Open
DESCRIPTION:
URL:https://tcheklian-notaires.fr/event/open/2026-03-21/
END:VEVENT
BEGIN:VEVENT
DTSTART;VALUE=DATE:20260322
DTEND;VALUE=DATE:20260323
DTSTAMP:20260420T064335
CREATED:20240125T095503Z
LAST-MODIFIED:20240125T095503Z
UID:10031414-1774137600-1774223999@tcheklian-notaires.fr
SUMMARY:Closed
DESCRIPTION:
URL:https://tcheklian-notaires.fr/event/closed/2026-03-22/
END:VEVENT
BEGIN:VEVENT
DTSTART;VALUE=DATE:20260323
DTEND;VALUE=DATE:20260324
DTSTAMP:20260420T064335
CREATED:20240125T095204Z
LAST-MODIFIED:20240125T095204Z
UID:10026965-1774224000-1774310399@tcheklian-notaires.fr
SUMMARY:Open
DESCRIPTION:
URL:https://tcheklian-notaires.fr/event/open/2026-03-23/
END:VEVENT
BEGIN:VEVENT
DTSTART;VALUE=DATE:20260324
DTEND;VALUE=DATE:20260325
DTSTAMP:20260420T064335
CREATED:20240125T095204Z
LAST-MODIFIED:20240125T095204Z
UID:10026966-1774310400-1774396799@tcheklian-notaires.fr
SUMMARY:Open
DESCRIPTION:
URL:https://tcheklian-notaires.fr/event/open/2026-03-24/
END:VEVENT
BEGIN:VEVENT
DTSTART;VALUE=DATE:20260325
DTEND;VALUE=DATE:20260326
DTSTAMP:20260420T064335
CREATED:20240125T095204Z
LAST-MODIFIED:20240125T095204Z
UID:10026967-1774396800-1774483199@tcheklian-notaires.fr
SUMMARY:Open
DESCRIPTION:
URL:https://tcheklian-notaires.fr/event/open/2026-03-25/
END:VEVENT
BEGIN:VEVENT
DTSTART;VALUE=DATE:20260326
DTEND;VALUE=DATE:20260327
DTSTAMP:20260420T064335
CREATED:20240125T095204Z
LAST-MODIFIED:20240125T095204Z
UID:10026968-1774483200-1774569599@tcheklian-notaires.fr
SUMMARY:Open
DESCRIPTION:
URL:https://tcheklian-notaires.fr/event/open/2026-03-26/
END:VEVENT
BEGIN:VEVENT
DTSTART;VALUE=DATE:20260327
DTEND;VALUE=DATE:20260328
DTSTAMP:20260420T064335
CREATED:20240125T095204Z
LAST-MODIFIED:20240125T095204Z
UID:10026969-1774569600-1774655999@tcheklian-notaires.fr
SUMMARY:Open
DESCRIPTION:
URL:https://tcheklian-notaires.fr/event/open/2026-03-27/
END:VEVENT
BEGIN:VEVENT
DTSTART;VALUE=DATE:20260328
DTEND;VALUE=DATE:20260329
DTSTAMP:20260420T064335
CREATED:20240125T095204Z
LAST-MODIFIED:20240125T095204Z
UID:10026970-1774656000-1774742399@tcheklian-notaires.fr
SUMMARY:Open
DESCRIPTION:
URL:https://tcheklian-notaires.fr/event/open/2026-03-28/
END:VEVENT
BEGIN:VEVENT
DTSTART;VALUE=DATE:20260329
DTEND;VALUE=DATE:20260330
DTSTAMP:20260420T064335
CREATED:20240125T095503Z
LAST-MODIFIED:20240125T095503Z
UID:10031415-1774742400-1774828799@tcheklian-notaires.fr
SUMMARY:Closed
DESCRIPTION:
URL:https://tcheklian-notaires.fr/event/closed/2026-03-29/
END:VEVENT
BEGIN:VEVENT
DTSTART;VALUE=DATE:20260330
DTEND;VALUE=DATE:20260331
DTSTAMP:20260420T064335
CREATED:20240125T095204Z
LAST-MODIFIED:20240125T095204Z
UID:10026971-1774828800-1774915199@tcheklian-notaires.fr
SUMMARY:Open
DESCRIPTION:
URL:https://tcheklian-notaires.fr/event/open/2026-03-30/
END:VEVENT
BEGIN:VEVENT
DTSTART;VALUE=DATE:20260331
DTEND;VALUE=DATE:20260401
DTSTAMP:20260420T064335
CREATED:20240125T095204Z
LAST-MODIFIED:20240125T095204Z
UID:10026972-1774915200-1775001599@tcheklian-notaires.fr
SUMMARY:Open
DESCRIPTION:
URL:https://tcheklian-notaires.fr/event/open/2026-03-31/
END:VEVENT
BEGIN:VEVENT
DTSTART;VALUE=DATE:20260401
DTEND;VALUE=DATE:20260402
DTSTAMP:20260420T064335
CREATED:20240125T095204Z
LAST-MODIFIED:20240125T095204Z
UID:10026973-1775001600-1775087999@tcheklian-notaires.fr
SUMMARY:Open
DESCRIPTION:
URL:https://tcheklian-notaires.fr/event/open/2026-04-01/
END:VEVENT
BEGIN:VEVENT
DTSTART;VALUE=DATE:20260402
DTEND;VALUE=DATE:20260403
DTSTAMP:20260420T064335
CREATED:20240125T095204Z
LAST-MODIFIED:20240125T095204Z
UID:10026974-1775088000-1775174399@tcheklian-notaires.fr
SUMMARY:Open
DESCRIPTION:
URL:https://tcheklian-notaires.fr/event/open/2026-04-02/
END:VEVENT
BEGIN:VEVENT
DTSTART;VALUE=DATE:20260403
DTEND;VALUE=DATE:20260404
DTSTAMP:20260420T064335
CREATED:20240125T095204Z
LAST-MODIFIED:20240125T095204Z
UID:10026975-1775174400-1775260799@tcheklian-notaires.fr
SUMMARY:Open
DESCRIPTION:
URL:https://tcheklian-notaires.fr/event/open/2026-04-03/
END:VEVENT
BEGIN:VEVENT
DTSTART;VALUE=DATE:20260404
DTEND;VALUE=DATE:20260405
DTSTAMP:20260420T064335
CREATED:20240125T095204Z
LAST-MODIFIED:20240125T095204Z
UID:10026976-1775260800-1775347199@tcheklian-notaires.fr
SUMMARY:Open
DESCRIPTION:
URL:https://tcheklian-notaires.fr/event/open/2026-04-04/
END:VEVENT
BEGIN:VEVENT
DTSTART;VALUE=DATE:20260405
DTEND;VALUE=DATE:20260406
DTSTAMP:20260420T064335
CREATED:20240125T095503Z
LAST-MODIFIED:20240125T095503Z
UID:10031416-1775347200-1775433599@tcheklian-notaires.fr
SUMMARY:Closed
DESCRIPTION:
URL:https://tcheklian-notaires.fr/event/closed/2026-04-05/
END:VEVENT
BEGIN:VEVENT
DTSTART;VALUE=DATE:20260406
DTEND;VALUE=DATE:20260407
DTSTAMP:20260420T064335
CREATED:20240125T095204Z
LAST-MODIFIED:20240125T095204Z
UID:10026977-1775433600-1775519999@tcheklian-notaires.fr
SUMMARY:Open
DESCRIPTION:
URL:https://tcheklian-notaires.fr/event/open/2026-04-06/
END:VEVENT
BEGIN:VEVENT
DTSTART;VALUE=DATE:20260407
DTEND;VALUE=DATE:20260408
DTSTAMP:20260420T064335
CREATED:20240125T095204Z
LAST-MODIFIED:20240125T095204Z
UID:10026978-1775520000-1775606399@tcheklian-notaires.fr
SUMMARY:Open
DESCRIPTION:
URL:https://tcheklian-notaires.fr/event/open/2026-04-07/
END:VEVENT
BEGIN:VEVENT
DTSTART;VALUE=DATE:20260408
DTEND;VALUE=DATE:20260409
DTSTAMP:20260420T064335
CREATED:20240125T095204Z
LAST-MODIFIED:20240125T095204Z
UID:10026979-1775606400-1775692799@tcheklian-notaires.fr
SUMMARY:Open
DESCRIPTION:
URL:https://tcheklian-notaires.fr/event/open/2026-04-08/
END:VEVENT
BEGIN:VEVENT
DTSTART;VALUE=DATE:20260409
DTEND;VALUE=DATE:20260410
DTSTAMP:20260420T064335
CREATED:20240125T095204Z
LAST-MODIFIED:20240125T095204Z
UID:10026980-1775692800-1775779199@tcheklian-notaires.fr
SUMMARY:Open
DESCRIPTION:
URL:https://tcheklian-notaires.fr/event/open/2026-04-09/
END:VEVENT
BEGIN:VEVENT
DTSTART;VALUE=DATE:20260410
DTEND;VALUE=DATE:20260411
DTSTAMP:20260420T064335
CREATED:20240125T095204Z
LAST-MODIFIED:20240125T095204Z
UID:10026981-1775779200-1775865599@tcheklian-notaires.fr
SUMMARY:Open
DESCRIPTION:
URL:https://tcheklian-notaires.fr/event/open/2026-04-10/
END:VEVENT
BEGIN:VEVENT
DTSTART;VALUE=DATE:20260411
DTEND;VALUE=DATE:20260412
DTSTAMP:20260420T064335
CREATED:20240125T095204Z
LAST-MODIFIED:20240125T095204Z
UID:10026982-1775865600-1775951999@tcheklian-notaires.fr
SUMMARY:Open
DESCRIPTION:
URL:https://tcheklian-notaires.fr/event/open/2026-04-11/
END:VEVENT
END:VCALENDAR