BEGIN:VCALENDAR
VERSION:2.0
PRODID:-//TCHEKLIAN - ECPv6.2.9//NONSGML v1.0//EN
CALSCALE:GREGORIAN
METHOD:PUBLISH
X-WR-CALNAME:TCHEKLIAN
X-ORIGINAL-URL:https://tcheklian-notaires.fr
X-WR-CALDESC:Events for TCHEKLIAN
REFRESH-INTERVAL;VALUE=DURATION:PT1H
X-Robots-Tag:noindex
X-PUBLISHED-TTL:PT1H
BEGIN:VTIMEZONE
TZID:UTC
BEGIN:STANDARD
TZOFFSETFROM:+0000
TZOFFSETTO:+0000
TZNAME:UTC
DTSTART:20260101T000000
END:STANDARD
END:VTIMEZONE
BEGIN:VEVENT
DTSTART;VALUE=DATE:20260429
DTEND;VALUE=DATE:20260430
DTSTAMP:20260420T151704
CREATED:20240125T095204Z
LAST-MODIFIED:20240125T095204Z
UID:10026997-1777420800-1777507199@tcheklian-notaires.fr
SUMMARY:Open
DESCRIPTION:
URL:https://tcheklian-notaires.fr/event/open/2026-04-29/
END:VEVENT
BEGIN:VEVENT
DTSTART;VALUE=DATE:20260430
DTEND;VALUE=DATE:20260501
DTSTAMP:20260420T151704
CREATED:20240125T095204Z
LAST-MODIFIED:20240125T095204Z
UID:10026998-1777507200-1777593599@tcheklian-notaires.fr
SUMMARY:Open
DESCRIPTION:
URL:https://tcheklian-notaires.fr/event/open/2026-04-30/
END:VEVENT
BEGIN:VEVENT
DTSTART;VALUE=DATE:20260501
DTEND;VALUE=DATE:20260502
DTSTAMP:20260420T151704
CREATED:20240125T095204Z
LAST-MODIFIED:20240125T095204Z
UID:10026999-1777593600-1777679999@tcheklian-notaires.fr
SUMMARY:Open
DESCRIPTION:
URL:https://tcheklian-notaires.fr/event/open/2026-05-01/
END:VEVENT
BEGIN:VEVENT
DTSTART;VALUE=DATE:20260502
DTEND;VALUE=DATE:20260503
DTSTAMP:20260420T151704
CREATED:20240125T095204Z
LAST-MODIFIED:20240125T095204Z
UID:10027000-1777680000-1777766399@tcheklian-notaires.fr
SUMMARY:Open
DESCRIPTION:
URL:https://tcheklian-notaires.fr/event/open/2026-05-02/
END:VEVENT
BEGIN:VEVENT
DTSTART;VALUE=DATE:20260503
DTEND;VALUE=DATE:20260504
DTSTAMP:20260420T151704
CREATED:20240125T095503Z
LAST-MODIFIED:20240125T095503Z
UID:10031420-1777766400-1777852799@tcheklian-notaires.fr
SUMMARY:Closed
DESCRIPTION:
URL:https://tcheklian-notaires.fr/event/closed/2026-05-03/
END:VEVENT
BEGIN:VEVENT
DTSTART;VALUE=DATE:20260504
DTEND;VALUE=DATE:20260505
DTSTAMP:20260420T151704
CREATED:20240125T095204Z
LAST-MODIFIED:20240125T095204Z
UID:10027001-1777852800-1777939199@tcheklian-notaires.fr
SUMMARY:Open
DESCRIPTION:
URL:https://tcheklian-notaires.fr/event/open/2026-05-04/
END:VEVENT
BEGIN:VEVENT
DTSTART;VALUE=DATE:20260505
DTEND;VALUE=DATE:20260506
DTSTAMP:20260420T151704
CREATED:20240125T095204Z
LAST-MODIFIED:20240125T095204Z
UID:10027002-1777939200-1778025599@tcheklian-notaires.fr
SUMMARY:Open
DESCRIPTION:
URL:https://tcheklian-notaires.fr/event/open/2026-05-05/
END:VEVENT
BEGIN:VEVENT
DTSTART;VALUE=DATE:20260506
DTEND;VALUE=DATE:20260507
DTSTAMP:20260420T151704
CREATED:20240125T095204Z
LAST-MODIFIED:20240125T095204Z
UID:10027003-1778025600-1778111999@tcheklian-notaires.fr
SUMMARY:Open
DESCRIPTION:
URL:https://tcheklian-notaires.fr/event/open/2026-05-06/
END:VEVENT
BEGIN:VEVENT
DTSTART;VALUE=DATE:20260507
DTEND;VALUE=DATE:20260508
DTSTAMP:20260420T151704
CREATED:20240125T095204Z
LAST-MODIFIED:20240125T095204Z
UID:10027004-1778112000-1778198399@tcheklian-notaires.fr
SUMMARY:Open
DESCRIPTION:
URL:https://tcheklian-notaires.fr/event/open/2026-05-07/
END:VEVENT
BEGIN:VEVENT
DTSTART;VALUE=DATE:20260508
DTEND;VALUE=DATE:20260509
DTSTAMP:20260420T151704
CREATED:20240125T095204Z
LAST-MODIFIED:20240125T095204Z
UID:10027005-1778198400-1778284799@tcheklian-notaires.fr
SUMMARY:Open
DESCRIPTION:
URL:https://tcheklian-notaires.fr/event/open/2026-05-08/
END:VEVENT
BEGIN:VEVENT
DTSTART;VALUE=DATE:20260509
DTEND;VALUE=DATE:20260510
DTSTAMP:20260420T151704
CREATED:20240125T095204Z
LAST-MODIFIED:20240125T095204Z
UID:10027006-1778284800-1778371199@tcheklian-notaires.fr
SUMMARY:Open
DESCRIPTION:
URL:https://tcheklian-notaires.fr/event/open/2026-05-09/
END:VEVENT
BEGIN:VEVENT
DTSTART;VALUE=DATE:20260510
DTEND;VALUE=DATE:20260511
DTSTAMP:20260420T151704
CREATED:20240125T095503Z
LAST-MODIFIED:20240125T095503Z
UID:10031421-1778371200-1778457599@tcheklian-notaires.fr
SUMMARY:Closed
DESCRIPTION:
URL:https://tcheklian-notaires.fr/event/closed/2026-05-10/
END:VEVENT
BEGIN:VEVENT
DTSTART;VALUE=DATE:20260511
DTEND;VALUE=DATE:20260512
DTSTAMP:20260420T151704
CREATED:20240125T095204Z
LAST-MODIFIED:20240125T095204Z
UID:10027007-1778457600-1778543999@tcheklian-notaires.fr
SUMMARY:Open
DESCRIPTION:
URL:https://tcheklian-notaires.fr/event/open/2026-05-11/
END:VEVENT
BEGIN:VEVENT
DTSTART;VALUE=DATE:20260512
DTEND;VALUE=DATE:20260513
DTSTAMP:20260420T151704
CREATED:20240125T095204Z
LAST-MODIFIED:20240125T095204Z
UID:10027008-1778544000-1778630399@tcheklian-notaires.fr
SUMMARY:Open
DESCRIPTION:
URL:https://tcheklian-notaires.fr/event/open/2026-05-12/
END:VEVENT
BEGIN:VEVENT
DTSTART;VALUE=DATE:20260513
DTEND;VALUE=DATE:20260514
DTSTAMP:20260420T151704
CREATED:20240125T095204Z
LAST-MODIFIED:20240125T095204Z
UID:10027009-1778630400-1778716799@tcheklian-notaires.fr
SUMMARY:Open
DESCRIPTION:
URL:https://tcheklian-notaires.fr/event/open/2026-05-13/
END:VEVENT
BEGIN:VEVENT
DTSTART;VALUE=DATE:20260514
DTEND;VALUE=DATE:20260515
DTSTAMP:20260420T151704
CREATED:20240125T095204Z
LAST-MODIFIED:20240125T095204Z
UID:10027010-1778716800-1778803199@tcheklian-notaires.fr
SUMMARY:Open
DESCRIPTION:
URL:https://tcheklian-notaires.fr/event/open/2026-05-14/
END:VEVENT
BEGIN:VEVENT
DTSTART;VALUE=DATE:20260515
DTEND;VALUE=DATE:20260516
DTSTAMP:20260420T151704
CREATED:20240125T095204Z
LAST-MODIFIED:20240125T095204Z
UID:10027011-1778803200-1778889599@tcheklian-notaires.fr
SUMMARY:Open
DESCRIPTION:
URL:https://tcheklian-notaires.fr/event/open/2026-05-15/
END:VEVENT
BEGIN:VEVENT
DTSTART;VALUE=DATE:20260516
DTEND;VALUE=DATE:20260517
DTSTAMP:20260420T151704
CREATED:20240125T095204Z
LAST-MODIFIED:20240125T095204Z
UID:10027012-1778889600-1778975999@tcheklian-notaires.fr
SUMMARY:Open
DESCRIPTION:
URL:https://tcheklian-notaires.fr/event/open/2026-05-16/
END:VEVENT
BEGIN:VEVENT
DTSTART;VALUE=DATE:20260517
DTEND;VALUE=DATE:20260518
DTSTAMP:20260420T151704
CREATED:20240125T095503Z
LAST-MODIFIED:20240125T095503Z
UID:10031422-1778976000-1779062399@tcheklian-notaires.fr
SUMMARY:Closed
DESCRIPTION:
URL:https://tcheklian-notaires.fr/event/closed/2026-05-17/
END:VEVENT
BEGIN:VEVENT
DTSTART;VALUE=DATE:20260518
DTEND;VALUE=DATE:20260519
DTSTAMP:20260420T151704
CREATED:20240125T095204Z
LAST-MODIFIED:20240125T095204Z
UID:10027013-1779062400-1779148799@tcheklian-notaires.fr
SUMMARY:Open
DESCRIPTION:
URL:https://tcheklian-notaires.fr/event/open/2026-05-18/
END:VEVENT
BEGIN:VEVENT
DTSTART;VALUE=DATE:20260519
DTEND;VALUE=DATE:20260520
DTSTAMP:20260420T151704
CREATED:20240125T095204Z
LAST-MODIFIED:20240125T095204Z
UID:10027014-1779148800-1779235199@tcheklian-notaires.fr
SUMMARY:Open
DESCRIPTION:
URL:https://tcheklian-notaires.fr/event/open/2026-05-19/
END:VEVENT
BEGIN:VEVENT
DTSTART;VALUE=DATE:20260520
DTEND;VALUE=DATE:20260521
DTSTAMP:20260420T151704
CREATED:20240125T095204Z
LAST-MODIFIED:20240125T095204Z
UID:10027015-1779235200-1779321599@tcheklian-notaires.fr
SUMMARY:Open
DESCRIPTION:
URL:https://tcheklian-notaires.fr/event/open/2026-05-20/
END:VEVENT
BEGIN:VEVENT
DTSTART;VALUE=DATE:20260521
DTEND;VALUE=DATE:20260522
DTSTAMP:20260420T151704
CREATED:20240125T095204Z
LAST-MODIFIED:20240125T095204Z
UID:10027016-1779321600-1779407999@tcheklian-notaires.fr
SUMMARY:Open
DESCRIPTION:
URL:https://tcheklian-notaires.fr/event/open/2026-05-21/
END:VEVENT
BEGIN:VEVENT
DTSTART;VALUE=DATE:20260522
DTEND;VALUE=DATE:20260523
DTSTAMP:20260420T151704
CREATED:20240125T095204Z
LAST-MODIFIED:20240125T095204Z
UID:10027017-1779408000-1779494399@tcheklian-notaires.fr
SUMMARY:Open
DESCRIPTION:
URL:https://tcheklian-notaires.fr/event/open/2026-05-22/
END:VEVENT
BEGIN:VEVENT
DTSTART;VALUE=DATE:20260523
DTEND;VALUE=DATE:20260524
DTSTAMP:20260420T151704
CREATED:20240125T095204Z
LAST-MODIFIED:20240125T095204Z
UID:10027018-1779494400-1779580799@tcheklian-notaires.fr
SUMMARY:Open
DESCRIPTION:
URL:https://tcheklian-notaires.fr/event/open/2026-05-23/
END:VEVENT
BEGIN:VEVENT
DTSTART;VALUE=DATE:20260524
DTEND;VALUE=DATE:20260525
DTSTAMP:20260420T151704
CREATED:20240125T095503Z
LAST-MODIFIED:20240125T095503Z
UID:10031423-1779580800-1779667199@tcheklian-notaires.fr
SUMMARY:Closed
DESCRIPTION:
URL:https://tcheklian-notaires.fr/event/closed/2026-05-24/
END:VEVENT
BEGIN:VEVENT
DTSTART;VALUE=DATE:20260525
DTEND;VALUE=DATE:20260526
DTSTAMP:20260420T151704
CREATED:20240125T095204Z
LAST-MODIFIED:20240125T095204Z
UID:10027019-1779667200-1779753599@tcheklian-notaires.fr
SUMMARY:Open
DESCRIPTION:
URL:https://tcheklian-notaires.fr/event/open/2026-05-25/
END:VEVENT
BEGIN:VEVENT
DTSTART;VALUE=DATE:20260526
DTEND;VALUE=DATE:20260527
DTSTAMP:20260420T151704
CREATED:20240125T095204Z
LAST-MODIFIED:20240125T095204Z
UID:10027020-1779753600-1779839999@tcheklian-notaires.fr
SUMMARY:Open
DESCRIPTION:
URL:https://tcheklian-notaires.fr/event/open/2026-05-26/
END:VEVENT
BEGIN:VEVENT
DTSTART;VALUE=DATE:20260527
DTEND;VALUE=DATE:20260528
DTSTAMP:20260420T151704
CREATED:20240125T095204Z
LAST-MODIFIED:20240125T095204Z
UID:10027021-1779840000-1779926399@tcheklian-notaires.fr
SUMMARY:Open
DESCRIPTION:
URL:https://tcheklian-notaires.fr/event/open/2026-05-27/
END:VEVENT
BEGIN:VEVENT
DTSTART;VALUE=DATE:20260528
DTEND;VALUE=DATE:20260529
DTSTAMP:20260420T151704
CREATED:20240125T095204Z
LAST-MODIFIED:20240125T095204Z
UID:10027022-1779926400-1780012799@tcheklian-notaires.fr
SUMMARY:Open
DESCRIPTION:
URL:https://tcheklian-notaires.fr/event/open/2026-05-28/
END:VEVENT
END:VCALENDAR