BEGIN:VCALENDAR
VERSION:2.0
PRODID:-//TCHEKLIAN - ECPv6.2.9//NONSGML v1.0//EN
CALSCALE:GREGORIAN
METHOD:PUBLISH
X-WR-CALNAME:TCHEKLIAN
X-ORIGINAL-URL:https://tcheklian-notaires.fr
X-WR-CALDESC:Events for TCHEKLIAN
REFRESH-INTERVAL;VALUE=DURATION:PT1H
X-Robots-Tag:noindex
X-PUBLISHED-TTL:PT1H
BEGIN:VTIMEZONE
TZID:UTC
BEGIN:STANDARD
TZOFFSETFROM:+0000
TZOFFSETTO:+0000
TZNAME:UTC
DTSTART:20260101T000000
END:STANDARD
END:VTIMEZONE
BEGIN:VEVENT
DTSTART;VALUE=DATE:20260608
DTEND;VALUE=DATE:20260609
DTSTAMP:20260420T223307
CREATED:20240125T095204Z
LAST-MODIFIED:20240125T095204Z
UID:10027031-1780876800-1780963199@tcheklian-notaires.fr
SUMMARY:Open
DESCRIPTION:
URL:https://tcheklian-notaires.fr/event/open/2026-06-08/
END:VEVENT
BEGIN:VEVENT
DTSTART;VALUE=DATE:20260609
DTEND;VALUE=DATE:20260610
DTSTAMP:20260420T223307
CREATED:20240125T095204Z
LAST-MODIFIED:20240125T095204Z
UID:10027032-1780963200-1781049599@tcheklian-notaires.fr
SUMMARY:Open
DESCRIPTION:
URL:https://tcheklian-notaires.fr/event/open/2026-06-09/
END:VEVENT
BEGIN:VEVENT
DTSTART;VALUE=DATE:20260610
DTEND;VALUE=DATE:20260611
DTSTAMP:20260420T223307
CREATED:20240125T095204Z
LAST-MODIFIED:20240125T095204Z
UID:10027033-1781049600-1781135999@tcheklian-notaires.fr
SUMMARY:Open
DESCRIPTION:
URL:https://tcheklian-notaires.fr/event/open/2026-06-10/
END:VEVENT
BEGIN:VEVENT
DTSTART;VALUE=DATE:20260611
DTEND;VALUE=DATE:20260612
DTSTAMP:20260420T223307
CREATED:20240125T095204Z
LAST-MODIFIED:20240125T095204Z
UID:10027034-1781136000-1781222399@tcheklian-notaires.fr
SUMMARY:Open
DESCRIPTION:
URL:https://tcheklian-notaires.fr/event/open/2026-06-11/
END:VEVENT
BEGIN:VEVENT
DTSTART;VALUE=DATE:20260612
DTEND;VALUE=DATE:20260613
DTSTAMP:20260420T223307
CREATED:20240125T095204Z
LAST-MODIFIED:20240125T095204Z
UID:10027035-1781222400-1781308799@tcheklian-notaires.fr
SUMMARY:Open
DESCRIPTION:
URL:https://tcheklian-notaires.fr/event/open/2026-06-12/
END:VEVENT
BEGIN:VEVENT
DTSTART;VALUE=DATE:20260613
DTEND;VALUE=DATE:20260614
DTSTAMP:20260420T223307
CREATED:20240125T095204Z
LAST-MODIFIED:20240125T095204Z
UID:10027036-1781308800-1781395199@tcheklian-notaires.fr
SUMMARY:Open
DESCRIPTION:
URL:https://tcheklian-notaires.fr/event/open/2026-06-13/
END:VEVENT
BEGIN:VEVENT
DTSTART;VALUE=DATE:20260614
DTEND;VALUE=DATE:20260615
DTSTAMP:20260420T223307
CREATED:20240125T095503Z
LAST-MODIFIED:20240125T095503Z
UID:10031426-1781395200-1781481599@tcheklian-notaires.fr
SUMMARY:Closed
DESCRIPTION:
URL:https://tcheklian-notaires.fr/event/closed/2026-06-14/
END:VEVENT
BEGIN:VEVENT
DTSTART;VALUE=DATE:20260615
DTEND;VALUE=DATE:20260616
DTSTAMP:20260420T223307
CREATED:20240125T095204Z
LAST-MODIFIED:20240125T095204Z
UID:10027037-1781481600-1781567999@tcheklian-notaires.fr
SUMMARY:Open
DESCRIPTION:
URL:https://tcheklian-notaires.fr/event/open/2026-06-15/
END:VEVENT
BEGIN:VEVENT
DTSTART;VALUE=DATE:20260616
DTEND;VALUE=DATE:20260617
DTSTAMP:20260420T223307
CREATED:20240125T095204Z
LAST-MODIFIED:20240125T095204Z
UID:10027038-1781568000-1781654399@tcheklian-notaires.fr
SUMMARY:Open
DESCRIPTION:
URL:https://tcheklian-notaires.fr/event/open/2026-06-16/
END:VEVENT
BEGIN:VEVENT
DTSTART;VALUE=DATE:20260617
DTEND;VALUE=DATE:20260618
DTSTAMP:20260420T223307
CREATED:20240125T095204Z
LAST-MODIFIED:20240125T095204Z
UID:10027039-1781654400-1781740799@tcheklian-notaires.fr
SUMMARY:Open
DESCRIPTION:
URL:https://tcheklian-notaires.fr/event/open/2026-06-17/
END:VEVENT
BEGIN:VEVENT
DTSTART;VALUE=DATE:20260618
DTEND;VALUE=DATE:20260619
DTSTAMP:20260420T223307
CREATED:20240125T095204Z
LAST-MODIFIED:20240125T095204Z
UID:10027040-1781740800-1781827199@tcheklian-notaires.fr
SUMMARY:Open
DESCRIPTION:
URL:https://tcheklian-notaires.fr/event/open/2026-06-18/
END:VEVENT
BEGIN:VEVENT
DTSTART;VALUE=DATE:20260619
DTEND;VALUE=DATE:20260620
DTSTAMP:20260420T223307
CREATED:20240125T095204Z
LAST-MODIFIED:20240125T095204Z
UID:10027041-1781827200-1781913599@tcheklian-notaires.fr
SUMMARY:Open
DESCRIPTION:
URL:https://tcheklian-notaires.fr/event/open/2026-06-19/
END:VEVENT
BEGIN:VEVENT
DTSTART;VALUE=DATE:20260620
DTEND;VALUE=DATE:20260621
DTSTAMP:20260420T223307
CREATED:20240125T095204Z
LAST-MODIFIED:20240125T095204Z
UID:10027042-1781913600-1781999999@tcheklian-notaires.fr
SUMMARY:Open
DESCRIPTION:
URL:https://tcheklian-notaires.fr/event/open/2026-06-20/
END:VEVENT
BEGIN:VEVENT
DTSTART;VALUE=DATE:20260621
DTEND;VALUE=DATE:20260622
DTSTAMP:20260420T223307
CREATED:20240125T095503Z
LAST-MODIFIED:20240125T095503Z
UID:10031427-1782000000-1782086399@tcheklian-notaires.fr
SUMMARY:Closed
DESCRIPTION:
URL:https://tcheklian-notaires.fr/event/closed/2026-06-21/
END:VEVENT
BEGIN:VEVENT
DTSTART;VALUE=DATE:20260622
DTEND;VALUE=DATE:20260623
DTSTAMP:20260420T223307
CREATED:20240125T095204Z
LAST-MODIFIED:20240125T095204Z
UID:10027043-1782086400-1782172799@tcheklian-notaires.fr
SUMMARY:Open
DESCRIPTION:
URL:https://tcheklian-notaires.fr/event/open/2026-06-22/
END:VEVENT
BEGIN:VEVENT
DTSTART;VALUE=DATE:20260623
DTEND;VALUE=DATE:20260624
DTSTAMP:20260420T223307
CREATED:20240125T095204Z
LAST-MODIFIED:20240125T095204Z
UID:10027044-1782172800-1782259199@tcheklian-notaires.fr
SUMMARY:Open
DESCRIPTION:
URL:https://tcheklian-notaires.fr/event/open/2026-06-23/
END:VEVENT
BEGIN:VEVENT
DTSTART;VALUE=DATE:20260624
DTEND;VALUE=DATE:20260625
DTSTAMP:20260420T223307
CREATED:20240125T095204Z
LAST-MODIFIED:20240125T095204Z
UID:10027045-1782259200-1782345599@tcheklian-notaires.fr
SUMMARY:Open
DESCRIPTION:
URL:https://tcheklian-notaires.fr/event/open/2026-06-24/
END:VEVENT
BEGIN:VEVENT
DTSTART;VALUE=DATE:20260625
DTEND;VALUE=DATE:20260626
DTSTAMP:20260420T223307
CREATED:20240125T095204Z
LAST-MODIFIED:20240125T095204Z
UID:10027046-1782345600-1782431999@tcheklian-notaires.fr
SUMMARY:Open
DESCRIPTION:
URL:https://tcheklian-notaires.fr/event/open/2026-06-25/
END:VEVENT
BEGIN:VEVENT
DTSTART;VALUE=DATE:20260626
DTEND;VALUE=DATE:20260627
DTSTAMP:20260420T223307
CREATED:20240125T095204Z
LAST-MODIFIED:20240125T095204Z
UID:10027047-1782432000-1782518399@tcheklian-notaires.fr
SUMMARY:Open
DESCRIPTION:
URL:https://tcheklian-notaires.fr/event/open/2026-06-26/
END:VEVENT
BEGIN:VEVENT
DTSTART;VALUE=DATE:20260627
DTEND;VALUE=DATE:20260628
DTSTAMP:20260420T223307
CREATED:20240125T095204Z
LAST-MODIFIED:20240125T095204Z
UID:10027048-1782518400-1782604799@tcheklian-notaires.fr
SUMMARY:Open
DESCRIPTION:
URL:https://tcheklian-notaires.fr/event/open/2026-06-27/
END:VEVENT
BEGIN:VEVENT
DTSTART;VALUE=DATE:20260628
DTEND;VALUE=DATE:20260629
DTSTAMP:20260420T223307
CREATED:20240125T095503Z
LAST-MODIFIED:20240125T095503Z
UID:10031428-1782604800-1782691199@tcheklian-notaires.fr
SUMMARY:Closed
DESCRIPTION:
URL:https://tcheklian-notaires.fr/event/closed/2026-06-28/
END:VEVENT
BEGIN:VEVENT
DTSTART;VALUE=DATE:20260629
DTEND;VALUE=DATE:20260630
DTSTAMP:20260420T223307
CREATED:20240125T095204Z
LAST-MODIFIED:20240125T095204Z
UID:10027049-1782691200-1782777599@tcheklian-notaires.fr
SUMMARY:Open
DESCRIPTION:
URL:https://tcheklian-notaires.fr/event/open/2026-06-29/
END:VEVENT
BEGIN:VEVENT
DTSTART;VALUE=DATE:20260630
DTEND;VALUE=DATE:20260701
DTSTAMP:20260420T223307
CREATED:20240125T095204Z
LAST-MODIFIED:20240125T095204Z
UID:10027050-1782777600-1782863999@tcheklian-notaires.fr
SUMMARY:Open
DESCRIPTION:
URL:https://tcheklian-notaires.fr/event/open/2026-06-30/
END:VEVENT
BEGIN:VEVENT
DTSTART;VALUE=DATE:20260701
DTEND;VALUE=DATE:20260702
DTSTAMP:20260420T223307
CREATED:20240125T095204Z
LAST-MODIFIED:20240125T095204Z
UID:10027051-1782864000-1782950399@tcheklian-notaires.fr
SUMMARY:Open
DESCRIPTION:
URL:https://tcheklian-notaires.fr/event/open/2026-07-01/
END:VEVENT
BEGIN:VEVENT
DTSTART;VALUE=DATE:20260702
DTEND;VALUE=DATE:20260703
DTSTAMP:20260420T223308
CREATED:20240125T095204Z
LAST-MODIFIED:20240125T095204Z
UID:10027052-1782950400-1783036799@tcheklian-notaires.fr
SUMMARY:Open
DESCRIPTION:
URL:https://tcheklian-notaires.fr/event/open/2026-07-02/
END:VEVENT
BEGIN:VEVENT
DTSTART;VALUE=DATE:20260703
DTEND;VALUE=DATE:20260704
DTSTAMP:20260420T223308
CREATED:20240125T095204Z
LAST-MODIFIED:20240125T095204Z
UID:10027053-1783036800-1783123199@tcheklian-notaires.fr
SUMMARY:Open
DESCRIPTION:
URL:https://tcheklian-notaires.fr/event/open/2026-07-03/
END:VEVENT
BEGIN:VEVENT
DTSTART;VALUE=DATE:20260704
DTEND;VALUE=DATE:20260705
DTSTAMP:20260420T223308
CREATED:20240125T095204Z
LAST-MODIFIED:20240125T095204Z
UID:10027054-1783123200-1783209599@tcheklian-notaires.fr
SUMMARY:Open
DESCRIPTION:
URL:https://tcheklian-notaires.fr/event/open/2026-07-04/
END:VEVENT
BEGIN:VEVENT
DTSTART;VALUE=DATE:20260705
DTEND;VALUE=DATE:20260706
DTSTAMP:20260420T223308
CREATED:20240125T095503Z
LAST-MODIFIED:20240125T095503Z
UID:10031429-1783209600-1783295999@tcheklian-notaires.fr
SUMMARY:Closed
DESCRIPTION:
URL:https://tcheklian-notaires.fr/event/closed/2026-07-05/
END:VEVENT
BEGIN:VEVENT
DTSTART;VALUE=DATE:20260706
DTEND;VALUE=DATE:20260707
DTSTAMP:20260420T223308
CREATED:20240125T095204Z
LAST-MODIFIED:20240125T095204Z
UID:10027055-1783296000-1783382399@tcheklian-notaires.fr
SUMMARY:Open
DESCRIPTION:
URL:https://tcheklian-notaires.fr/event/open/2026-07-06/
END:VEVENT
BEGIN:VEVENT
DTSTART;VALUE=DATE:20260707
DTEND;VALUE=DATE:20260708
DTSTAMP:20260420T223308
CREATED:20240125T095204Z
LAST-MODIFIED:20240125T095204Z
UID:10027056-1783382400-1783468799@tcheklian-notaires.fr
SUMMARY:Open
DESCRIPTION:
URL:https://tcheklian-notaires.fr/event/open/2026-07-07/
END:VEVENT
END:VCALENDAR