BEGIN:VCALENDAR
VERSION:2.0
PRODID:-//TCHEKLIAN - ECPv6.2.9//NONSGML v1.0//EN
CALSCALE:GREGORIAN
METHOD:PUBLISH
X-WR-CALNAME:TCHEKLIAN
X-ORIGINAL-URL:https://tcheklian-notaires.fr
X-WR-CALDESC:Events for TCHEKLIAN
REFRESH-INTERVAL;VALUE=DURATION:PT1H
X-Robots-Tag:noindex
X-PUBLISHED-TTL:PT1H
BEGIN:VTIMEZONE
TZID:UTC
BEGIN:STANDARD
TZOFFSETFROM:+0000
TZOFFSETTO:+0000
TZNAME:UTC
DTSTART:20260101T000000
END:STANDARD
END:VTIMEZONE
BEGIN:VEVENT
DTSTART;VALUE=DATE:20260708
DTEND;VALUE=DATE:20260709
DTSTAMP:20260421T000625
CREATED:20240125T095204Z
LAST-MODIFIED:20240125T095204Z
UID:10027057-1783468800-1783555199@tcheklian-notaires.fr
SUMMARY:Open
DESCRIPTION:
URL:https://tcheklian-notaires.fr/event/open/2026-07-08/
END:VEVENT
BEGIN:VEVENT
DTSTART;VALUE=DATE:20260709
DTEND;VALUE=DATE:20260710
DTSTAMP:20260421T000625
CREATED:20240125T095204Z
LAST-MODIFIED:20240125T095204Z
UID:10027058-1783555200-1783641599@tcheklian-notaires.fr
SUMMARY:Open
DESCRIPTION:
URL:https://tcheklian-notaires.fr/event/open/2026-07-09/
END:VEVENT
BEGIN:VEVENT
DTSTART;VALUE=DATE:20260710
DTEND;VALUE=DATE:20260711
DTSTAMP:20260421T000625
CREATED:20240125T095204Z
LAST-MODIFIED:20240125T095204Z
UID:10027059-1783641600-1783727999@tcheklian-notaires.fr
SUMMARY:Open
DESCRIPTION:
URL:https://tcheklian-notaires.fr/event/open/2026-07-10/
END:VEVENT
BEGIN:VEVENT
DTSTART;VALUE=DATE:20260711
DTEND;VALUE=DATE:20260712
DTSTAMP:20260421T000625
CREATED:20240125T095204Z
LAST-MODIFIED:20240125T095204Z
UID:10027060-1783728000-1783814399@tcheklian-notaires.fr
SUMMARY:Open
DESCRIPTION:
URL:https://tcheklian-notaires.fr/event/open/2026-07-11/
END:VEVENT
BEGIN:VEVENT
DTSTART;VALUE=DATE:20260712
DTEND;VALUE=DATE:20260713
DTSTAMP:20260421T000625
CREATED:20240125T095503Z
LAST-MODIFIED:20240125T095503Z
UID:10031430-1783814400-1783900799@tcheklian-notaires.fr
SUMMARY:Closed
DESCRIPTION:
URL:https://tcheklian-notaires.fr/event/closed/2026-07-12/
END:VEVENT
BEGIN:VEVENT
DTSTART;VALUE=DATE:20260713
DTEND;VALUE=DATE:20260714
DTSTAMP:20260421T000625
CREATED:20240125T095204Z
LAST-MODIFIED:20240125T095204Z
UID:10027061-1783900800-1783987199@tcheklian-notaires.fr
SUMMARY:Open
DESCRIPTION:
URL:https://tcheklian-notaires.fr/event/open/2026-07-13/
END:VEVENT
BEGIN:VEVENT
DTSTART;VALUE=DATE:20260714
DTEND;VALUE=DATE:20260715
DTSTAMP:20260421T000625
CREATED:20240125T095204Z
LAST-MODIFIED:20240125T095204Z
UID:10027062-1783987200-1784073599@tcheklian-notaires.fr
SUMMARY:Open
DESCRIPTION:
URL:https://tcheklian-notaires.fr/event/open/2026-07-14/
END:VEVENT
BEGIN:VEVENT
DTSTART;VALUE=DATE:20260715
DTEND;VALUE=DATE:20260716
DTSTAMP:20260421T000625
CREATED:20240125T095204Z
LAST-MODIFIED:20240125T095204Z
UID:10027063-1784073600-1784159999@tcheklian-notaires.fr
SUMMARY:Open
DESCRIPTION:
URL:https://tcheklian-notaires.fr/event/open/2026-07-15/
END:VEVENT
BEGIN:VEVENT
DTSTART;VALUE=DATE:20260716
DTEND;VALUE=DATE:20260717
DTSTAMP:20260421T000625
CREATED:20240125T095204Z
LAST-MODIFIED:20240125T095204Z
UID:10027064-1784160000-1784246399@tcheklian-notaires.fr
SUMMARY:Open
DESCRIPTION:
URL:https://tcheklian-notaires.fr/event/open/2026-07-16/
END:VEVENT
BEGIN:VEVENT
DTSTART;VALUE=DATE:20260717
DTEND;VALUE=DATE:20260718
DTSTAMP:20260421T000625
CREATED:20240125T095204Z
LAST-MODIFIED:20240125T095204Z
UID:10027065-1784246400-1784332799@tcheklian-notaires.fr
SUMMARY:Open
DESCRIPTION:
URL:https://tcheklian-notaires.fr/event/open/2026-07-17/
END:VEVENT
BEGIN:VEVENT
DTSTART;VALUE=DATE:20260718
DTEND;VALUE=DATE:20260719
DTSTAMP:20260421T000625
CREATED:20240125T095204Z
LAST-MODIFIED:20240125T095204Z
UID:10027066-1784332800-1784419199@tcheklian-notaires.fr
SUMMARY:Open
DESCRIPTION:
URL:https://tcheklian-notaires.fr/event/open/2026-07-18/
END:VEVENT
BEGIN:VEVENT
DTSTART;VALUE=DATE:20260719
DTEND;VALUE=DATE:20260720
DTSTAMP:20260421T000625
CREATED:20240125T095503Z
LAST-MODIFIED:20240125T095503Z
UID:10031431-1784419200-1784505599@tcheklian-notaires.fr
SUMMARY:Closed
DESCRIPTION:
URL:https://tcheklian-notaires.fr/event/closed/2026-07-19/
END:VEVENT
BEGIN:VEVENT
DTSTART;VALUE=DATE:20260720
DTEND;VALUE=DATE:20260721
DTSTAMP:20260421T000625
CREATED:20240125T095204Z
LAST-MODIFIED:20240125T095204Z
UID:10027067-1784505600-1784591999@tcheklian-notaires.fr
SUMMARY:Open
DESCRIPTION:
URL:https://tcheklian-notaires.fr/event/open/2026-07-20/
END:VEVENT
BEGIN:VEVENT
DTSTART;VALUE=DATE:20260721
DTEND;VALUE=DATE:20260722
DTSTAMP:20260421T000625
CREATED:20240125T095204Z
LAST-MODIFIED:20240125T095204Z
UID:10027068-1784592000-1784678399@tcheklian-notaires.fr
SUMMARY:Open
DESCRIPTION:
URL:https://tcheklian-notaires.fr/event/open/2026-07-21/
END:VEVENT
BEGIN:VEVENT
DTSTART;VALUE=DATE:20260722
DTEND;VALUE=DATE:20260723
DTSTAMP:20260421T000625
CREATED:20240125T095204Z
LAST-MODIFIED:20240125T095204Z
UID:10027069-1784678400-1784764799@tcheklian-notaires.fr
SUMMARY:Open
DESCRIPTION:
URL:https://tcheklian-notaires.fr/event/open/2026-07-22/
END:VEVENT
BEGIN:VEVENT
DTSTART;VALUE=DATE:20260723
DTEND;VALUE=DATE:20260724
DTSTAMP:20260421T000625
CREATED:20240125T095204Z
LAST-MODIFIED:20240125T095204Z
UID:10027070-1784764800-1784851199@tcheklian-notaires.fr
SUMMARY:Open
DESCRIPTION:
URL:https://tcheklian-notaires.fr/event/open/2026-07-23/
END:VEVENT
BEGIN:VEVENT
DTSTART;VALUE=DATE:20260724
DTEND;VALUE=DATE:20260725
DTSTAMP:20260421T000625
CREATED:20240125T095204Z
LAST-MODIFIED:20240125T095204Z
UID:10027071-1784851200-1784937599@tcheklian-notaires.fr
SUMMARY:Open
DESCRIPTION:
URL:https://tcheklian-notaires.fr/event/open/2026-07-24/
END:VEVENT
BEGIN:VEVENT
DTSTART;VALUE=DATE:20260725
DTEND;VALUE=DATE:20260726
DTSTAMP:20260421T000625
CREATED:20240125T095204Z
LAST-MODIFIED:20240125T095204Z
UID:10027072-1784937600-1785023999@tcheklian-notaires.fr
SUMMARY:Open
DESCRIPTION:
URL:https://tcheklian-notaires.fr/event/open/2026-07-25/
END:VEVENT
BEGIN:VEVENT
DTSTART;VALUE=DATE:20260726
DTEND;VALUE=DATE:20260727
DTSTAMP:20260421T000625
CREATED:20240125T095503Z
LAST-MODIFIED:20240125T095503Z
UID:10031432-1785024000-1785110399@tcheklian-notaires.fr
SUMMARY:Closed
DESCRIPTION:
URL:https://tcheklian-notaires.fr/event/closed/2026-07-26/
END:VEVENT
BEGIN:VEVENT
DTSTART;VALUE=DATE:20260727
DTEND;VALUE=DATE:20260728
DTSTAMP:20260421T000625
CREATED:20240125T095204Z
LAST-MODIFIED:20240125T095204Z
UID:10027073-1785110400-1785196799@tcheklian-notaires.fr
SUMMARY:Open
DESCRIPTION:
URL:https://tcheklian-notaires.fr/event/open/2026-07-27/
END:VEVENT
BEGIN:VEVENT
DTSTART;VALUE=DATE:20260728
DTEND;VALUE=DATE:20260729
DTSTAMP:20260421T000625
CREATED:20240125T095204Z
LAST-MODIFIED:20240125T095204Z
UID:10027074-1785196800-1785283199@tcheklian-notaires.fr
SUMMARY:Open
DESCRIPTION:
URL:https://tcheklian-notaires.fr/event/open/2026-07-28/
END:VEVENT
BEGIN:VEVENT
DTSTART;VALUE=DATE:20260729
DTEND;VALUE=DATE:20260730
DTSTAMP:20260421T000625
CREATED:20240125T095204Z
LAST-MODIFIED:20240125T095204Z
UID:10027075-1785283200-1785369599@tcheklian-notaires.fr
SUMMARY:Open
DESCRIPTION:
URL:https://tcheklian-notaires.fr/event/open/2026-07-29/
END:VEVENT
BEGIN:VEVENT
DTSTART;VALUE=DATE:20260730
DTEND;VALUE=DATE:20260731
DTSTAMP:20260421T000625
CREATED:20240125T095204Z
LAST-MODIFIED:20240125T095204Z
UID:10027076-1785369600-1785455999@tcheklian-notaires.fr
SUMMARY:Open
DESCRIPTION:
URL:https://tcheklian-notaires.fr/event/open/2026-07-30/
END:VEVENT
BEGIN:VEVENT
DTSTART;VALUE=DATE:20260731
DTEND;VALUE=DATE:20260801
DTSTAMP:20260421T000625
CREATED:20240125T095204Z
LAST-MODIFIED:20240125T095204Z
UID:10027077-1785456000-1785542399@tcheklian-notaires.fr
SUMMARY:Open
DESCRIPTION:
URL:https://tcheklian-notaires.fr/event/open/2026-07-31/
END:VEVENT
BEGIN:VEVENT
DTSTART;VALUE=DATE:20260801
DTEND;VALUE=DATE:20260802
DTSTAMP:20260421T000625
CREATED:20240125T095204Z
LAST-MODIFIED:20240125T095204Z
UID:10027078-1785542400-1785628799@tcheklian-notaires.fr
SUMMARY:Open
DESCRIPTION:
URL:https://tcheklian-notaires.fr/event/open/2026-08-01/
END:VEVENT
BEGIN:VEVENT
DTSTART;VALUE=DATE:20260802
DTEND;VALUE=DATE:20260803
DTSTAMP:20260421T000625
CREATED:20240125T095503Z
LAST-MODIFIED:20240125T095503Z
UID:10031433-1785628800-1785715199@tcheklian-notaires.fr
SUMMARY:Closed
DESCRIPTION:
URL:https://tcheklian-notaires.fr/event/closed/2026-08-02/
END:VEVENT
BEGIN:VEVENT
DTSTART;VALUE=DATE:20260803
DTEND;VALUE=DATE:20260804
DTSTAMP:20260421T000625
CREATED:20240125T095204Z
LAST-MODIFIED:20240125T095204Z
UID:10027079-1785715200-1785801599@tcheklian-notaires.fr
SUMMARY:Open
DESCRIPTION:
URL:https://tcheklian-notaires.fr/event/open/2026-08-03/
END:VEVENT
BEGIN:VEVENT
DTSTART;VALUE=DATE:20260804
DTEND;VALUE=DATE:20260805
DTSTAMP:20260421T000625
CREATED:20240125T095204Z
LAST-MODIFIED:20240125T095204Z
UID:10027080-1785801600-1785887999@tcheklian-notaires.fr
SUMMARY:Open
DESCRIPTION:
URL:https://tcheklian-notaires.fr/event/open/2026-08-04/
END:VEVENT
BEGIN:VEVENT
DTSTART;VALUE=DATE:20260805
DTEND;VALUE=DATE:20260806
DTSTAMP:20260421T000625
CREATED:20240125T095204Z
LAST-MODIFIED:20240125T095204Z
UID:10027081-1785888000-1785974399@tcheklian-notaires.fr
SUMMARY:Open
DESCRIPTION:
URL:https://tcheklian-notaires.fr/event/open/2026-08-05/
END:VEVENT
BEGIN:VEVENT
DTSTART;VALUE=DATE:20260806
DTEND;VALUE=DATE:20260807
DTSTAMP:20260421T000625
CREATED:20240125T095204Z
LAST-MODIFIED:20240125T095204Z
UID:10027082-1785974400-1786060799@tcheklian-notaires.fr
SUMMARY:Open
DESCRIPTION:
URL:https://tcheklian-notaires.fr/event/open/2026-08-06/
END:VEVENT
END:VCALENDAR