BEGIN:VCALENDAR
VERSION:2.0
PRODID:-//TCHEKLIAN - ECPv6.2.9//NONSGML v1.0//EN
CALSCALE:GREGORIAN
METHOD:PUBLISH
X-WR-CALNAME:TCHEKLIAN
X-ORIGINAL-URL:https://tcheklian-notaires.fr
X-WR-CALDESC:Events for TCHEKLIAN
REFRESH-INTERVAL;VALUE=DURATION:PT1H
X-Robots-Tag:noindex
X-PUBLISHED-TTL:PT1H
BEGIN:VTIMEZONE
TZID:UTC
BEGIN:STANDARD
TZOFFSETFROM:+0000
TZOFFSETTO:+0000
TZNAME:UTC
DTSTART:20260101T000000
END:STANDARD
END:VTIMEZONE
BEGIN:VEVENT
DTSTART;VALUE=DATE:20260821
DTEND;VALUE=DATE:20260822
DTSTAMP:20260422T000342
CREATED:20240125T095204Z
LAST-MODIFIED:20240125T095204Z
UID:10027095-1787270400-1787356799@tcheklian-notaires.fr
SUMMARY:Open
DESCRIPTION:
URL:https://tcheklian-notaires.fr/event/open/2026-08-21/
END:VEVENT
BEGIN:VEVENT
DTSTART;VALUE=DATE:20260822
DTEND;VALUE=DATE:20260823
DTSTAMP:20260422T000342
CREATED:20240125T095204Z
LAST-MODIFIED:20240125T095204Z
UID:10027096-1787356800-1787443199@tcheklian-notaires.fr
SUMMARY:Open
DESCRIPTION:
URL:https://tcheklian-notaires.fr/event/open/2026-08-22/
END:VEVENT
BEGIN:VEVENT
DTSTART;VALUE=DATE:20260823
DTEND;VALUE=DATE:20260824
DTSTAMP:20260422T000342
CREATED:20240125T095503Z
LAST-MODIFIED:20240125T095503Z
UID:10031436-1787443200-1787529599@tcheklian-notaires.fr
SUMMARY:Closed
DESCRIPTION:
URL:https://tcheklian-notaires.fr/event/closed/2026-08-23/
END:VEVENT
BEGIN:VEVENT
DTSTART;VALUE=DATE:20260824
DTEND;VALUE=DATE:20260825
DTSTAMP:20260422T000342
CREATED:20240125T095204Z
LAST-MODIFIED:20240125T095204Z
UID:10027097-1787529600-1787615999@tcheklian-notaires.fr
SUMMARY:Open
DESCRIPTION:
URL:https://tcheklian-notaires.fr/event/open/2026-08-24/
END:VEVENT
BEGIN:VEVENT
DTSTART;VALUE=DATE:20260825
DTEND;VALUE=DATE:20260826
DTSTAMP:20260422T000342
CREATED:20240125T095204Z
LAST-MODIFIED:20240125T095204Z
UID:10027098-1787616000-1787702399@tcheklian-notaires.fr
SUMMARY:Open
DESCRIPTION:
URL:https://tcheklian-notaires.fr/event/open/2026-08-25/
END:VEVENT
BEGIN:VEVENT
DTSTART;VALUE=DATE:20260826
DTEND;VALUE=DATE:20260827
DTSTAMP:20260422T000342
CREATED:20240125T095204Z
LAST-MODIFIED:20240125T095204Z
UID:10027099-1787702400-1787788799@tcheklian-notaires.fr
SUMMARY:Open
DESCRIPTION:
URL:https://tcheklian-notaires.fr/event/open/2026-08-26/
END:VEVENT
BEGIN:VEVENT
DTSTART;VALUE=DATE:20260827
DTEND;VALUE=DATE:20260828
DTSTAMP:20260422T000342
CREATED:20240125T095204Z
LAST-MODIFIED:20240125T095204Z
UID:10027100-1787788800-1787875199@tcheklian-notaires.fr
SUMMARY:Open
DESCRIPTION:
URL:https://tcheklian-notaires.fr/event/open/2026-08-27/
END:VEVENT
BEGIN:VEVENT
DTSTART;VALUE=DATE:20260828
DTEND;VALUE=DATE:20260829
DTSTAMP:20260422T000342
CREATED:20240125T095204Z
LAST-MODIFIED:20240125T095204Z
UID:10027101-1787875200-1787961599@tcheklian-notaires.fr
SUMMARY:Open
DESCRIPTION:
URL:https://tcheklian-notaires.fr/event/open/2026-08-28/
END:VEVENT
BEGIN:VEVENT
DTSTART;VALUE=DATE:20260829
DTEND;VALUE=DATE:20260830
DTSTAMP:20260422T000342
CREATED:20240125T095204Z
LAST-MODIFIED:20240125T095204Z
UID:10027102-1787961600-1788047999@tcheklian-notaires.fr
SUMMARY:Open
DESCRIPTION:
URL:https://tcheklian-notaires.fr/event/open/2026-08-29/
END:VEVENT
BEGIN:VEVENT
DTSTART;VALUE=DATE:20260830
DTEND;VALUE=DATE:20260831
DTSTAMP:20260422T000342
CREATED:20240125T095503Z
LAST-MODIFIED:20240125T095503Z
UID:10031437-1788048000-1788134399@tcheklian-notaires.fr
SUMMARY:Closed
DESCRIPTION:
URL:https://tcheklian-notaires.fr/event/closed/2026-08-30/
END:VEVENT
BEGIN:VEVENT
DTSTART;VALUE=DATE:20260831
DTEND;VALUE=DATE:20260901
DTSTAMP:20260422T000342
CREATED:20240125T095204Z
LAST-MODIFIED:20240125T095204Z
UID:10027103-1788134400-1788220799@tcheklian-notaires.fr
SUMMARY:Open
DESCRIPTION:
URL:https://tcheklian-notaires.fr/event/open/2026-08-31/
END:VEVENT
BEGIN:VEVENT
DTSTART;VALUE=DATE:20260901
DTEND;VALUE=DATE:20260902
DTSTAMP:20260422T000342
CREATED:20240125T095204Z
LAST-MODIFIED:20240125T095204Z
UID:10027104-1788220800-1788307199@tcheklian-notaires.fr
SUMMARY:Open
DESCRIPTION:
URL:https://tcheklian-notaires.fr/event/open/2026-09-01/
END:VEVENT
BEGIN:VEVENT
DTSTART;VALUE=DATE:20260902
DTEND;VALUE=DATE:20260903
DTSTAMP:20260422T000342
CREATED:20240125T095204Z
LAST-MODIFIED:20240125T095204Z
UID:10027105-1788307200-1788393599@tcheklian-notaires.fr
SUMMARY:Open
DESCRIPTION:
URL:https://tcheklian-notaires.fr/event/open/2026-09-02/
END:VEVENT
BEGIN:VEVENT
DTSTART;VALUE=DATE:20260903
DTEND;VALUE=DATE:20260904
DTSTAMP:20260422T000342
CREATED:20240125T095204Z
LAST-MODIFIED:20240125T095204Z
UID:10027106-1788393600-1788479999@tcheklian-notaires.fr
SUMMARY:Open
DESCRIPTION:
URL:https://tcheklian-notaires.fr/event/open/2026-09-03/
END:VEVENT
BEGIN:VEVENT
DTSTART;VALUE=DATE:20260904
DTEND;VALUE=DATE:20260905
DTSTAMP:20260422T000342
CREATED:20240125T095204Z
LAST-MODIFIED:20240125T095204Z
UID:10027107-1788480000-1788566399@tcheklian-notaires.fr
SUMMARY:Open
DESCRIPTION:
URL:https://tcheklian-notaires.fr/event/open/2026-09-04/
END:VEVENT
BEGIN:VEVENT
DTSTART;VALUE=DATE:20260905
DTEND;VALUE=DATE:20260906
DTSTAMP:20260422T000342
CREATED:20240125T095204Z
LAST-MODIFIED:20240125T095204Z
UID:10027108-1788566400-1788652799@tcheklian-notaires.fr
SUMMARY:Open
DESCRIPTION:
URL:https://tcheklian-notaires.fr/event/open/2026-09-05/
END:VEVENT
BEGIN:VEVENT
DTSTART;VALUE=DATE:20260906
DTEND;VALUE=DATE:20260907
DTSTAMP:20260422T000342
CREATED:20240125T095503Z
LAST-MODIFIED:20240125T095503Z
UID:10031438-1788652800-1788739199@tcheklian-notaires.fr
SUMMARY:Closed
DESCRIPTION:
URL:https://tcheklian-notaires.fr/event/closed/2026-09-06/
END:VEVENT
BEGIN:VEVENT
DTSTART;VALUE=DATE:20260907
DTEND;VALUE=DATE:20260908
DTSTAMP:20260422T000342
CREATED:20240125T095204Z
LAST-MODIFIED:20240125T095204Z
UID:10027109-1788739200-1788825599@tcheklian-notaires.fr
SUMMARY:Open
DESCRIPTION:
URL:https://tcheklian-notaires.fr/event/open/2026-09-07/
END:VEVENT
BEGIN:VEVENT
DTSTART;VALUE=DATE:20260908
DTEND;VALUE=DATE:20260909
DTSTAMP:20260422T000342
CREATED:20240125T095204Z
LAST-MODIFIED:20240125T095204Z
UID:10027110-1788825600-1788911999@tcheklian-notaires.fr
SUMMARY:Open
DESCRIPTION:
URL:https://tcheklian-notaires.fr/event/open/2026-09-08/
END:VEVENT
BEGIN:VEVENT
DTSTART;VALUE=DATE:20260909
DTEND;VALUE=DATE:20260910
DTSTAMP:20260422T000342
CREATED:20240125T095204Z
LAST-MODIFIED:20240125T095204Z
UID:10027111-1788912000-1788998399@tcheklian-notaires.fr
SUMMARY:Open
DESCRIPTION:
URL:https://tcheklian-notaires.fr/event/open/2026-09-09/
END:VEVENT
BEGIN:VEVENT
DTSTART;VALUE=DATE:20260910
DTEND;VALUE=DATE:20260911
DTSTAMP:20260422T000342
CREATED:20240125T095204Z
LAST-MODIFIED:20240125T095204Z
UID:10027112-1788998400-1789084799@tcheklian-notaires.fr
SUMMARY:Open
DESCRIPTION:
URL:https://tcheklian-notaires.fr/event/open/2026-09-10/
END:VEVENT
BEGIN:VEVENT
DTSTART;VALUE=DATE:20260911
DTEND;VALUE=DATE:20260912
DTSTAMP:20260422T000342
CREATED:20240125T095204Z
LAST-MODIFIED:20240125T095204Z
UID:10027113-1789084800-1789171199@tcheklian-notaires.fr
SUMMARY:Open
DESCRIPTION:
URL:https://tcheklian-notaires.fr/event/open/2026-09-11/
END:VEVENT
BEGIN:VEVENT
DTSTART;VALUE=DATE:20260912
DTEND;VALUE=DATE:20260913
DTSTAMP:20260422T000342
CREATED:20240125T095204Z
LAST-MODIFIED:20240125T095204Z
UID:10027114-1789171200-1789257599@tcheklian-notaires.fr
SUMMARY:Open
DESCRIPTION:
URL:https://tcheklian-notaires.fr/event/open/2026-09-12/
END:VEVENT
BEGIN:VEVENT
DTSTART;VALUE=DATE:20260913
DTEND;VALUE=DATE:20260914
DTSTAMP:20260422T000342
CREATED:20240125T095503Z
LAST-MODIFIED:20240125T095503Z
UID:10031439-1789257600-1789343999@tcheklian-notaires.fr
SUMMARY:Closed
DESCRIPTION:
URL:https://tcheklian-notaires.fr/event/closed/2026-09-13/
END:VEVENT
BEGIN:VEVENT
DTSTART;VALUE=DATE:20260914
DTEND;VALUE=DATE:20260915
DTSTAMP:20260422T000342
CREATED:20240125T095204Z
LAST-MODIFIED:20240125T095204Z
UID:10027115-1789344000-1789430399@tcheklian-notaires.fr
SUMMARY:Open
DESCRIPTION:
URL:https://tcheklian-notaires.fr/event/open/2026-09-14/
END:VEVENT
BEGIN:VEVENT
DTSTART;VALUE=DATE:20260915
DTEND;VALUE=DATE:20260916
DTSTAMP:20260422T000342
CREATED:20240125T095204Z
LAST-MODIFIED:20240125T095204Z
UID:10027116-1789430400-1789516799@tcheklian-notaires.fr
SUMMARY:Open
DESCRIPTION:
URL:https://tcheklian-notaires.fr/event/open/2026-09-15/
END:VEVENT
BEGIN:VEVENT
DTSTART;VALUE=DATE:20260916
DTEND;VALUE=DATE:20260917
DTSTAMP:20260422T000342
CREATED:20240125T095204Z
LAST-MODIFIED:20240125T095204Z
UID:10027117-1789516800-1789603199@tcheklian-notaires.fr
SUMMARY:Open
DESCRIPTION:
URL:https://tcheklian-notaires.fr/event/open/2026-09-16/
END:VEVENT
BEGIN:VEVENT
DTSTART;VALUE=DATE:20260917
DTEND;VALUE=DATE:20260918
DTSTAMP:20260422T000342
CREATED:20240125T095204Z
LAST-MODIFIED:20240125T095204Z
UID:10027118-1789603200-1789689599@tcheklian-notaires.fr
SUMMARY:Open
DESCRIPTION:
URL:https://tcheklian-notaires.fr/event/open/2026-09-17/
END:VEVENT
BEGIN:VEVENT
DTSTART;VALUE=DATE:20260918
DTEND;VALUE=DATE:20260919
DTSTAMP:20260422T000342
CREATED:20240125T095204Z
LAST-MODIFIED:20240125T095204Z
UID:10027119-1789689600-1789775999@tcheklian-notaires.fr
SUMMARY:Open
DESCRIPTION:
URL:https://tcheklian-notaires.fr/event/open/2026-09-18/
END:VEVENT
BEGIN:VEVENT
DTSTART;VALUE=DATE:20260919
DTEND;VALUE=DATE:20260920
DTSTAMP:20260422T000342
CREATED:20240125T095204Z
LAST-MODIFIED:20240125T095204Z
UID:10027120-1789776000-1789862399@tcheklian-notaires.fr
SUMMARY:Open
DESCRIPTION:
URL:https://tcheklian-notaires.fr/event/open/2026-09-19/
END:VEVENT
END:VCALENDAR