BEGIN:VCALENDAR
VERSION:2.0
PRODID:-//TCHEKLIAN - ECPv6.2.9//NONSGML v1.0//EN
CALSCALE:GREGORIAN
METHOD:PUBLISH
X-ORIGINAL-URL:https://tcheklian-notaires.fr
X-WR-CALDESC:Мероприятия для TCHEKLIAN
REFRESH-INTERVAL;VALUE=DURATION:PT1H
X-Robots-Tag:noindex
X-PUBLISHED-TTL:PT1H
BEGIN:VTIMEZONE
TZID:UTC
BEGIN:STANDARD
TZOFFSETFROM:+0000
TZOFFSETTO:+0000
TZNAME:UTC
DTSTART:20260101T000000
END:STANDARD
END:VTIMEZONE
BEGIN:VEVENT
DTSTART;VALUE=DATE:20260404
DTEND;VALUE=DATE:20260405
DTSTAMP:20260420T011248
CREATED:20240125T095244Z
LAST-MODIFIED:20240125T095244Z
UID:10028564-1775260800-1775347199@tcheklian-notaires.fr
SUMMARY:Открыто
DESCRIPTION:
URL:https://tcheklian-notaires.fr/event/%d0%be%d1%82%d0%ba%d1%80%d1%8b%d1%82%d0%be/2026-04-04/
END:VEVENT
BEGIN:VEVENT
DTSTART;VALUE=DATE:20260405
DTEND;VALUE=DATE:20260406
DTSTAMP:20260420T011248
CREATED:20240125T095604Z
LAST-MODIFIED:20240125T095604Z
UID:10031681-1775347200-1775433599@tcheklian-notaires.fr
SUMMARY:Закрыто
DESCRIPTION:
URL:https://tcheklian-notaires.fr/event/%d0%b7%d0%b0%d0%ba%d1%80%d1%8b%d1%82%d0%be/2026-04-05/
END:VEVENT
BEGIN:VEVENT
DTSTART;VALUE=DATE:20260406
DTEND;VALUE=DATE:20260407
DTSTAMP:20260420T011248
CREATED:20240125T095244Z
LAST-MODIFIED:20240125T095244Z
UID:10028565-1775433600-1775519999@tcheklian-notaires.fr
SUMMARY:Открыто
DESCRIPTION:
URL:https://tcheklian-notaires.fr/event/%d0%be%d1%82%d0%ba%d1%80%d1%8b%d1%82%d0%be/2026-04-06/
END:VEVENT
BEGIN:VEVENT
DTSTART;VALUE=DATE:20260407
DTEND;VALUE=DATE:20260408
DTSTAMP:20260420T011248
CREATED:20240125T095244Z
LAST-MODIFIED:20240125T095244Z
UID:10028566-1775520000-1775606399@tcheklian-notaires.fr
SUMMARY:Открыто
DESCRIPTION:
URL:https://tcheklian-notaires.fr/event/%d0%be%d1%82%d0%ba%d1%80%d1%8b%d1%82%d0%be/2026-04-07/
END:VEVENT
BEGIN:VEVENT
DTSTART;VALUE=DATE:20260408
DTEND;VALUE=DATE:20260409
DTSTAMP:20260420T011248
CREATED:20240125T095244Z
LAST-MODIFIED:20240125T095244Z
UID:10028567-1775606400-1775692799@tcheklian-notaires.fr
SUMMARY:Открыто
DESCRIPTION:
URL:https://tcheklian-notaires.fr/event/%d0%be%d1%82%d0%ba%d1%80%d1%8b%d1%82%d0%be/2026-04-08/
END:VEVENT
BEGIN:VEVENT
DTSTART;VALUE=DATE:20260409
DTEND;VALUE=DATE:20260410
DTSTAMP:20260420T011248
CREATED:20240125T095244Z
LAST-MODIFIED:20240125T095244Z
UID:10028568-1775692800-1775779199@tcheklian-notaires.fr
SUMMARY:Открыто
DESCRIPTION:
URL:https://tcheklian-notaires.fr/event/%d0%be%d1%82%d0%ba%d1%80%d1%8b%d1%82%d0%be/2026-04-09/
END:VEVENT
BEGIN:VEVENT
DTSTART;VALUE=DATE:20260410
DTEND;VALUE=DATE:20260411
DTSTAMP:20260420T011248
CREATED:20240125T095244Z
LAST-MODIFIED:20240125T095244Z
UID:10028569-1775779200-1775865599@tcheklian-notaires.fr
SUMMARY:Открыто
DESCRIPTION:
URL:https://tcheklian-notaires.fr/event/%d0%be%d1%82%d0%ba%d1%80%d1%8b%d1%82%d0%be/2026-04-10/
END:VEVENT
BEGIN:VEVENT
DTSTART;VALUE=DATE:20260411
DTEND;VALUE=DATE:20260412
DTSTAMP:20260420T011248
CREATED:20240125T095244Z
LAST-MODIFIED:20240125T095244Z
UID:10028570-1775865600-1775951999@tcheklian-notaires.fr
SUMMARY:Открыто
DESCRIPTION:
URL:https://tcheklian-notaires.fr/event/%d0%be%d1%82%d0%ba%d1%80%d1%8b%d1%82%d0%be/2026-04-11/
END:VEVENT
BEGIN:VEVENT
DTSTART;VALUE=DATE:20260412
DTEND;VALUE=DATE:20260413
DTSTAMP:20260420T011248
CREATED:20240125T095604Z
LAST-MODIFIED:20240125T095604Z
UID:10031682-1775952000-1776038399@tcheklian-notaires.fr
SUMMARY:Закрыто
DESCRIPTION:
URL:https://tcheklian-notaires.fr/event/%d0%b7%d0%b0%d0%ba%d1%80%d1%8b%d1%82%d0%be/2026-04-12/
END:VEVENT
BEGIN:VEVENT
DTSTART;VALUE=DATE:20260413
DTEND;VALUE=DATE:20260414
DTSTAMP:20260420T011248
CREATED:20240125T095244Z
LAST-MODIFIED:20240125T095244Z
UID:10028571-1776038400-1776124799@tcheklian-notaires.fr
SUMMARY:Открыто
DESCRIPTION:
URL:https://tcheklian-notaires.fr/event/%d0%be%d1%82%d0%ba%d1%80%d1%8b%d1%82%d0%be/2026-04-13/
END:VEVENT
BEGIN:VEVENT
DTSTART;VALUE=DATE:20260414
DTEND;VALUE=DATE:20260415
DTSTAMP:20260420T011248
CREATED:20240125T095244Z
LAST-MODIFIED:20240125T095244Z
UID:10028572-1776124800-1776211199@tcheklian-notaires.fr
SUMMARY:Открыто
DESCRIPTION:
URL:https://tcheklian-notaires.fr/event/%d0%be%d1%82%d0%ba%d1%80%d1%8b%d1%82%d0%be/2026-04-14/
END:VEVENT
BEGIN:VEVENT
DTSTART;VALUE=DATE:20260415
DTEND;VALUE=DATE:20260416
DTSTAMP:20260420T011248
CREATED:20240125T095244Z
LAST-MODIFIED:20240125T095244Z
UID:10028573-1776211200-1776297599@tcheklian-notaires.fr
SUMMARY:Открыто
DESCRIPTION:
URL:https://tcheklian-notaires.fr/event/%d0%be%d1%82%d0%ba%d1%80%d1%8b%d1%82%d0%be/2026-04-15/
END:VEVENT
BEGIN:VEVENT
DTSTART;VALUE=DATE:20260416
DTEND;VALUE=DATE:20260417
DTSTAMP:20260420T011248
CREATED:20240125T095244Z
LAST-MODIFIED:20240125T095244Z
UID:10028574-1776297600-1776383999@tcheklian-notaires.fr
SUMMARY:Открыто
DESCRIPTION:
URL:https://tcheklian-notaires.fr/event/%d0%be%d1%82%d0%ba%d1%80%d1%8b%d1%82%d0%be/2026-04-16/
END:VEVENT
BEGIN:VEVENT
DTSTART;VALUE=DATE:20260417
DTEND;VALUE=DATE:20260418
DTSTAMP:20260420T011248
CREATED:20240125T095244Z
LAST-MODIFIED:20240125T095244Z
UID:10028575-1776384000-1776470399@tcheklian-notaires.fr
SUMMARY:Открыто
DESCRIPTION:
URL:https://tcheklian-notaires.fr/event/%d0%be%d1%82%d0%ba%d1%80%d1%8b%d1%82%d0%be/2026-04-17/
END:VEVENT
BEGIN:VEVENT
DTSTART;VALUE=DATE:20260418
DTEND;VALUE=DATE:20260419
DTSTAMP:20260420T011248
CREATED:20240125T095244Z
LAST-MODIFIED:20240125T095244Z
UID:10028576-1776470400-1776556799@tcheklian-notaires.fr
SUMMARY:Открыто
DESCRIPTION:
URL:https://tcheklian-notaires.fr/event/%d0%be%d1%82%d0%ba%d1%80%d1%8b%d1%82%d0%be/2026-04-18/
END:VEVENT
BEGIN:VEVENT
DTSTART;VALUE=DATE:20260419
DTEND;VALUE=DATE:20260420
DTSTAMP:20260420T011248
CREATED:20240125T095604Z
LAST-MODIFIED:20240125T095604Z
UID:10031683-1776556800-1776643199@tcheklian-notaires.fr
SUMMARY:Закрыто
DESCRIPTION:
URL:https://tcheklian-notaires.fr/event/%d0%b7%d0%b0%d0%ba%d1%80%d1%8b%d1%82%d0%be/2026-04-19/
END:VEVENT
BEGIN:VEVENT
DTSTART;VALUE=DATE:20260420
DTEND;VALUE=DATE:20260421
DTSTAMP:20260420T011248
CREATED:20240125T095244Z
LAST-MODIFIED:20240125T095244Z
UID:10028577-1776643200-1776729599@tcheklian-notaires.fr
SUMMARY:Открыто
DESCRIPTION:
URL:https://tcheklian-notaires.fr/event/%d0%be%d1%82%d0%ba%d1%80%d1%8b%d1%82%d0%be/2026-04-20/
END:VEVENT
BEGIN:VEVENT
DTSTART;VALUE=DATE:20260421
DTEND;VALUE=DATE:20260422
DTSTAMP:20260420T011248
CREATED:20240125T095244Z
LAST-MODIFIED:20240125T095244Z
UID:10028578-1776729600-1776815999@tcheklian-notaires.fr
SUMMARY:Открыто
DESCRIPTION:
URL:https://tcheklian-notaires.fr/event/%d0%be%d1%82%d0%ba%d1%80%d1%8b%d1%82%d0%be/2026-04-21/
END:VEVENT
BEGIN:VEVENT
DTSTART;VALUE=DATE:20260422
DTEND;VALUE=DATE:20260423
DTSTAMP:20260420T011248
CREATED:20240125T095244Z
LAST-MODIFIED:20240125T095244Z
UID:10028579-1776816000-1776902399@tcheklian-notaires.fr
SUMMARY:Открыто
DESCRIPTION:
URL:https://tcheklian-notaires.fr/event/%d0%be%d1%82%d0%ba%d1%80%d1%8b%d1%82%d0%be/2026-04-22/
END:VEVENT
BEGIN:VEVENT
DTSTART;VALUE=DATE:20260423
DTEND;VALUE=DATE:20260424
DTSTAMP:20260420T011248
CREATED:20240125T095244Z
LAST-MODIFIED:20240125T095244Z
UID:10028580-1776902400-1776988799@tcheklian-notaires.fr
SUMMARY:Открыто
DESCRIPTION:
URL:https://tcheklian-notaires.fr/event/%d0%be%d1%82%d0%ba%d1%80%d1%8b%d1%82%d0%be/2026-04-23/
END:VEVENT
BEGIN:VEVENT
DTSTART;VALUE=DATE:20260424
DTEND;VALUE=DATE:20260425
DTSTAMP:20260420T011248
CREATED:20240125T095244Z
LAST-MODIFIED:20240125T095244Z
UID:10028581-1776988800-1777075199@tcheklian-notaires.fr
SUMMARY:Открыто
DESCRIPTION:
URL:https://tcheklian-notaires.fr/event/%d0%be%d1%82%d0%ba%d1%80%d1%8b%d1%82%d0%be/2026-04-24/
END:VEVENT
BEGIN:VEVENT
DTSTART;VALUE=DATE:20260425
DTEND;VALUE=DATE:20260426
DTSTAMP:20260420T011248
CREATED:20240125T095244Z
LAST-MODIFIED:20240125T095244Z
UID:10028582-1777075200-1777161599@tcheklian-notaires.fr
SUMMARY:Открыто
DESCRIPTION:
URL:https://tcheklian-notaires.fr/event/%d0%be%d1%82%d0%ba%d1%80%d1%8b%d1%82%d0%be/2026-04-25/
END:VEVENT
BEGIN:VEVENT
DTSTART;VALUE=DATE:20260426
DTEND;VALUE=DATE:20260427
DTSTAMP:20260420T011248
CREATED:20240125T095604Z
LAST-MODIFIED:20240125T095604Z
UID:10031684-1777161600-1777247999@tcheklian-notaires.fr
SUMMARY:Закрыто
DESCRIPTION:
URL:https://tcheklian-notaires.fr/event/%d0%b7%d0%b0%d0%ba%d1%80%d1%8b%d1%82%d0%be/2026-04-26/
END:VEVENT
BEGIN:VEVENT
DTSTART;VALUE=DATE:20260427
DTEND;VALUE=DATE:20260428
DTSTAMP:20260420T011248
CREATED:20240125T095244Z
LAST-MODIFIED:20240125T095244Z
UID:10028583-1777248000-1777334399@tcheklian-notaires.fr
SUMMARY:Открыто
DESCRIPTION:
URL:https://tcheklian-notaires.fr/event/%d0%be%d1%82%d0%ba%d1%80%d1%8b%d1%82%d0%be/2026-04-27/
END:VEVENT
BEGIN:VEVENT
DTSTART;VALUE=DATE:20260428
DTEND;VALUE=DATE:20260429
DTSTAMP:20260420T011248
CREATED:20240125T095244Z
LAST-MODIFIED:20240125T095244Z
UID:10028584-1777334400-1777420799@tcheklian-notaires.fr
SUMMARY:Открыто
DESCRIPTION:
URL:https://tcheklian-notaires.fr/event/%d0%be%d1%82%d0%ba%d1%80%d1%8b%d1%82%d0%be/2026-04-28/
END:VEVENT
BEGIN:VEVENT
DTSTART;VALUE=DATE:20260429
DTEND;VALUE=DATE:20260430
DTSTAMP:20260420T011248
CREATED:20240125T095244Z
LAST-MODIFIED:20240125T095244Z
UID:10028585-1777420800-1777507199@tcheklian-notaires.fr
SUMMARY:Открыто
DESCRIPTION:
URL:https://tcheklian-notaires.fr/event/%d0%be%d1%82%d0%ba%d1%80%d1%8b%d1%82%d0%be/2026-04-29/
END:VEVENT
BEGIN:VEVENT
DTSTART;VALUE=DATE:20260430
DTEND;VALUE=DATE:20260501
DTSTAMP:20260420T011248
CREATED:20240125T095244Z
LAST-MODIFIED:20240125T095244Z
UID:10028586-1777507200-1777593599@tcheklian-notaires.fr
SUMMARY:Открыто
DESCRIPTION:
URL:https://tcheklian-notaires.fr/event/%d0%be%d1%82%d0%ba%d1%80%d1%8b%d1%82%d0%be/2026-04-30/
END:VEVENT
BEGIN:VEVENT
DTSTART;VALUE=DATE:20260501
DTEND;VALUE=DATE:20260502
DTSTAMP:20260420T011248
CREATED:20240125T095244Z
LAST-MODIFIED:20240125T095244Z
UID:10028587-1777593600-1777679999@tcheklian-notaires.fr
SUMMARY:Открыто
DESCRIPTION:
URL:https://tcheklian-notaires.fr/event/%d0%be%d1%82%d0%ba%d1%80%d1%8b%d1%82%d0%be/2026-05-01/
END:VEVENT
BEGIN:VEVENT
DTSTART;VALUE=DATE:20260502
DTEND;VALUE=DATE:20260503
DTSTAMP:20260420T011248
CREATED:20240125T095244Z
LAST-MODIFIED:20240125T095244Z
UID:10028588-1777680000-1777766399@tcheklian-notaires.fr
SUMMARY:Открыто
DESCRIPTION:
URL:https://tcheklian-notaires.fr/event/%d0%be%d1%82%d0%ba%d1%80%d1%8b%d1%82%d0%be/2026-05-02/
END:VEVENT
BEGIN:VEVENT
DTSTART;VALUE=DATE:20260503
DTEND;VALUE=DATE:20260504
DTSTAMP:20260420T011248
CREATED:20240125T095604Z
LAST-MODIFIED:20240125T095604Z
UID:10031685-1777766400-1777852799@tcheklian-notaires.fr
SUMMARY:Закрыто
DESCRIPTION:
URL:https://tcheklian-notaires.fr/event/%d0%b7%d0%b0%d0%ba%d1%80%d1%8b%d1%82%d0%be/2026-05-03/
END:VEVENT
END:VCALENDAR