BEGIN:VCALENDAR
VERSION:2.0
PRODID:-//TCHEKLIAN - ECPv6.2.9//NONSGML v1.0//EN
CALSCALE:GREGORIAN
METHOD:PUBLISH
X-ORIGINAL-URL:https://tcheklian-notaires.fr
X-WR-CALDESC:Мероприятия для TCHEKLIAN
REFRESH-INTERVAL;VALUE=DURATION:PT1H
X-Robots-Tag:noindex
X-PUBLISHED-TTL:PT1H
BEGIN:VTIMEZONE
TZID:UTC
BEGIN:STANDARD
TZOFFSETFROM:+0000
TZOFFSETTO:+0000
TZNAME:UTC
DTSTART:20260101T000000
END:STANDARD
END:VTIMEZONE
BEGIN:VEVENT
DTSTART;VALUE=DATE:20261006
DTEND;VALUE=DATE:20261007
DTSTAMP:20260422T014702
CREATED:20240125T095244Z
LAST-MODIFIED:20240125T095244Z
UID:10028722-1791244800-1791331199@tcheklian-notaires.fr
SUMMARY:Открыто
DESCRIPTION:
URL:https://tcheklian-notaires.fr/event/%d0%be%d1%82%d0%ba%d1%80%d1%8b%d1%82%d0%be/2026-10-06/
END:VEVENT
BEGIN:VEVENT
DTSTART;VALUE=DATE:20261007
DTEND;VALUE=DATE:20261008
DTSTAMP:20260422T014702
CREATED:20240125T095244Z
LAST-MODIFIED:20240125T095244Z
UID:10028723-1791331200-1791417599@tcheklian-notaires.fr
SUMMARY:Открыто
DESCRIPTION:
URL:https://tcheklian-notaires.fr/event/%d0%be%d1%82%d0%ba%d1%80%d1%8b%d1%82%d0%be/2026-10-07/
END:VEVENT
BEGIN:VEVENT
DTSTART;VALUE=DATE:20261008
DTEND;VALUE=DATE:20261009
DTSTAMP:20260422T014702
CREATED:20240125T095244Z
LAST-MODIFIED:20240125T095244Z
UID:10028724-1791417600-1791503999@tcheklian-notaires.fr
SUMMARY:Открыто
DESCRIPTION:
URL:https://tcheklian-notaires.fr/event/%d0%be%d1%82%d0%ba%d1%80%d1%8b%d1%82%d0%be/2026-10-08/
END:VEVENT
BEGIN:VEVENT
DTSTART;VALUE=DATE:20261009
DTEND;VALUE=DATE:20261010
DTSTAMP:20260422T014702
CREATED:20240125T095244Z
LAST-MODIFIED:20240125T095244Z
UID:10028725-1791504000-1791590399@tcheklian-notaires.fr
SUMMARY:Открыто
DESCRIPTION:
URL:https://tcheklian-notaires.fr/event/%d0%be%d1%82%d0%ba%d1%80%d1%8b%d1%82%d0%be/2026-10-09/
END:VEVENT
BEGIN:VEVENT
DTSTART;VALUE=DATE:20261010
DTEND;VALUE=DATE:20261011
DTSTAMP:20260422T014702
CREATED:20240125T095244Z
LAST-MODIFIED:20240125T095244Z
UID:10028726-1791590400-1791676799@tcheklian-notaires.fr
SUMMARY:Открыто
DESCRIPTION:
URL:https://tcheklian-notaires.fr/event/%d0%be%d1%82%d0%ba%d1%80%d1%8b%d1%82%d0%be/2026-10-10/
END:VEVENT
BEGIN:VEVENT
DTSTART;VALUE=DATE:20261011
DTEND;VALUE=DATE:20261012
DTSTAMP:20260422T014702
CREATED:20240125T095604Z
LAST-MODIFIED:20240125T095604Z
UID:10031708-1791676800-1791763199@tcheklian-notaires.fr
SUMMARY:Закрыто
DESCRIPTION:
URL:https://tcheklian-notaires.fr/event/%d0%b7%d0%b0%d0%ba%d1%80%d1%8b%d1%82%d0%be/2026-10-11/
END:VEVENT
BEGIN:VEVENT
DTSTART;VALUE=DATE:20261012
DTEND;VALUE=DATE:20261013
DTSTAMP:20260422T014702
CREATED:20240125T095244Z
LAST-MODIFIED:20240125T095244Z
UID:10028727-1791763200-1791849599@tcheklian-notaires.fr
SUMMARY:Открыто
DESCRIPTION:
URL:https://tcheklian-notaires.fr/event/%d0%be%d1%82%d0%ba%d1%80%d1%8b%d1%82%d0%be/2026-10-12/
END:VEVENT
BEGIN:VEVENT
DTSTART;VALUE=DATE:20261013
DTEND;VALUE=DATE:20261014
DTSTAMP:20260422T014702
CREATED:20240125T095244Z
LAST-MODIFIED:20240125T095244Z
UID:10028728-1791849600-1791935999@tcheklian-notaires.fr
SUMMARY:Открыто
DESCRIPTION:
URL:https://tcheklian-notaires.fr/event/%d0%be%d1%82%d0%ba%d1%80%d1%8b%d1%82%d0%be/2026-10-13/
END:VEVENT
BEGIN:VEVENT
DTSTART;VALUE=DATE:20261014
DTEND;VALUE=DATE:20261015
DTSTAMP:20260422T014702
CREATED:20240125T095244Z
LAST-MODIFIED:20240125T095244Z
UID:10028729-1791936000-1792022399@tcheklian-notaires.fr
SUMMARY:Открыто
DESCRIPTION:
URL:https://tcheklian-notaires.fr/event/%d0%be%d1%82%d0%ba%d1%80%d1%8b%d1%82%d0%be/2026-10-14/
END:VEVENT
BEGIN:VEVENT
DTSTART;VALUE=DATE:20261015
DTEND;VALUE=DATE:20261016
DTSTAMP:20260422T014702
CREATED:20240125T095244Z
LAST-MODIFIED:20240125T095244Z
UID:10028730-1792022400-1792108799@tcheklian-notaires.fr
SUMMARY:Открыто
DESCRIPTION:
URL:https://tcheklian-notaires.fr/event/%d0%be%d1%82%d0%ba%d1%80%d1%8b%d1%82%d0%be/2026-10-15/
END:VEVENT
BEGIN:VEVENT
DTSTART;VALUE=DATE:20261016
DTEND;VALUE=DATE:20261017
DTSTAMP:20260422T014702
CREATED:20240125T095244Z
LAST-MODIFIED:20240125T095244Z
UID:10028731-1792108800-1792195199@tcheklian-notaires.fr
SUMMARY:Открыто
DESCRIPTION:
URL:https://tcheklian-notaires.fr/event/%d0%be%d1%82%d0%ba%d1%80%d1%8b%d1%82%d0%be/2026-10-16/
END:VEVENT
BEGIN:VEVENT
DTSTART;VALUE=DATE:20261017
DTEND;VALUE=DATE:20261018
DTSTAMP:20260422T014702
CREATED:20240125T095244Z
LAST-MODIFIED:20240125T095244Z
UID:10028732-1792195200-1792281599@tcheklian-notaires.fr
SUMMARY:Открыто
DESCRIPTION:
URL:https://tcheklian-notaires.fr/event/%d0%be%d1%82%d0%ba%d1%80%d1%8b%d1%82%d0%be/2026-10-17/
END:VEVENT
BEGIN:VEVENT
DTSTART;VALUE=DATE:20261018
DTEND;VALUE=DATE:20261019
DTSTAMP:20260422T014702
CREATED:20240125T095604Z
LAST-MODIFIED:20240125T095604Z
UID:10031709-1792281600-1792367999@tcheklian-notaires.fr
SUMMARY:Закрыто
DESCRIPTION:
URL:https://tcheklian-notaires.fr/event/%d0%b7%d0%b0%d0%ba%d1%80%d1%8b%d1%82%d0%be/2026-10-18/
END:VEVENT
BEGIN:VEVENT
DTSTART;VALUE=DATE:20261019
DTEND;VALUE=DATE:20261020
DTSTAMP:20260422T014702
CREATED:20240125T095244Z
LAST-MODIFIED:20240125T095244Z
UID:10028733-1792368000-1792454399@tcheklian-notaires.fr
SUMMARY:Открыто
DESCRIPTION:
URL:https://tcheklian-notaires.fr/event/%d0%be%d1%82%d0%ba%d1%80%d1%8b%d1%82%d0%be/2026-10-19/
END:VEVENT
BEGIN:VEVENT
DTSTART;VALUE=DATE:20261020
DTEND;VALUE=DATE:20261021
DTSTAMP:20260422T014702
CREATED:20240125T095244Z
LAST-MODIFIED:20240125T095244Z
UID:10028734-1792454400-1792540799@tcheklian-notaires.fr
SUMMARY:Открыто
DESCRIPTION:
URL:https://tcheklian-notaires.fr/event/%d0%be%d1%82%d0%ba%d1%80%d1%8b%d1%82%d0%be/2026-10-20/
END:VEVENT
BEGIN:VEVENT
DTSTART;VALUE=DATE:20261021
DTEND;VALUE=DATE:20261022
DTSTAMP:20260422T014702
CREATED:20240125T095244Z
LAST-MODIFIED:20240125T095244Z
UID:10028735-1792540800-1792627199@tcheklian-notaires.fr
SUMMARY:Открыто
DESCRIPTION:
URL:https://tcheklian-notaires.fr/event/%d0%be%d1%82%d0%ba%d1%80%d1%8b%d1%82%d0%be/2026-10-21/
END:VEVENT
BEGIN:VEVENT
DTSTART;VALUE=DATE:20261022
DTEND;VALUE=DATE:20261023
DTSTAMP:20260422T014702
CREATED:20240125T095244Z
LAST-MODIFIED:20240125T095244Z
UID:10028736-1792627200-1792713599@tcheklian-notaires.fr
SUMMARY:Открыто
DESCRIPTION:
URL:https://tcheklian-notaires.fr/event/%d0%be%d1%82%d0%ba%d1%80%d1%8b%d1%82%d0%be/2026-10-22/
END:VEVENT
BEGIN:VEVENT
DTSTART;VALUE=DATE:20261023
DTEND;VALUE=DATE:20261024
DTSTAMP:20260422T014702
CREATED:20240125T095244Z
LAST-MODIFIED:20240125T095244Z
UID:10028737-1792713600-1792799999@tcheklian-notaires.fr
SUMMARY:Открыто
DESCRIPTION:
URL:https://tcheklian-notaires.fr/event/%d0%be%d1%82%d0%ba%d1%80%d1%8b%d1%82%d0%be/2026-10-23/
END:VEVENT
BEGIN:VEVENT
DTSTART;VALUE=DATE:20261024
DTEND;VALUE=DATE:20261025
DTSTAMP:20260422T014702
CREATED:20240125T095244Z
LAST-MODIFIED:20240125T095244Z
UID:10028738-1792800000-1792886399@tcheklian-notaires.fr
SUMMARY:Открыто
DESCRIPTION:
URL:https://tcheklian-notaires.fr/event/%d0%be%d1%82%d0%ba%d1%80%d1%8b%d1%82%d0%be/2026-10-24/
END:VEVENT
BEGIN:VEVENT
DTSTART;VALUE=DATE:20261025
DTEND;VALUE=DATE:20261026
DTSTAMP:20260422T014702
CREATED:20240125T095604Z
LAST-MODIFIED:20240125T095604Z
UID:10031710-1792886400-1792972799@tcheklian-notaires.fr
SUMMARY:Закрыто
DESCRIPTION:
URL:https://tcheklian-notaires.fr/event/%d0%b7%d0%b0%d0%ba%d1%80%d1%8b%d1%82%d0%be/2026-10-25/
END:VEVENT
BEGIN:VEVENT
DTSTART;VALUE=DATE:20261026
DTEND;VALUE=DATE:20261027
DTSTAMP:20260422T014702
CREATED:20240125T095244Z
LAST-MODIFIED:20240125T095244Z
UID:10028739-1792972800-1793059199@tcheklian-notaires.fr
SUMMARY:Открыто
DESCRIPTION:
URL:https://tcheklian-notaires.fr/event/%d0%be%d1%82%d0%ba%d1%80%d1%8b%d1%82%d0%be/2026-10-26/
END:VEVENT
BEGIN:VEVENT
DTSTART;VALUE=DATE:20261027
DTEND;VALUE=DATE:20261028
DTSTAMP:20260422T014702
CREATED:20240125T095244Z
LAST-MODIFIED:20240125T095244Z
UID:10028740-1793059200-1793145599@tcheklian-notaires.fr
SUMMARY:Открыто
DESCRIPTION:
URL:https://tcheklian-notaires.fr/event/%d0%be%d1%82%d0%ba%d1%80%d1%8b%d1%82%d0%be/2026-10-27/
END:VEVENT
BEGIN:VEVENT
DTSTART;VALUE=DATE:20261028
DTEND;VALUE=DATE:20261029
DTSTAMP:20260422T014702
CREATED:20240125T095244Z
LAST-MODIFIED:20240125T095244Z
UID:10028741-1793145600-1793231999@tcheklian-notaires.fr
SUMMARY:Открыто
DESCRIPTION:
URL:https://tcheklian-notaires.fr/event/%d0%be%d1%82%d0%ba%d1%80%d1%8b%d1%82%d0%be/2026-10-28/
END:VEVENT
BEGIN:VEVENT
DTSTART;VALUE=DATE:20261029
DTEND;VALUE=DATE:20261030
DTSTAMP:20260422T014702
CREATED:20240125T095244Z
LAST-MODIFIED:20240125T095244Z
UID:10028742-1793232000-1793318399@tcheklian-notaires.fr
SUMMARY:Открыто
DESCRIPTION:
URL:https://tcheklian-notaires.fr/event/%d0%be%d1%82%d0%ba%d1%80%d1%8b%d1%82%d0%be/2026-10-29/
END:VEVENT
BEGIN:VEVENT
DTSTART;VALUE=DATE:20261030
DTEND;VALUE=DATE:20261031
DTSTAMP:20260422T014702
CREATED:20240125T095244Z
LAST-MODIFIED:20240125T095244Z
UID:10028743-1793318400-1793404799@tcheklian-notaires.fr
SUMMARY:Открыто
DESCRIPTION:
URL:https://tcheklian-notaires.fr/event/%d0%be%d1%82%d0%ba%d1%80%d1%8b%d1%82%d0%be/2026-10-30/
END:VEVENT
BEGIN:VEVENT
DTSTART;VALUE=DATE:20261031
DTEND;VALUE=DATE:20261101
DTSTAMP:20260422T014702
CREATED:20240125T095244Z
LAST-MODIFIED:20240125T095244Z
UID:10028744-1793404800-1793491199@tcheklian-notaires.fr
SUMMARY:Открыто
DESCRIPTION:
URL:https://tcheklian-notaires.fr/event/%d0%be%d1%82%d0%ba%d1%80%d1%8b%d1%82%d0%be/2026-10-31/
END:VEVENT
BEGIN:VEVENT
DTSTART;VALUE=DATE:20261101
DTEND;VALUE=DATE:20261102
DTSTAMP:20260422T014702
CREATED:20240125T095604Z
LAST-MODIFIED:20240125T095604Z
UID:10031711-1793491200-1793577599@tcheklian-notaires.fr
SUMMARY:Закрыто
DESCRIPTION:
URL:https://tcheklian-notaires.fr/event/%d0%b7%d0%b0%d0%ba%d1%80%d1%8b%d1%82%d0%be/2026-11-01/
END:VEVENT
BEGIN:VEVENT
DTSTART;VALUE=DATE:20261102
DTEND;VALUE=DATE:20261103
DTSTAMP:20260422T014702
CREATED:20240125T095244Z
LAST-MODIFIED:20240125T095244Z
UID:10028745-1793577600-1793663999@tcheklian-notaires.fr
SUMMARY:Открыто
DESCRIPTION:
URL:https://tcheklian-notaires.fr/event/%d0%be%d1%82%d0%ba%d1%80%d1%8b%d1%82%d0%be/2026-11-02/
END:VEVENT
BEGIN:VEVENT
DTSTART;VALUE=DATE:20261103
DTEND;VALUE=DATE:20261104
DTSTAMP:20260422T014702
CREATED:20240125T095244Z
LAST-MODIFIED:20240125T095244Z
UID:10028746-1793664000-1793750399@tcheklian-notaires.fr
SUMMARY:Открыто
DESCRIPTION:
URL:https://tcheklian-notaires.fr/event/%d0%be%d1%82%d0%ba%d1%80%d1%8b%d1%82%d0%be/2026-11-03/
END:VEVENT
BEGIN:VEVENT
DTSTART;VALUE=DATE:20261104
DTEND;VALUE=DATE:20261105
DTSTAMP:20260422T014702
CREATED:20240125T095244Z
LAST-MODIFIED:20240125T095244Z
UID:10028747-1793750400-1793836799@tcheklian-notaires.fr
SUMMARY:Открыто
DESCRIPTION:
URL:https://tcheklian-notaires.fr/event/%d0%be%d1%82%d0%ba%d1%80%d1%8b%d1%82%d0%be/2026-11-04/
END:VEVENT
END:VCALENDAR