BEGIN:VCALENDAR
VERSION:2.0
PRODID:-//TCHEKLIAN - ECPv6.2.9//NONSGML v1.0//EN
CALSCALE:GREGORIAN
METHOD:PUBLISH
X-ORIGINAL-URL:https://tcheklian-notaires.fr
X-WR-CALDESC:Мероприятия для TCHEKLIAN
REFRESH-INTERVAL;VALUE=DURATION:PT1H
X-Robots-Tag:noindex
X-PUBLISHED-TTL:PT1H
BEGIN:VTIMEZONE
TZID:UTC
BEGIN:STANDARD
TZOFFSETFROM:+0000
TZOFFSETTO:+0000
TZNAME:UTC
DTSTART:20260101T000000
END:STANDARD
END:VTIMEZONE
BEGIN:VEVENT
DTSTART;VALUE=DATE:20260623
DTEND;VALUE=DATE:20260624
DTSTAMP:20260420T215458
CREATED:20240125T095244Z
LAST-MODIFIED:20240125T095244Z
UID:10028632-1782172800-1782259199@tcheklian-notaires.fr
SUMMARY:Открыто
DESCRIPTION:
URL:https://tcheklian-notaires.fr/event/%d0%be%d1%82%d0%ba%d1%80%d1%8b%d1%82%d0%be/2026-06-23/
END:VEVENT
BEGIN:VEVENT
DTSTART;VALUE=DATE:20260624
DTEND;VALUE=DATE:20260625
DTSTAMP:20260420T215458
CREATED:20240125T095244Z
LAST-MODIFIED:20240125T095244Z
UID:10028633-1782259200-1782345599@tcheklian-notaires.fr
SUMMARY:Открыто
DESCRIPTION:
URL:https://tcheklian-notaires.fr/event/%d0%be%d1%82%d0%ba%d1%80%d1%8b%d1%82%d0%be/2026-06-24/
END:VEVENT
BEGIN:VEVENT
DTSTART;VALUE=DATE:20260625
DTEND;VALUE=DATE:20260626
DTSTAMP:20260420T215458
CREATED:20240125T095244Z
LAST-MODIFIED:20240125T095244Z
UID:10028634-1782345600-1782431999@tcheklian-notaires.fr
SUMMARY:Открыто
DESCRIPTION:
URL:https://tcheklian-notaires.fr/event/%d0%be%d1%82%d0%ba%d1%80%d1%8b%d1%82%d0%be/2026-06-25/
END:VEVENT
BEGIN:VEVENT
DTSTART;VALUE=DATE:20260626
DTEND;VALUE=DATE:20260627
DTSTAMP:20260420T215458
CREATED:20240125T095244Z
LAST-MODIFIED:20240125T095244Z
UID:10028635-1782432000-1782518399@tcheklian-notaires.fr
SUMMARY:Открыто
DESCRIPTION:
URL:https://tcheklian-notaires.fr/event/%d0%be%d1%82%d0%ba%d1%80%d1%8b%d1%82%d0%be/2026-06-26/
END:VEVENT
BEGIN:VEVENT
DTSTART;VALUE=DATE:20260627
DTEND;VALUE=DATE:20260628
DTSTAMP:20260420T215458
CREATED:20240125T095244Z
LAST-MODIFIED:20240125T095244Z
UID:10028636-1782518400-1782604799@tcheklian-notaires.fr
SUMMARY:Открыто
DESCRIPTION:
URL:https://tcheklian-notaires.fr/event/%d0%be%d1%82%d0%ba%d1%80%d1%8b%d1%82%d0%be/2026-06-27/
END:VEVENT
BEGIN:VEVENT
DTSTART;VALUE=DATE:20260628
DTEND;VALUE=DATE:20260629
DTSTAMP:20260420T215458
CREATED:20240125T095604Z
LAST-MODIFIED:20240125T095604Z
UID:10031693-1782604800-1782691199@tcheklian-notaires.fr
SUMMARY:Закрыто
DESCRIPTION:
URL:https://tcheklian-notaires.fr/event/%d0%b7%d0%b0%d0%ba%d1%80%d1%8b%d1%82%d0%be/2026-06-28/
END:VEVENT
BEGIN:VEVENT
DTSTART;VALUE=DATE:20260629
DTEND;VALUE=DATE:20260630
DTSTAMP:20260420T215458
CREATED:20240125T095244Z
LAST-MODIFIED:20240125T095244Z
UID:10028637-1782691200-1782777599@tcheklian-notaires.fr
SUMMARY:Открыто
DESCRIPTION:
URL:https://tcheklian-notaires.fr/event/%d0%be%d1%82%d0%ba%d1%80%d1%8b%d1%82%d0%be/2026-06-29/
END:VEVENT
BEGIN:VEVENT
DTSTART;VALUE=DATE:20260630
DTEND;VALUE=DATE:20260701
DTSTAMP:20260420T215458
CREATED:20240125T095244Z
LAST-MODIFIED:20240125T095244Z
UID:10028638-1782777600-1782863999@tcheklian-notaires.fr
SUMMARY:Открыто
DESCRIPTION:
URL:https://tcheklian-notaires.fr/event/%d0%be%d1%82%d0%ba%d1%80%d1%8b%d1%82%d0%be/2026-06-30/
END:VEVENT
BEGIN:VEVENT
DTSTART;VALUE=DATE:20260701
DTEND;VALUE=DATE:20260702
DTSTAMP:20260420T215458
CREATED:20240125T095244Z
LAST-MODIFIED:20240125T095244Z
UID:10028639-1782864000-1782950399@tcheklian-notaires.fr
SUMMARY:Открыто
DESCRIPTION:
URL:https://tcheklian-notaires.fr/event/%d0%be%d1%82%d0%ba%d1%80%d1%8b%d1%82%d0%be/2026-07-01/
END:VEVENT
BEGIN:VEVENT
DTSTART;VALUE=DATE:20260702
DTEND;VALUE=DATE:20260703
DTSTAMP:20260420T215458
CREATED:20240125T095244Z
LAST-MODIFIED:20240125T095244Z
UID:10028640-1782950400-1783036799@tcheklian-notaires.fr
SUMMARY:Открыто
DESCRIPTION:
URL:https://tcheklian-notaires.fr/event/%d0%be%d1%82%d0%ba%d1%80%d1%8b%d1%82%d0%be/2026-07-02/
END:VEVENT
BEGIN:VEVENT
DTSTART;VALUE=DATE:20260703
DTEND;VALUE=DATE:20260704
DTSTAMP:20260420T215458
CREATED:20240125T095244Z
LAST-MODIFIED:20240125T095244Z
UID:10028641-1783036800-1783123199@tcheklian-notaires.fr
SUMMARY:Открыто
DESCRIPTION:
URL:https://tcheklian-notaires.fr/event/%d0%be%d1%82%d0%ba%d1%80%d1%8b%d1%82%d0%be/2026-07-03/
END:VEVENT
BEGIN:VEVENT
DTSTART;VALUE=DATE:20260704
DTEND;VALUE=DATE:20260705
DTSTAMP:20260420T215458
CREATED:20240125T095244Z
LAST-MODIFIED:20240125T095244Z
UID:10028642-1783123200-1783209599@tcheklian-notaires.fr
SUMMARY:Открыто
DESCRIPTION:
URL:https://tcheklian-notaires.fr/event/%d0%be%d1%82%d0%ba%d1%80%d1%8b%d1%82%d0%be/2026-07-04/
END:VEVENT
BEGIN:VEVENT
DTSTART;VALUE=DATE:20260705
DTEND;VALUE=DATE:20260706
DTSTAMP:20260420T215458
CREATED:20240125T095604Z
LAST-MODIFIED:20240125T095604Z
UID:10031694-1783209600-1783295999@tcheklian-notaires.fr
SUMMARY:Закрыто
DESCRIPTION:
URL:https://tcheklian-notaires.fr/event/%d0%b7%d0%b0%d0%ba%d1%80%d1%8b%d1%82%d0%be/2026-07-05/
END:VEVENT
BEGIN:VEVENT
DTSTART;VALUE=DATE:20260706
DTEND;VALUE=DATE:20260707
DTSTAMP:20260420T215458
CREATED:20240125T095244Z
LAST-MODIFIED:20240125T095244Z
UID:10028643-1783296000-1783382399@tcheklian-notaires.fr
SUMMARY:Открыто
DESCRIPTION:
URL:https://tcheklian-notaires.fr/event/%d0%be%d1%82%d0%ba%d1%80%d1%8b%d1%82%d0%be/2026-07-06/
END:VEVENT
BEGIN:VEVENT
DTSTART;VALUE=DATE:20260707
DTEND;VALUE=DATE:20260708
DTSTAMP:20260420T215458
CREATED:20240125T095244Z
LAST-MODIFIED:20240125T095244Z
UID:10028644-1783382400-1783468799@tcheklian-notaires.fr
SUMMARY:Открыто
DESCRIPTION:
URL:https://tcheklian-notaires.fr/event/%d0%be%d1%82%d0%ba%d1%80%d1%8b%d1%82%d0%be/2026-07-07/
END:VEVENT
BEGIN:VEVENT
DTSTART;VALUE=DATE:20260708
DTEND;VALUE=DATE:20260709
DTSTAMP:20260420T215458
CREATED:20240125T095244Z
LAST-MODIFIED:20240125T095244Z
UID:10028645-1783468800-1783555199@tcheklian-notaires.fr
SUMMARY:Открыто
DESCRIPTION:
URL:https://tcheklian-notaires.fr/event/%d0%be%d1%82%d0%ba%d1%80%d1%8b%d1%82%d0%be/2026-07-08/
END:VEVENT
BEGIN:VEVENT
DTSTART;VALUE=DATE:20260709
DTEND;VALUE=DATE:20260710
DTSTAMP:20260420T215458
CREATED:20240125T095244Z
LAST-MODIFIED:20240125T095244Z
UID:10028646-1783555200-1783641599@tcheklian-notaires.fr
SUMMARY:Открыто
DESCRIPTION:
URL:https://tcheklian-notaires.fr/event/%d0%be%d1%82%d0%ba%d1%80%d1%8b%d1%82%d0%be/2026-07-09/
END:VEVENT
BEGIN:VEVENT
DTSTART;VALUE=DATE:20260710
DTEND;VALUE=DATE:20260711
DTSTAMP:20260420T215458
CREATED:20240125T095244Z
LAST-MODIFIED:20240125T095244Z
UID:10028647-1783641600-1783727999@tcheklian-notaires.fr
SUMMARY:Открыто
DESCRIPTION:
URL:https://tcheklian-notaires.fr/event/%d0%be%d1%82%d0%ba%d1%80%d1%8b%d1%82%d0%be/2026-07-10/
END:VEVENT
BEGIN:VEVENT
DTSTART;VALUE=DATE:20260711
DTEND;VALUE=DATE:20260712
DTSTAMP:20260420T215458
CREATED:20240125T095244Z
LAST-MODIFIED:20240125T095244Z
UID:10028648-1783728000-1783814399@tcheklian-notaires.fr
SUMMARY:Открыто
DESCRIPTION:
URL:https://tcheklian-notaires.fr/event/%d0%be%d1%82%d0%ba%d1%80%d1%8b%d1%82%d0%be/2026-07-11/
END:VEVENT
BEGIN:VEVENT
DTSTART;VALUE=DATE:20260712
DTEND;VALUE=DATE:20260713
DTSTAMP:20260420T215458
CREATED:20240125T095604Z
LAST-MODIFIED:20240125T095604Z
UID:10031695-1783814400-1783900799@tcheklian-notaires.fr
SUMMARY:Закрыто
DESCRIPTION:
URL:https://tcheklian-notaires.fr/event/%d0%b7%d0%b0%d0%ba%d1%80%d1%8b%d1%82%d0%be/2026-07-12/
END:VEVENT
BEGIN:VEVENT
DTSTART;VALUE=DATE:20260713
DTEND;VALUE=DATE:20260714
DTSTAMP:20260420T215458
CREATED:20240125T095244Z
LAST-MODIFIED:20240125T095244Z
UID:10028649-1783900800-1783987199@tcheklian-notaires.fr
SUMMARY:Открыто
DESCRIPTION:
URL:https://tcheklian-notaires.fr/event/%d0%be%d1%82%d0%ba%d1%80%d1%8b%d1%82%d0%be/2026-07-13/
END:VEVENT
BEGIN:VEVENT
DTSTART;VALUE=DATE:20260714
DTEND;VALUE=DATE:20260715
DTSTAMP:20260420T215458
CREATED:20240125T095244Z
LAST-MODIFIED:20240125T095244Z
UID:10028650-1783987200-1784073599@tcheklian-notaires.fr
SUMMARY:Открыто
DESCRIPTION:
URL:https://tcheklian-notaires.fr/event/%d0%be%d1%82%d0%ba%d1%80%d1%8b%d1%82%d0%be/2026-07-14/
END:VEVENT
BEGIN:VEVENT
DTSTART;VALUE=DATE:20260715
DTEND;VALUE=DATE:20260716
DTSTAMP:20260420T215458
CREATED:20240125T095244Z
LAST-MODIFIED:20240125T095244Z
UID:10028651-1784073600-1784159999@tcheklian-notaires.fr
SUMMARY:Открыто
DESCRIPTION:
URL:https://tcheklian-notaires.fr/event/%d0%be%d1%82%d0%ba%d1%80%d1%8b%d1%82%d0%be/2026-07-15/
END:VEVENT
BEGIN:VEVENT
DTSTART;VALUE=DATE:20260716
DTEND;VALUE=DATE:20260717
DTSTAMP:20260420T215458
CREATED:20240125T095244Z
LAST-MODIFIED:20240125T095244Z
UID:10028652-1784160000-1784246399@tcheklian-notaires.fr
SUMMARY:Открыто
DESCRIPTION:
URL:https://tcheklian-notaires.fr/event/%d0%be%d1%82%d0%ba%d1%80%d1%8b%d1%82%d0%be/2026-07-16/
END:VEVENT
BEGIN:VEVENT
DTSTART;VALUE=DATE:20260717
DTEND;VALUE=DATE:20260718
DTSTAMP:20260420T215458
CREATED:20240125T095244Z
LAST-MODIFIED:20240125T095244Z
UID:10028653-1784246400-1784332799@tcheklian-notaires.fr
SUMMARY:Открыто
DESCRIPTION:
URL:https://tcheklian-notaires.fr/event/%d0%be%d1%82%d0%ba%d1%80%d1%8b%d1%82%d0%be/2026-07-17/
END:VEVENT
BEGIN:VEVENT
DTSTART;VALUE=DATE:20260718
DTEND;VALUE=DATE:20260719
DTSTAMP:20260420T215458
CREATED:20240125T095244Z
LAST-MODIFIED:20240125T095244Z
UID:10028654-1784332800-1784419199@tcheklian-notaires.fr
SUMMARY:Открыто
DESCRIPTION:
URL:https://tcheklian-notaires.fr/event/%d0%be%d1%82%d0%ba%d1%80%d1%8b%d1%82%d0%be/2026-07-18/
END:VEVENT
BEGIN:VEVENT
DTSTART;VALUE=DATE:20260719
DTEND;VALUE=DATE:20260720
DTSTAMP:20260420T215458
CREATED:20240125T095604Z
LAST-MODIFIED:20240125T095604Z
UID:10031696-1784419200-1784505599@tcheklian-notaires.fr
SUMMARY:Закрыто
DESCRIPTION:
URL:https://tcheklian-notaires.fr/event/%d0%b7%d0%b0%d0%ba%d1%80%d1%8b%d1%82%d0%be/2026-07-19/
END:VEVENT
BEGIN:VEVENT
DTSTART;VALUE=DATE:20260720
DTEND;VALUE=DATE:20260721
DTSTAMP:20260420T215458
CREATED:20240125T095244Z
LAST-MODIFIED:20240125T095244Z
UID:10028655-1784505600-1784591999@tcheklian-notaires.fr
SUMMARY:Открыто
DESCRIPTION:
URL:https://tcheklian-notaires.fr/event/%d0%be%d1%82%d0%ba%d1%80%d1%8b%d1%82%d0%be/2026-07-20/
END:VEVENT
BEGIN:VEVENT
DTSTART;VALUE=DATE:20260721
DTEND;VALUE=DATE:20260722
DTSTAMP:20260420T215458
CREATED:20240125T095244Z
LAST-MODIFIED:20240125T095244Z
UID:10028656-1784592000-1784678399@tcheklian-notaires.fr
SUMMARY:Открыто
DESCRIPTION:
URL:https://tcheklian-notaires.fr/event/%d0%be%d1%82%d0%ba%d1%80%d1%8b%d1%82%d0%be/2026-07-21/
END:VEVENT
BEGIN:VEVENT
DTSTART;VALUE=DATE:20260722
DTEND;VALUE=DATE:20260723
DTSTAMP:20260420T215458
CREATED:20240125T095244Z
LAST-MODIFIED:20240125T095244Z
UID:10028657-1784678400-1784764799@tcheklian-notaires.fr
SUMMARY:Открыто
DESCRIPTION:
URL:https://tcheklian-notaires.fr/event/%d0%be%d1%82%d0%ba%d1%80%d1%8b%d1%82%d0%be/2026-07-22/
END:VEVENT
END:VCALENDAR