BEGIN:VCALENDAR
VERSION:2.0
PRODID:-//TCHEKLIAN - ECPv6.2.9//NONSGML v1.0//EN
CALSCALE:GREGORIAN
METHOD:PUBLISH
X-WR-CALNAME:TCHEKLIAN
X-ORIGINAL-URL:https://tcheklian-notaires.fr
X-WR-CALDESC:Мероприятия для TCHEKLIAN
REFRESH-INTERVAL;VALUE=DURATION:PT1H
X-Robots-Tag:noindex
X-PUBLISHED-TTL:PT1H
BEGIN:VTIMEZONE
TZID:UTC
BEGIN:STANDARD
TZOFFSETFROM:+0000
TZOFFSETTO:+0000
TZNAME:UTC
DTSTART:20260101T000000
END:STANDARD
END:VTIMEZONE
BEGIN:VEVENT
DTSTART;VALUE=DATE:20261120
DTEND;VALUE=DATE:20261121
DTSTAMP:20260422T002521
CREATED:20240125T095244Z
LAST-MODIFIED:20240125T095244Z
UID:10028761-1795132800-1795219199@tcheklian-notaires.fr
SUMMARY:Открыто
DESCRIPTION:
URL:https://tcheklian-notaires.fr/event/%d0%be%d1%82%d0%ba%d1%80%d1%8b%d1%82%d0%be/2026-11-20/
END:VEVENT
BEGIN:VEVENT
DTSTART;VALUE=DATE:20261121
DTEND;VALUE=DATE:20261122
DTSTAMP:20260422T002521
CREATED:20240125T095244Z
LAST-MODIFIED:20240125T095244Z
UID:10028762-1795219200-1795305599@tcheklian-notaires.fr
SUMMARY:Открыто
DESCRIPTION:
URL:https://tcheklian-notaires.fr/event/%d0%be%d1%82%d0%ba%d1%80%d1%8b%d1%82%d0%be/2026-11-21/
END:VEVENT
BEGIN:VEVENT
DTSTART;VALUE=DATE:20261122
DTEND;VALUE=DATE:20261123
DTSTAMP:20260422T002521
CREATED:20240125T095604Z
LAST-MODIFIED:20240125T095604Z
UID:10031714-1795305600-1795391999@tcheklian-notaires.fr
SUMMARY:Закрыто
DESCRIPTION:
URL:https://tcheklian-notaires.fr/event/%d0%b7%d0%b0%d0%ba%d1%80%d1%8b%d1%82%d0%be/2026-11-22/
END:VEVENT
BEGIN:VEVENT
DTSTART;VALUE=DATE:20261123
DTEND;VALUE=DATE:20261124
DTSTAMP:20260422T002521
CREATED:20240125T095244Z
LAST-MODIFIED:20240125T095244Z
UID:10028763-1795392000-1795478399@tcheklian-notaires.fr
SUMMARY:Открыто
DESCRIPTION:
URL:https://tcheklian-notaires.fr/event/%d0%be%d1%82%d0%ba%d1%80%d1%8b%d1%82%d0%be/2026-11-23/
END:VEVENT
BEGIN:VEVENT
DTSTART;VALUE=DATE:20261124
DTEND;VALUE=DATE:20261125
DTSTAMP:20260422T002521
CREATED:20240125T095244Z
LAST-MODIFIED:20240125T095244Z
UID:10028764-1795478400-1795564799@tcheklian-notaires.fr
SUMMARY:Открыто
DESCRIPTION:
URL:https://tcheklian-notaires.fr/event/%d0%be%d1%82%d0%ba%d1%80%d1%8b%d1%82%d0%be/2026-11-24/
END:VEVENT
BEGIN:VEVENT
DTSTART;VALUE=DATE:20261125
DTEND;VALUE=DATE:20261126
DTSTAMP:20260422T002521
CREATED:20240125T095244Z
LAST-MODIFIED:20240125T095244Z
UID:10028765-1795564800-1795651199@tcheklian-notaires.fr
SUMMARY:Открыто
DESCRIPTION:
URL:https://tcheklian-notaires.fr/event/%d0%be%d1%82%d0%ba%d1%80%d1%8b%d1%82%d0%be/2026-11-25/
END:VEVENT
BEGIN:VEVENT
DTSTART;VALUE=DATE:20261126
DTEND;VALUE=DATE:20261127
DTSTAMP:20260422T002521
CREATED:20240125T095244Z
LAST-MODIFIED:20240125T095244Z
UID:10028766-1795651200-1795737599@tcheklian-notaires.fr
SUMMARY:Открыто
DESCRIPTION:
URL:https://tcheklian-notaires.fr/event/%d0%be%d1%82%d0%ba%d1%80%d1%8b%d1%82%d0%be/2026-11-26/
END:VEVENT
BEGIN:VEVENT
DTSTART;VALUE=DATE:20261127
DTEND;VALUE=DATE:20261128
DTSTAMP:20260422T002521
CREATED:20240125T095244Z
LAST-MODIFIED:20240125T095244Z
UID:10028767-1795737600-1795823999@tcheklian-notaires.fr
SUMMARY:Открыто
DESCRIPTION:
URL:https://tcheklian-notaires.fr/event/%d0%be%d1%82%d0%ba%d1%80%d1%8b%d1%82%d0%be/2026-11-27/
END:VEVENT
BEGIN:VEVENT
DTSTART;VALUE=DATE:20261128
DTEND;VALUE=DATE:20261129
DTSTAMP:20260422T002521
CREATED:20240125T095244Z
LAST-MODIFIED:20240125T095244Z
UID:10028768-1795824000-1795910399@tcheklian-notaires.fr
SUMMARY:Открыто
DESCRIPTION:
URL:https://tcheklian-notaires.fr/event/%d0%be%d1%82%d0%ba%d1%80%d1%8b%d1%82%d0%be/2026-11-28/
END:VEVENT
BEGIN:VEVENT
DTSTART;VALUE=DATE:20261129
DTEND;VALUE=DATE:20261130
DTSTAMP:20260422T002521
CREATED:20240125T095604Z
LAST-MODIFIED:20240125T095604Z
UID:10031715-1795910400-1795996799@tcheklian-notaires.fr
SUMMARY:Закрыто
DESCRIPTION:
URL:https://tcheklian-notaires.fr/event/%d0%b7%d0%b0%d0%ba%d1%80%d1%8b%d1%82%d0%be/2026-11-29/
END:VEVENT
BEGIN:VEVENT
DTSTART;VALUE=DATE:20261130
DTEND;VALUE=DATE:20261201
DTSTAMP:20260422T002521
CREATED:20240125T095244Z
LAST-MODIFIED:20240125T095244Z
UID:10028769-1795996800-1796083199@tcheklian-notaires.fr
SUMMARY:Открыто
DESCRIPTION:
URL:https://tcheklian-notaires.fr/event/%d0%be%d1%82%d0%ba%d1%80%d1%8b%d1%82%d0%be/2026-11-30/
END:VEVENT
BEGIN:VEVENT
DTSTART;VALUE=DATE:20261201
DTEND;VALUE=DATE:20261202
DTSTAMP:20260422T002521
CREATED:20240125T095244Z
LAST-MODIFIED:20240125T095244Z
UID:10028770-1796083200-1796169599@tcheklian-notaires.fr
SUMMARY:Открыто
DESCRIPTION:
URL:https://tcheklian-notaires.fr/event/%d0%be%d1%82%d0%ba%d1%80%d1%8b%d1%82%d0%be/2026-12-01/
END:VEVENT
BEGIN:VEVENT
DTSTART;VALUE=DATE:20261202
DTEND;VALUE=DATE:20261203
DTSTAMP:20260422T002521
CREATED:20240125T095244Z
LAST-MODIFIED:20240125T095244Z
UID:10028771-1796169600-1796255999@tcheklian-notaires.fr
SUMMARY:Открыто
DESCRIPTION:
URL:https://tcheklian-notaires.fr/event/%d0%be%d1%82%d0%ba%d1%80%d1%8b%d1%82%d0%be/2026-12-02/
END:VEVENT
BEGIN:VEVENT
DTSTART;VALUE=DATE:20261203
DTEND;VALUE=DATE:20261204
DTSTAMP:20260422T002521
CREATED:20240125T095244Z
LAST-MODIFIED:20240125T095244Z
UID:10028772-1796256000-1796342399@tcheklian-notaires.fr
SUMMARY:Открыто
DESCRIPTION:
URL:https://tcheklian-notaires.fr/event/%d0%be%d1%82%d0%ba%d1%80%d1%8b%d1%82%d0%be/2026-12-03/
END:VEVENT
BEGIN:VEVENT
DTSTART;VALUE=DATE:20261204
DTEND;VALUE=DATE:20261205
DTSTAMP:20260422T002521
CREATED:20240125T095244Z
LAST-MODIFIED:20240125T095244Z
UID:10028773-1796342400-1796428799@tcheklian-notaires.fr
SUMMARY:Открыто
DESCRIPTION:
URL:https://tcheklian-notaires.fr/event/%d0%be%d1%82%d0%ba%d1%80%d1%8b%d1%82%d0%be/2026-12-04/
END:VEVENT
BEGIN:VEVENT
DTSTART;VALUE=DATE:20261205
DTEND;VALUE=DATE:20261206
DTSTAMP:20260422T002521
CREATED:20240125T095244Z
LAST-MODIFIED:20240125T095244Z
UID:10028774-1796428800-1796515199@tcheklian-notaires.fr
SUMMARY:Открыто
DESCRIPTION:
URL:https://tcheklian-notaires.fr/event/%d0%be%d1%82%d0%ba%d1%80%d1%8b%d1%82%d0%be/2026-12-05/
END:VEVENT
BEGIN:VEVENT
DTSTART;VALUE=DATE:20261206
DTEND;VALUE=DATE:20261207
DTSTAMP:20260422T002521
CREATED:20240125T095604Z
LAST-MODIFIED:20240125T095604Z
UID:10031716-1796515200-1796601599@tcheklian-notaires.fr
SUMMARY:Закрыто
DESCRIPTION:
URL:https://tcheklian-notaires.fr/event/%d0%b7%d0%b0%d0%ba%d1%80%d1%8b%d1%82%d0%be/2026-12-06/
END:VEVENT
BEGIN:VEVENT
DTSTART;VALUE=DATE:20261207
DTEND;VALUE=DATE:20261208
DTSTAMP:20260422T002521
CREATED:20240125T095244Z
LAST-MODIFIED:20240125T095244Z
UID:10028775-1796601600-1796687999@tcheklian-notaires.fr
SUMMARY:Открыто
DESCRIPTION:
URL:https://tcheklian-notaires.fr/event/%d0%be%d1%82%d0%ba%d1%80%d1%8b%d1%82%d0%be/2026-12-07/
END:VEVENT
BEGIN:VEVENT
DTSTART;VALUE=DATE:20261208
DTEND;VALUE=DATE:20261209
DTSTAMP:20260422T002521
CREATED:20240125T095244Z
LAST-MODIFIED:20240125T095244Z
UID:10028776-1796688000-1796774399@tcheklian-notaires.fr
SUMMARY:Открыто
DESCRIPTION:
URL:https://tcheklian-notaires.fr/event/%d0%be%d1%82%d0%ba%d1%80%d1%8b%d1%82%d0%be/2026-12-08/
END:VEVENT
BEGIN:VEVENT
DTSTART;VALUE=DATE:20261209
DTEND;VALUE=DATE:20261210
DTSTAMP:20260422T002521
CREATED:20240125T095244Z
LAST-MODIFIED:20240125T095244Z
UID:10028777-1796774400-1796860799@tcheklian-notaires.fr
SUMMARY:Открыто
DESCRIPTION:
URL:https://tcheklian-notaires.fr/event/%d0%be%d1%82%d0%ba%d1%80%d1%8b%d1%82%d0%be/2026-12-09/
END:VEVENT
BEGIN:VEVENT
DTSTART;VALUE=DATE:20261210
DTEND;VALUE=DATE:20261211
DTSTAMP:20260422T002521
CREATED:20240125T095244Z
LAST-MODIFIED:20240125T095244Z
UID:10028778-1796860800-1796947199@tcheklian-notaires.fr
SUMMARY:Открыто
DESCRIPTION:
URL:https://tcheklian-notaires.fr/event/%d0%be%d1%82%d0%ba%d1%80%d1%8b%d1%82%d0%be/2026-12-10/
END:VEVENT
BEGIN:VEVENT
DTSTART;VALUE=DATE:20261211
DTEND;VALUE=DATE:20261212
DTSTAMP:20260422T002521
CREATED:20240125T095244Z
LAST-MODIFIED:20240125T095244Z
UID:10028779-1796947200-1797033599@tcheklian-notaires.fr
SUMMARY:Открыто
DESCRIPTION:
URL:https://tcheklian-notaires.fr/event/%d0%be%d1%82%d0%ba%d1%80%d1%8b%d1%82%d0%be/2026-12-11/
END:VEVENT
BEGIN:VEVENT
DTSTART;VALUE=DATE:20261212
DTEND;VALUE=DATE:20261213
DTSTAMP:20260422T002521
CREATED:20240125T095244Z
LAST-MODIFIED:20240125T095244Z
UID:10028780-1797033600-1797119999@tcheklian-notaires.fr
SUMMARY:Открыто
DESCRIPTION:
URL:https://tcheklian-notaires.fr/event/%d0%be%d1%82%d0%ba%d1%80%d1%8b%d1%82%d0%be/2026-12-12/
END:VEVENT
BEGIN:VEVENT
DTSTART;VALUE=DATE:20261213
DTEND;VALUE=DATE:20261214
DTSTAMP:20260422T002521
CREATED:20240125T095604Z
LAST-MODIFIED:20240125T095604Z
UID:10031717-1797120000-1797206399@tcheklian-notaires.fr
SUMMARY:Закрыто
DESCRIPTION:
URL:https://tcheklian-notaires.fr/event/%d0%b7%d0%b0%d0%ba%d1%80%d1%8b%d1%82%d0%be/2026-12-13/
END:VEVENT
BEGIN:VEVENT
DTSTART;VALUE=DATE:20261214
DTEND;VALUE=DATE:20261215
DTSTAMP:20260422T002521
CREATED:20240125T095244Z
LAST-MODIFIED:20240125T095244Z
UID:10028781-1797206400-1797292799@tcheklian-notaires.fr
SUMMARY:Открыто
DESCRIPTION:
URL:https://tcheklian-notaires.fr/event/%d0%be%d1%82%d0%ba%d1%80%d1%8b%d1%82%d0%be/2026-12-14/
END:VEVENT
BEGIN:VEVENT
DTSTART;VALUE=DATE:20261215
DTEND;VALUE=DATE:20261216
DTSTAMP:20260422T002521
CREATED:20240125T095244Z
LAST-MODIFIED:20240125T095244Z
UID:10028782-1797292800-1797379199@tcheklian-notaires.fr
SUMMARY:Открыто
DESCRIPTION:
URL:https://tcheklian-notaires.fr/event/%d0%be%d1%82%d0%ba%d1%80%d1%8b%d1%82%d0%be/2026-12-15/
END:VEVENT
BEGIN:VEVENT
DTSTART;VALUE=DATE:20261216
DTEND;VALUE=DATE:20261217
DTSTAMP:20260422T002521
CREATED:20240125T095244Z
LAST-MODIFIED:20240125T095244Z
UID:10028783-1797379200-1797465599@tcheklian-notaires.fr
SUMMARY:Открыто
DESCRIPTION:
URL:https://tcheklian-notaires.fr/event/%d0%be%d1%82%d0%ba%d1%80%d1%8b%d1%82%d0%be/2026-12-16/
END:VEVENT
BEGIN:VEVENT
DTSTART;VALUE=DATE:20261217
DTEND;VALUE=DATE:20261218
DTSTAMP:20260422T002521
CREATED:20240125T095244Z
LAST-MODIFIED:20240125T095244Z
UID:10028784-1797465600-1797551999@tcheklian-notaires.fr
SUMMARY:Открыто
DESCRIPTION:
URL:https://tcheklian-notaires.fr/event/%d0%be%d1%82%d0%ba%d1%80%d1%8b%d1%82%d0%be/2026-12-17/
END:VEVENT
BEGIN:VEVENT
DTSTART;VALUE=DATE:20261218
DTEND;VALUE=DATE:20261219
DTSTAMP:20260422T002521
CREATED:20240125T095244Z
LAST-MODIFIED:20240125T095244Z
UID:10028785-1797552000-1797638399@tcheklian-notaires.fr
SUMMARY:Открыто
DESCRIPTION:
URL:https://tcheklian-notaires.fr/event/%d0%be%d1%82%d0%ba%d1%80%d1%8b%d1%82%d0%be/2026-12-18/
END:VEVENT
BEGIN:VEVENT
DTSTART;VALUE=DATE:20261219
DTEND;VALUE=DATE:20261220
DTSTAMP:20260422T002521
CREATED:20240125T095244Z
LAST-MODIFIED:20240125T095244Z
UID:10028786-1797638400-1797724799@tcheklian-notaires.fr
SUMMARY:Открыто
DESCRIPTION:
URL:https://tcheklian-notaires.fr/event/%d0%be%d1%82%d0%ba%d1%80%d1%8b%d1%82%d0%be/2026-12-19/
END:VEVENT
END:VCALENDAR