BEGIN:VCALENDAR
VERSION:2.0
PRODID:-//TCHEKLIAN - ECPv6.2.9//NONSGML v1.0//EN
CALSCALE:GREGORIAN
METHOD:PUBLISH
X-ORIGINAL-URL:https://tcheklian-notaires.fr
X-WR-CALDESC:TCHEKLIAN的活动
REFRESH-INTERVAL;VALUE=DURATION:PT1H
X-Robots-Tag:noindex
X-PUBLISHED-TTL:PT1H
BEGIN:VTIMEZONE
TZID:UTC
BEGIN:STANDARD
TZOFFSETFROM:+0000
TZOFFSETTO:+0000
TZNAME:UTC
DTSTART:20260101T000000
END:STANDARD
END:VTIMEZONE
BEGIN:VEVENT
DTSTART;VALUE=DATE:20260716
DTEND;VALUE=DATE:20260717
DTSTAMP:20260420T045136
CREATED:20240125T095335Z
LAST-MODIFIED:20240125T095335Z
UID:10030240-1784160000-1784246399@tcheklian-notaires.fr
SUMMARY:办公时间
DESCRIPTION:
URL:https://tcheklian-notaires.fr/event/%e5%8a%9e%e5%85%ac%e6%97%b6%e9%97%b4/2026-07-16/
END:VEVENT
BEGIN:VEVENT
DTSTART;VALUE=DATE:20260717
DTEND;VALUE=DATE:20260718
DTSTAMP:20260420T045136
CREATED:20240125T095335Z
LAST-MODIFIED:20240125T095335Z
UID:10030241-1784246400-1784332799@tcheklian-notaires.fr
SUMMARY:办公时间
DESCRIPTION:
URL:https://tcheklian-notaires.fr/event/%e5%8a%9e%e5%85%ac%e6%97%b6%e9%97%b4/2026-07-17/
END:VEVENT
BEGIN:VEVENT
DTSTART;VALUE=DATE:20260718
DTEND;VALUE=DATE:20260719
DTSTAMP:20260420T045136
CREATED:20240125T095335Z
LAST-MODIFIED:20240125T095335Z
UID:10030242-1784332800-1784419199@tcheklian-notaires.fr
SUMMARY:办公时间
DESCRIPTION:
URL:https://tcheklian-notaires.fr/event/%e5%8a%9e%e5%85%ac%e6%97%b6%e9%97%b4/2026-07-18/
END:VEVENT
BEGIN:VEVENT
DTSTART;VALUE=DATE:20260719
DTEND;VALUE=DATE:20260720
DTSTAMP:20260420T045136
CREATED:20240125T095649Z
LAST-MODIFIED:20240125T095649Z
UID:10031961-1784419200-1784505599@tcheklian-notaires.fr
SUMMARY:休息
DESCRIPTION:
URL:https://tcheklian-notaires.fr/event/%e4%bc%91%e6%81%af/2026-07-19/
END:VEVENT
BEGIN:VEVENT
DTSTART;VALUE=DATE:20260720
DTEND;VALUE=DATE:20260721
DTSTAMP:20260420T045136
CREATED:20240125T095335Z
LAST-MODIFIED:20240125T095335Z
UID:10030243-1784505600-1784591999@tcheklian-notaires.fr
SUMMARY:办公时间
DESCRIPTION:
URL:https://tcheklian-notaires.fr/event/%e5%8a%9e%e5%85%ac%e6%97%b6%e9%97%b4/2026-07-20/
END:VEVENT
BEGIN:VEVENT
DTSTART;VALUE=DATE:20260721
DTEND;VALUE=DATE:20260722
DTSTAMP:20260420T045136
CREATED:20240125T095335Z
LAST-MODIFIED:20240125T095335Z
UID:10030244-1784592000-1784678399@tcheklian-notaires.fr
SUMMARY:办公时间
DESCRIPTION:
URL:https://tcheklian-notaires.fr/event/%e5%8a%9e%e5%85%ac%e6%97%b6%e9%97%b4/2026-07-21/
END:VEVENT
BEGIN:VEVENT
DTSTART;VALUE=DATE:20260722
DTEND;VALUE=DATE:20260723
DTSTAMP:20260420T045136
CREATED:20240125T095335Z
LAST-MODIFIED:20240125T095335Z
UID:10030245-1784678400-1784764799@tcheklian-notaires.fr
SUMMARY:办公时间
DESCRIPTION:
URL:https://tcheklian-notaires.fr/event/%e5%8a%9e%e5%85%ac%e6%97%b6%e9%97%b4/2026-07-22/
END:VEVENT
BEGIN:VEVENT
DTSTART;VALUE=DATE:20260723
DTEND;VALUE=DATE:20260724
DTSTAMP:20260420T045137
CREATED:20240125T095335Z
LAST-MODIFIED:20240125T095335Z
UID:10030246-1784764800-1784851199@tcheklian-notaires.fr
SUMMARY:办公时间
DESCRIPTION:
URL:https://tcheklian-notaires.fr/event/%e5%8a%9e%e5%85%ac%e6%97%b6%e9%97%b4/2026-07-23/
END:VEVENT
BEGIN:VEVENT
DTSTART;VALUE=DATE:20260724
DTEND;VALUE=DATE:20260725
DTSTAMP:20260420T045137
CREATED:20240125T095335Z
LAST-MODIFIED:20240125T095335Z
UID:10030247-1784851200-1784937599@tcheklian-notaires.fr
SUMMARY:办公时间
DESCRIPTION:
URL:https://tcheklian-notaires.fr/event/%e5%8a%9e%e5%85%ac%e6%97%b6%e9%97%b4/2026-07-24/
END:VEVENT
BEGIN:VEVENT
DTSTART;VALUE=DATE:20260725
DTEND;VALUE=DATE:20260726
DTSTAMP:20260420T045137
CREATED:20240125T095335Z
LAST-MODIFIED:20240125T095335Z
UID:10030248-1784937600-1785023999@tcheklian-notaires.fr
SUMMARY:办公时间
DESCRIPTION:
URL:https://tcheklian-notaires.fr/event/%e5%8a%9e%e5%85%ac%e6%97%b6%e9%97%b4/2026-07-25/
END:VEVENT
BEGIN:VEVENT
DTSTART;VALUE=DATE:20260726
DTEND;VALUE=DATE:20260727
DTSTAMP:20260420T045137
CREATED:20240125T095649Z
LAST-MODIFIED:20240125T095649Z
UID:10031962-1785024000-1785110399@tcheklian-notaires.fr
SUMMARY:休息
DESCRIPTION:
URL:https://tcheklian-notaires.fr/event/%e4%bc%91%e6%81%af/2026-07-26/
END:VEVENT
BEGIN:VEVENT
DTSTART;VALUE=DATE:20260727
DTEND;VALUE=DATE:20260728
DTSTAMP:20260420T045137
CREATED:20240125T095335Z
LAST-MODIFIED:20240125T095335Z
UID:10030249-1785110400-1785196799@tcheklian-notaires.fr
SUMMARY:办公时间
DESCRIPTION:
URL:https://tcheklian-notaires.fr/event/%e5%8a%9e%e5%85%ac%e6%97%b6%e9%97%b4/2026-07-27/
END:VEVENT
BEGIN:VEVENT
DTSTART;VALUE=DATE:20260728
DTEND;VALUE=DATE:20260729
DTSTAMP:20260420T045137
CREATED:20240125T095335Z
LAST-MODIFIED:20240125T095335Z
UID:10030250-1785196800-1785283199@tcheklian-notaires.fr
SUMMARY:办公时间
DESCRIPTION:
URL:https://tcheklian-notaires.fr/event/%e5%8a%9e%e5%85%ac%e6%97%b6%e9%97%b4/2026-07-28/
END:VEVENT
BEGIN:VEVENT
DTSTART;VALUE=DATE:20260729
DTEND;VALUE=DATE:20260730
DTSTAMP:20260420T045137
CREATED:20240125T095335Z
LAST-MODIFIED:20240125T095335Z
UID:10030251-1785283200-1785369599@tcheklian-notaires.fr
SUMMARY:办公时间
DESCRIPTION:
URL:https://tcheklian-notaires.fr/event/%e5%8a%9e%e5%85%ac%e6%97%b6%e9%97%b4/2026-07-29/
END:VEVENT
BEGIN:VEVENT
DTSTART;VALUE=DATE:20260730
DTEND;VALUE=DATE:20260731
DTSTAMP:20260420T045137
CREATED:20240125T095335Z
LAST-MODIFIED:20240125T095335Z
UID:10030252-1785369600-1785455999@tcheklian-notaires.fr
SUMMARY:办公时间
DESCRIPTION:
URL:https://tcheklian-notaires.fr/event/%e5%8a%9e%e5%85%ac%e6%97%b6%e9%97%b4/2026-07-30/
END:VEVENT
BEGIN:VEVENT
DTSTART;VALUE=DATE:20260731
DTEND;VALUE=DATE:20260801
DTSTAMP:20260420T045137
CREATED:20240125T095335Z
LAST-MODIFIED:20240125T095335Z
UID:10030253-1785456000-1785542399@tcheklian-notaires.fr
SUMMARY:办公时间
DESCRIPTION:
URL:https://tcheklian-notaires.fr/event/%e5%8a%9e%e5%85%ac%e6%97%b6%e9%97%b4/2026-07-31/
END:VEVENT
BEGIN:VEVENT
DTSTART;VALUE=DATE:20260801
DTEND;VALUE=DATE:20260802
DTSTAMP:20260420T045137
CREATED:20240125T095335Z
LAST-MODIFIED:20240125T095335Z
UID:10030254-1785542400-1785628799@tcheklian-notaires.fr
SUMMARY:办公时间
DESCRIPTION:
URL:https://tcheklian-notaires.fr/event/%e5%8a%9e%e5%85%ac%e6%97%b6%e9%97%b4/2026-08-01/
END:VEVENT
BEGIN:VEVENT
DTSTART;VALUE=DATE:20260802
DTEND;VALUE=DATE:20260803
DTSTAMP:20260420T045137
CREATED:20240125T095649Z
LAST-MODIFIED:20240125T095649Z
UID:10031963-1785628800-1785715199@tcheklian-notaires.fr
SUMMARY:休息
DESCRIPTION:
URL:https://tcheklian-notaires.fr/event/%e4%bc%91%e6%81%af/2026-08-02/
END:VEVENT
BEGIN:VEVENT
DTSTART;VALUE=DATE:20260803
DTEND;VALUE=DATE:20260804
DTSTAMP:20260420T045137
CREATED:20240125T095335Z
LAST-MODIFIED:20240125T095335Z
UID:10030255-1785715200-1785801599@tcheklian-notaires.fr
SUMMARY:办公时间
DESCRIPTION:
URL:https://tcheklian-notaires.fr/event/%e5%8a%9e%e5%85%ac%e6%97%b6%e9%97%b4/2026-08-03/
END:VEVENT
BEGIN:VEVENT
DTSTART;VALUE=DATE:20260804
DTEND;VALUE=DATE:20260805
DTSTAMP:20260420T045137
CREATED:20240125T095335Z
LAST-MODIFIED:20240125T095335Z
UID:10030256-1785801600-1785887999@tcheklian-notaires.fr
SUMMARY:办公时间
DESCRIPTION:
URL:https://tcheklian-notaires.fr/event/%e5%8a%9e%e5%85%ac%e6%97%b6%e9%97%b4/2026-08-04/
END:VEVENT
BEGIN:VEVENT
DTSTART;VALUE=DATE:20260805
DTEND;VALUE=DATE:20260806
DTSTAMP:20260420T045137
CREATED:20240125T095335Z
LAST-MODIFIED:20240125T095335Z
UID:10030257-1785888000-1785974399@tcheklian-notaires.fr
SUMMARY:办公时间
DESCRIPTION:
URL:https://tcheklian-notaires.fr/event/%e5%8a%9e%e5%85%ac%e6%97%b6%e9%97%b4/2026-08-05/
END:VEVENT
BEGIN:VEVENT
DTSTART;VALUE=DATE:20260806
DTEND;VALUE=DATE:20260807
DTSTAMP:20260420T045137
CREATED:20240125T095335Z
LAST-MODIFIED:20240125T095335Z
UID:10030258-1785974400-1786060799@tcheklian-notaires.fr
SUMMARY:办公时间
DESCRIPTION:
URL:https://tcheklian-notaires.fr/event/%e5%8a%9e%e5%85%ac%e6%97%b6%e9%97%b4/2026-08-06/
END:VEVENT
BEGIN:VEVENT
DTSTART;VALUE=DATE:20260807
DTEND;VALUE=DATE:20260808
DTSTAMP:20260420T045137
CREATED:20240125T095335Z
LAST-MODIFIED:20240125T095335Z
UID:10030259-1786060800-1786147199@tcheklian-notaires.fr
SUMMARY:办公时间
DESCRIPTION:
URL:https://tcheklian-notaires.fr/event/%e5%8a%9e%e5%85%ac%e6%97%b6%e9%97%b4/2026-08-07/
END:VEVENT
BEGIN:VEVENT
DTSTART;VALUE=DATE:20260808
DTEND;VALUE=DATE:20260809
DTSTAMP:20260420T045137
CREATED:20240125T095335Z
LAST-MODIFIED:20240125T095335Z
UID:10030260-1786147200-1786233599@tcheklian-notaires.fr
SUMMARY:办公时间
DESCRIPTION:
URL:https://tcheklian-notaires.fr/event/%e5%8a%9e%e5%85%ac%e6%97%b6%e9%97%b4/2026-08-08/
END:VEVENT
BEGIN:VEVENT
DTSTART;VALUE=DATE:20260809
DTEND;VALUE=DATE:20260810
DTSTAMP:20260420T045137
CREATED:20240125T095649Z
LAST-MODIFIED:20240125T095649Z
UID:10031964-1786233600-1786319999@tcheklian-notaires.fr
SUMMARY:休息
DESCRIPTION:
URL:https://tcheklian-notaires.fr/event/%e4%bc%91%e6%81%af/2026-08-09/
END:VEVENT
BEGIN:VEVENT
DTSTART;VALUE=DATE:20260810
DTEND;VALUE=DATE:20260811
DTSTAMP:20260420T045137
CREATED:20240125T095335Z
LAST-MODIFIED:20240125T095335Z
UID:10030261-1786320000-1786406399@tcheklian-notaires.fr
SUMMARY:办公时间
DESCRIPTION:
URL:https://tcheklian-notaires.fr/event/%e5%8a%9e%e5%85%ac%e6%97%b6%e9%97%b4/2026-08-10/
END:VEVENT
BEGIN:VEVENT
DTSTART;VALUE=DATE:20260811
DTEND;VALUE=DATE:20260812
DTSTAMP:20260420T045137
CREATED:20240125T095335Z
LAST-MODIFIED:20240125T095335Z
UID:10030262-1786406400-1786492799@tcheklian-notaires.fr
SUMMARY:办公时间
DESCRIPTION:
URL:https://tcheklian-notaires.fr/event/%e5%8a%9e%e5%85%ac%e6%97%b6%e9%97%b4/2026-08-11/
END:VEVENT
BEGIN:VEVENT
DTSTART;VALUE=DATE:20260812
DTEND;VALUE=DATE:20260813
DTSTAMP:20260420T045137
CREATED:20240125T095335Z
LAST-MODIFIED:20240125T095335Z
UID:10030263-1786492800-1786579199@tcheklian-notaires.fr
SUMMARY:办公时间
DESCRIPTION:
URL:https://tcheklian-notaires.fr/event/%e5%8a%9e%e5%85%ac%e6%97%b6%e9%97%b4/2026-08-12/
END:VEVENT
BEGIN:VEVENT
DTSTART;VALUE=DATE:20260813
DTEND;VALUE=DATE:20260814
DTSTAMP:20260420T045137
CREATED:20240125T095335Z
LAST-MODIFIED:20240125T095335Z
UID:10030264-1786579200-1786665599@tcheklian-notaires.fr
SUMMARY:办公时间
DESCRIPTION:
URL:https://tcheklian-notaires.fr/event/%e5%8a%9e%e5%85%ac%e6%97%b6%e9%97%b4/2026-08-13/
END:VEVENT
BEGIN:VEVENT
DTSTART;VALUE=DATE:20260814
DTEND;VALUE=DATE:20260815
DTSTAMP:20260420T045137
CREATED:20240125T095335Z
LAST-MODIFIED:20240125T095335Z
UID:10030265-1786665600-1786751999@tcheklian-notaires.fr
SUMMARY:办公时间
DESCRIPTION:
URL:https://tcheklian-notaires.fr/event/%e5%8a%9e%e5%85%ac%e6%97%b6%e9%97%b4/2026-08-14/
END:VEVENT
END:VCALENDAR