BEGIN:VCALENDAR
VERSION:2.0
PRODID:-//TCHEKLIAN - ECPv6.2.9//NONSGML v1.0//EN
CALSCALE:GREGORIAN
METHOD:PUBLISH
X-WR-CALNAME:TCHEKLIAN
X-ORIGINAL-URL:https://tcheklian-notaires.fr
X-WR-CALDESC:TCHEKLIAN的活动
REFRESH-INTERVAL;VALUE=DURATION:PT1H
X-Robots-Tag:noindex
X-PUBLISHED-TTL:PT1H
BEGIN:VTIMEZONE
TZID:UTC
BEGIN:STANDARD
TZOFFSETFROM:+0000
TZOFFSETTO:+0000
TZNAME:UTC
DTSTART:20260101T000000
END:STANDARD
END:VTIMEZONE
BEGIN:VEVENT
DTSTART;VALUE=DATE:20261014
DTEND;VALUE=DATE:20261015
DTSTAMP:20260420T221312
CREATED:20240125T095335Z
LAST-MODIFIED:20240125T095335Z
UID:10030317-1791936000-1792022399@tcheklian-notaires.fr
SUMMARY:办公时间
DESCRIPTION:
URL:https://tcheklian-notaires.fr/event/%e5%8a%9e%e5%85%ac%e6%97%b6%e9%97%b4/2026-10-14/
END:VEVENT
BEGIN:VEVENT
DTSTART;VALUE=DATE:20261015
DTEND;VALUE=DATE:20261016
DTSTAMP:20260420T221313
CREATED:20240125T095335Z
LAST-MODIFIED:20240125T095335Z
UID:10030318-1792022400-1792108799@tcheklian-notaires.fr
SUMMARY:办公时间
DESCRIPTION:
URL:https://tcheklian-notaires.fr/event/%e5%8a%9e%e5%85%ac%e6%97%b6%e9%97%b4/2026-10-15/
END:VEVENT
BEGIN:VEVENT
DTSTART;VALUE=DATE:20261016
DTEND;VALUE=DATE:20261017
DTSTAMP:20260420T221313
CREATED:20240125T095335Z
LAST-MODIFIED:20240125T095335Z
UID:10030319-1792108800-1792195199@tcheklian-notaires.fr
SUMMARY:办公时间
DESCRIPTION:
URL:https://tcheklian-notaires.fr/event/%e5%8a%9e%e5%85%ac%e6%97%b6%e9%97%b4/2026-10-16/
END:VEVENT
BEGIN:VEVENT
DTSTART;VALUE=DATE:20261017
DTEND;VALUE=DATE:20261018
DTSTAMP:20260420T221313
CREATED:20240125T095335Z
LAST-MODIFIED:20240125T095335Z
UID:10030320-1792195200-1792281599@tcheklian-notaires.fr
SUMMARY:办公时间
DESCRIPTION:
URL:https://tcheklian-notaires.fr/event/%e5%8a%9e%e5%85%ac%e6%97%b6%e9%97%b4/2026-10-17/
END:VEVENT
BEGIN:VEVENT
DTSTART;VALUE=DATE:20261018
DTEND;VALUE=DATE:20261019
DTSTAMP:20260420T221313
CREATED:20240125T095649Z
LAST-MODIFIED:20240125T095649Z
UID:10031974-1792281600-1792367999@tcheklian-notaires.fr
SUMMARY:休息
DESCRIPTION:
URL:https://tcheklian-notaires.fr/event/%e4%bc%91%e6%81%af/2026-10-18/
END:VEVENT
BEGIN:VEVENT
DTSTART;VALUE=DATE:20261019
DTEND;VALUE=DATE:20261020
DTSTAMP:20260420T221313
CREATED:20240125T095335Z
LAST-MODIFIED:20240125T095335Z
UID:10030321-1792368000-1792454399@tcheklian-notaires.fr
SUMMARY:办公时间
DESCRIPTION:
URL:https://tcheklian-notaires.fr/event/%e5%8a%9e%e5%85%ac%e6%97%b6%e9%97%b4/2026-10-19/
END:VEVENT
BEGIN:VEVENT
DTSTART;VALUE=DATE:20261020
DTEND;VALUE=DATE:20261021
DTSTAMP:20260420T221313
CREATED:20240125T095335Z
LAST-MODIFIED:20240125T095335Z
UID:10030322-1792454400-1792540799@tcheklian-notaires.fr
SUMMARY:办公时间
DESCRIPTION:
URL:https://tcheklian-notaires.fr/event/%e5%8a%9e%e5%85%ac%e6%97%b6%e9%97%b4/2026-10-20/
END:VEVENT
BEGIN:VEVENT
DTSTART;VALUE=DATE:20261021
DTEND;VALUE=DATE:20261022
DTSTAMP:20260420T221313
CREATED:20240125T095335Z
LAST-MODIFIED:20240125T095335Z
UID:10030323-1792540800-1792627199@tcheklian-notaires.fr
SUMMARY:办公时间
DESCRIPTION:
URL:https://tcheklian-notaires.fr/event/%e5%8a%9e%e5%85%ac%e6%97%b6%e9%97%b4/2026-10-21/
END:VEVENT
BEGIN:VEVENT
DTSTART;VALUE=DATE:20261022
DTEND;VALUE=DATE:20261023
DTSTAMP:20260420T221313
CREATED:20240125T095335Z
LAST-MODIFIED:20240125T095335Z
UID:10030324-1792627200-1792713599@tcheklian-notaires.fr
SUMMARY:办公时间
DESCRIPTION:
URL:https://tcheklian-notaires.fr/event/%e5%8a%9e%e5%85%ac%e6%97%b6%e9%97%b4/2026-10-22/
END:VEVENT
BEGIN:VEVENT
DTSTART;VALUE=DATE:20261023
DTEND;VALUE=DATE:20261024
DTSTAMP:20260420T221313
CREATED:20240125T095335Z
LAST-MODIFIED:20240125T095335Z
UID:10030325-1792713600-1792799999@tcheklian-notaires.fr
SUMMARY:办公时间
DESCRIPTION:
URL:https://tcheklian-notaires.fr/event/%e5%8a%9e%e5%85%ac%e6%97%b6%e9%97%b4/2026-10-23/
END:VEVENT
BEGIN:VEVENT
DTSTART;VALUE=DATE:20261024
DTEND;VALUE=DATE:20261025
DTSTAMP:20260420T221313
CREATED:20240125T095335Z
LAST-MODIFIED:20240125T095335Z
UID:10030326-1792800000-1792886399@tcheklian-notaires.fr
SUMMARY:办公时间
DESCRIPTION:
URL:https://tcheklian-notaires.fr/event/%e5%8a%9e%e5%85%ac%e6%97%b6%e9%97%b4/2026-10-24/
END:VEVENT
BEGIN:VEVENT
DTSTART;VALUE=DATE:20261025
DTEND;VALUE=DATE:20261026
DTSTAMP:20260420T221313
CREATED:20240125T095649Z
LAST-MODIFIED:20240125T095649Z
UID:10031975-1792886400-1792972799@tcheklian-notaires.fr
SUMMARY:休息
DESCRIPTION:
URL:https://tcheklian-notaires.fr/event/%e4%bc%91%e6%81%af/2026-10-25/
END:VEVENT
BEGIN:VEVENT
DTSTART;VALUE=DATE:20261026
DTEND;VALUE=DATE:20261027
DTSTAMP:20260420T221313
CREATED:20240125T095335Z
LAST-MODIFIED:20240125T095335Z
UID:10030327-1792972800-1793059199@tcheklian-notaires.fr
SUMMARY:办公时间
DESCRIPTION:
URL:https://tcheklian-notaires.fr/event/%e5%8a%9e%e5%85%ac%e6%97%b6%e9%97%b4/2026-10-26/
END:VEVENT
BEGIN:VEVENT
DTSTART;VALUE=DATE:20261027
DTEND;VALUE=DATE:20261028
DTSTAMP:20260420T221313
CREATED:20240125T095335Z
LAST-MODIFIED:20240125T095335Z
UID:10030328-1793059200-1793145599@tcheklian-notaires.fr
SUMMARY:办公时间
DESCRIPTION:
URL:https://tcheklian-notaires.fr/event/%e5%8a%9e%e5%85%ac%e6%97%b6%e9%97%b4/2026-10-27/
END:VEVENT
BEGIN:VEVENT
DTSTART;VALUE=DATE:20261028
DTEND;VALUE=DATE:20261029
DTSTAMP:20260420T221313
CREATED:20240125T095335Z
LAST-MODIFIED:20240125T095335Z
UID:10030329-1793145600-1793231999@tcheklian-notaires.fr
SUMMARY:办公时间
DESCRIPTION:
URL:https://tcheklian-notaires.fr/event/%e5%8a%9e%e5%85%ac%e6%97%b6%e9%97%b4/2026-10-28/
END:VEVENT
BEGIN:VEVENT
DTSTART;VALUE=DATE:20261029
DTEND;VALUE=DATE:20261030
DTSTAMP:20260420T221313
CREATED:20240125T095335Z
LAST-MODIFIED:20240125T095335Z
UID:10030330-1793232000-1793318399@tcheklian-notaires.fr
SUMMARY:办公时间
DESCRIPTION:
URL:https://tcheklian-notaires.fr/event/%e5%8a%9e%e5%85%ac%e6%97%b6%e9%97%b4/2026-10-29/
END:VEVENT
BEGIN:VEVENT
DTSTART;VALUE=DATE:20261030
DTEND;VALUE=DATE:20261031
DTSTAMP:20260420T221313
CREATED:20240125T095335Z
LAST-MODIFIED:20240125T095335Z
UID:10030331-1793318400-1793404799@tcheklian-notaires.fr
SUMMARY:办公时间
DESCRIPTION:
URL:https://tcheklian-notaires.fr/event/%e5%8a%9e%e5%85%ac%e6%97%b6%e9%97%b4/2026-10-30/
END:VEVENT
BEGIN:VEVENT
DTSTART;VALUE=DATE:20261031
DTEND;VALUE=DATE:20261101
DTSTAMP:20260420T221313
CREATED:20240125T095335Z
LAST-MODIFIED:20240125T095335Z
UID:10030332-1793404800-1793491199@tcheklian-notaires.fr
SUMMARY:办公时间
DESCRIPTION:
URL:https://tcheklian-notaires.fr/event/%e5%8a%9e%e5%85%ac%e6%97%b6%e9%97%b4/2026-10-31/
END:VEVENT
BEGIN:VEVENT
DTSTART;VALUE=DATE:20261101
DTEND;VALUE=DATE:20261102
DTSTAMP:20260420T221313
CREATED:20240125T095649Z
LAST-MODIFIED:20240125T095649Z
UID:10031976-1793491200-1793577599@tcheklian-notaires.fr
SUMMARY:休息
DESCRIPTION:
URL:https://tcheklian-notaires.fr/event/%e4%bc%91%e6%81%af/2026-11-01/
END:VEVENT
BEGIN:VEVENT
DTSTART;VALUE=DATE:20261102
DTEND;VALUE=DATE:20261103
DTSTAMP:20260420T221313
CREATED:20240125T095335Z
LAST-MODIFIED:20240125T095335Z
UID:10030333-1793577600-1793663999@tcheklian-notaires.fr
SUMMARY:办公时间
DESCRIPTION:
URL:https://tcheklian-notaires.fr/event/%e5%8a%9e%e5%85%ac%e6%97%b6%e9%97%b4/2026-11-02/
END:VEVENT
BEGIN:VEVENT
DTSTART;VALUE=DATE:20261103
DTEND;VALUE=DATE:20261104
DTSTAMP:20260420T221313
CREATED:20240125T095335Z
LAST-MODIFIED:20240125T095335Z
UID:10030334-1793664000-1793750399@tcheklian-notaires.fr
SUMMARY:办公时间
DESCRIPTION:
URL:https://tcheklian-notaires.fr/event/%e5%8a%9e%e5%85%ac%e6%97%b6%e9%97%b4/2026-11-03/
END:VEVENT
BEGIN:VEVENT
DTSTART;VALUE=DATE:20261104
DTEND;VALUE=DATE:20261105
DTSTAMP:20260420T221313
CREATED:20240125T095335Z
LAST-MODIFIED:20240125T095335Z
UID:10030335-1793750400-1793836799@tcheklian-notaires.fr
SUMMARY:办公时间
DESCRIPTION:
URL:https://tcheklian-notaires.fr/event/%e5%8a%9e%e5%85%ac%e6%97%b6%e9%97%b4/2026-11-04/
END:VEVENT
BEGIN:VEVENT
DTSTART;VALUE=DATE:20261105
DTEND;VALUE=DATE:20261106
DTSTAMP:20260420T221313
CREATED:20240125T095335Z
LAST-MODIFIED:20240125T095335Z
UID:10030336-1793836800-1793923199@tcheklian-notaires.fr
SUMMARY:办公时间
DESCRIPTION:
URL:https://tcheklian-notaires.fr/event/%e5%8a%9e%e5%85%ac%e6%97%b6%e9%97%b4/2026-11-05/
END:VEVENT
BEGIN:VEVENT
DTSTART;VALUE=DATE:20261106
DTEND;VALUE=DATE:20261107
DTSTAMP:20260420T221313
CREATED:20240125T095335Z
LAST-MODIFIED:20240125T095335Z
UID:10030337-1793923200-1794009599@tcheklian-notaires.fr
SUMMARY:办公时间
DESCRIPTION:
URL:https://tcheklian-notaires.fr/event/%e5%8a%9e%e5%85%ac%e6%97%b6%e9%97%b4/2026-11-06/
END:VEVENT
BEGIN:VEVENT
DTSTART;VALUE=DATE:20261107
DTEND;VALUE=DATE:20261108
DTSTAMP:20260420T221313
CREATED:20240125T095335Z
LAST-MODIFIED:20240125T095335Z
UID:10030338-1794009600-1794095999@tcheklian-notaires.fr
SUMMARY:办公时间
DESCRIPTION:
URL:https://tcheklian-notaires.fr/event/%e5%8a%9e%e5%85%ac%e6%97%b6%e9%97%b4/2026-11-07/
END:VEVENT
BEGIN:VEVENT
DTSTART;VALUE=DATE:20261108
DTEND;VALUE=DATE:20261109
DTSTAMP:20260420T221313
CREATED:20240125T095649Z
LAST-MODIFIED:20240125T095649Z
UID:10031977-1794096000-1794182399@tcheklian-notaires.fr
SUMMARY:休息
DESCRIPTION:
URL:https://tcheklian-notaires.fr/event/%e4%bc%91%e6%81%af/2026-11-08/
END:VEVENT
BEGIN:VEVENT
DTSTART;VALUE=DATE:20261109
DTEND;VALUE=DATE:20261110
DTSTAMP:20260420T221313
CREATED:20240125T095335Z
LAST-MODIFIED:20240125T095335Z
UID:10030339-1794182400-1794268799@tcheklian-notaires.fr
SUMMARY:办公时间
DESCRIPTION:
URL:https://tcheklian-notaires.fr/event/%e5%8a%9e%e5%85%ac%e6%97%b6%e9%97%b4/2026-11-09/
END:VEVENT
BEGIN:VEVENT
DTSTART;VALUE=DATE:20261110
DTEND;VALUE=DATE:20261111
DTSTAMP:20260420T221313
CREATED:20240125T095335Z
LAST-MODIFIED:20240125T095335Z
UID:10030340-1794268800-1794355199@tcheklian-notaires.fr
SUMMARY:办公时间
DESCRIPTION:
URL:https://tcheklian-notaires.fr/event/%e5%8a%9e%e5%85%ac%e6%97%b6%e9%97%b4/2026-11-10/
END:VEVENT
BEGIN:VEVENT
DTSTART;VALUE=DATE:20261111
DTEND;VALUE=DATE:20261112
DTSTAMP:20260420T221313
CREATED:20240125T095335Z
LAST-MODIFIED:20240125T095335Z
UID:10030341-1794355200-1794441599@tcheklian-notaires.fr
SUMMARY:办公时间
DESCRIPTION:
URL:https://tcheklian-notaires.fr/event/%e5%8a%9e%e5%85%ac%e6%97%b6%e9%97%b4/2026-11-11/
END:VEVENT
BEGIN:VEVENT
DTSTART;VALUE=DATE:20261112
DTEND;VALUE=DATE:20261113
DTSTAMP:20260420T221313
CREATED:20240125T095335Z
LAST-MODIFIED:20240125T095335Z
UID:10030342-1794441600-1794527999@tcheklian-notaires.fr
SUMMARY:办公时间
DESCRIPTION:
URL:https://tcheklian-notaires.fr/event/%e5%8a%9e%e5%85%ac%e6%97%b6%e9%97%b4/2026-11-12/
END:VEVENT
END:VCALENDAR