BEGIN:VCALENDAR
VERSION:2.0
PRODID:-//TCHEKLIAN - ECPv6.2.9//NONSGML v1.0//EN
CALSCALE:GREGORIAN
METHOD:PUBLISH
X-WR-CALNAME:TCHEKLIAN
X-ORIGINAL-URL:https://tcheklian-notaires.fr
X-WR-CALDESC:TCHEKLIAN的活动
REFRESH-INTERVAL;VALUE=DURATION:PT1H
X-Robots-Tag:noindex
X-PUBLISHED-TTL:PT1H
BEGIN:VTIMEZONE
TZID:UTC
BEGIN:STANDARD
TZOFFSETFROM:+0000
TZOFFSETTO:+0000
TZNAME:UTC
DTSTART:20260101T000000
END:STANDARD
END:VTIMEZONE
BEGIN:VEVENT
DTSTART;VALUE=DATE:20261113
DTEND;VALUE=DATE:20261114
DTSTAMP:20260421T034545
CREATED:20240125T095335Z
LAST-MODIFIED:20240125T095335Z
UID:10030343-1794528000-1794614399@tcheklian-notaires.fr
SUMMARY:办公时间
DESCRIPTION:
URL:https://tcheklian-notaires.fr/event/%e5%8a%9e%e5%85%ac%e6%97%b6%e9%97%b4/2026-11-13/
END:VEVENT
BEGIN:VEVENT
DTSTART;VALUE=DATE:20261114
DTEND;VALUE=DATE:20261115
DTSTAMP:20260421T034545
CREATED:20240125T095335Z
LAST-MODIFIED:20240125T095335Z
UID:10030344-1794614400-1794700799@tcheklian-notaires.fr
SUMMARY:办公时间
DESCRIPTION:
URL:https://tcheklian-notaires.fr/event/%e5%8a%9e%e5%85%ac%e6%97%b6%e9%97%b4/2026-11-14/
END:VEVENT
BEGIN:VEVENT
DTSTART;VALUE=DATE:20261115
DTEND;VALUE=DATE:20261116
DTSTAMP:20260421T034545
CREATED:20240125T095649Z
LAST-MODIFIED:20240125T095649Z
UID:10031978-1794700800-1794787199@tcheklian-notaires.fr
SUMMARY:休息
DESCRIPTION:
URL:https://tcheklian-notaires.fr/event/%e4%bc%91%e6%81%af/2026-11-15/
END:VEVENT
BEGIN:VEVENT
DTSTART;VALUE=DATE:20261116
DTEND;VALUE=DATE:20261117
DTSTAMP:20260421T034545
CREATED:20240125T095335Z
LAST-MODIFIED:20240125T095335Z
UID:10030345-1794787200-1794873599@tcheklian-notaires.fr
SUMMARY:办公时间
DESCRIPTION:
URL:https://tcheklian-notaires.fr/event/%e5%8a%9e%e5%85%ac%e6%97%b6%e9%97%b4/2026-11-16/
END:VEVENT
BEGIN:VEVENT
DTSTART;VALUE=DATE:20261117
DTEND;VALUE=DATE:20261118
DTSTAMP:20260421T034545
CREATED:20240125T095335Z
LAST-MODIFIED:20240125T095335Z
UID:10030346-1794873600-1794959999@tcheklian-notaires.fr
SUMMARY:办公时间
DESCRIPTION:
URL:https://tcheklian-notaires.fr/event/%e5%8a%9e%e5%85%ac%e6%97%b6%e9%97%b4/2026-11-17/
END:VEVENT
BEGIN:VEVENT
DTSTART;VALUE=DATE:20261118
DTEND;VALUE=DATE:20261119
DTSTAMP:20260421T034545
CREATED:20240125T095335Z
LAST-MODIFIED:20240125T095335Z
UID:10030347-1794960000-1795046399@tcheklian-notaires.fr
SUMMARY:办公时间
DESCRIPTION:
URL:https://tcheklian-notaires.fr/event/%e5%8a%9e%e5%85%ac%e6%97%b6%e9%97%b4/2026-11-18/
END:VEVENT
BEGIN:VEVENT
DTSTART;VALUE=DATE:20261119
DTEND;VALUE=DATE:20261120
DTSTAMP:20260421T034545
CREATED:20240125T095335Z
LAST-MODIFIED:20240125T095335Z
UID:10030348-1795046400-1795132799@tcheklian-notaires.fr
SUMMARY:办公时间
DESCRIPTION:
URL:https://tcheklian-notaires.fr/event/%e5%8a%9e%e5%85%ac%e6%97%b6%e9%97%b4/2026-11-19/
END:VEVENT
BEGIN:VEVENT
DTSTART;VALUE=DATE:20261120
DTEND;VALUE=DATE:20261121
DTSTAMP:20260421T034545
CREATED:20240125T095335Z
LAST-MODIFIED:20240125T095335Z
UID:10030349-1795132800-1795219199@tcheklian-notaires.fr
SUMMARY:办公时间
DESCRIPTION:
URL:https://tcheklian-notaires.fr/event/%e5%8a%9e%e5%85%ac%e6%97%b6%e9%97%b4/2026-11-20/
END:VEVENT
BEGIN:VEVENT
DTSTART;VALUE=DATE:20261121
DTEND;VALUE=DATE:20261122
DTSTAMP:20260421T034545
CREATED:20240125T095335Z
LAST-MODIFIED:20240125T095335Z
UID:10030350-1795219200-1795305599@tcheklian-notaires.fr
SUMMARY:办公时间
DESCRIPTION:
URL:https://tcheklian-notaires.fr/event/%e5%8a%9e%e5%85%ac%e6%97%b6%e9%97%b4/2026-11-21/
END:VEVENT
BEGIN:VEVENT
DTSTART;VALUE=DATE:20261122
DTEND;VALUE=DATE:20261123
DTSTAMP:20260421T034545
CREATED:20240125T095649Z
LAST-MODIFIED:20240125T095649Z
UID:10031979-1795305600-1795391999@tcheklian-notaires.fr
SUMMARY:休息
DESCRIPTION:
URL:https://tcheklian-notaires.fr/event/%e4%bc%91%e6%81%af/2026-11-22/
END:VEVENT
BEGIN:VEVENT
DTSTART;VALUE=DATE:20261123
DTEND;VALUE=DATE:20261124
DTSTAMP:20260421T034545
CREATED:20240125T095335Z
LAST-MODIFIED:20240125T095335Z
UID:10030351-1795392000-1795478399@tcheklian-notaires.fr
SUMMARY:办公时间
DESCRIPTION:
URL:https://tcheklian-notaires.fr/event/%e5%8a%9e%e5%85%ac%e6%97%b6%e9%97%b4/2026-11-23/
END:VEVENT
BEGIN:VEVENT
DTSTART;VALUE=DATE:20261124
DTEND;VALUE=DATE:20261125
DTSTAMP:20260421T034545
CREATED:20240125T095335Z
LAST-MODIFIED:20240125T095335Z
UID:10030352-1795478400-1795564799@tcheklian-notaires.fr
SUMMARY:办公时间
DESCRIPTION:
URL:https://tcheklian-notaires.fr/event/%e5%8a%9e%e5%85%ac%e6%97%b6%e9%97%b4/2026-11-24/
END:VEVENT
BEGIN:VEVENT
DTSTART;VALUE=DATE:20261125
DTEND;VALUE=DATE:20261126
DTSTAMP:20260421T034545
CREATED:20240125T095335Z
LAST-MODIFIED:20240125T095335Z
UID:10030353-1795564800-1795651199@tcheklian-notaires.fr
SUMMARY:办公时间
DESCRIPTION:
URL:https://tcheklian-notaires.fr/event/%e5%8a%9e%e5%85%ac%e6%97%b6%e9%97%b4/2026-11-25/
END:VEVENT
BEGIN:VEVENT
DTSTART;VALUE=DATE:20261126
DTEND;VALUE=DATE:20261127
DTSTAMP:20260421T034545
CREATED:20240125T095335Z
LAST-MODIFIED:20240125T095335Z
UID:10030354-1795651200-1795737599@tcheklian-notaires.fr
SUMMARY:办公时间
DESCRIPTION:
URL:https://tcheklian-notaires.fr/event/%e5%8a%9e%e5%85%ac%e6%97%b6%e9%97%b4/2026-11-26/
END:VEVENT
BEGIN:VEVENT
DTSTART;VALUE=DATE:20261127
DTEND;VALUE=DATE:20261128
DTSTAMP:20260421T034545
CREATED:20240125T095335Z
LAST-MODIFIED:20240125T095335Z
UID:10030355-1795737600-1795823999@tcheklian-notaires.fr
SUMMARY:办公时间
DESCRIPTION:
URL:https://tcheklian-notaires.fr/event/%e5%8a%9e%e5%85%ac%e6%97%b6%e9%97%b4/2026-11-27/
END:VEVENT
BEGIN:VEVENT
DTSTART;VALUE=DATE:20261128
DTEND;VALUE=DATE:20261129
DTSTAMP:20260421T034545
CREATED:20240125T095335Z
LAST-MODIFIED:20240125T095335Z
UID:10030356-1795824000-1795910399@tcheklian-notaires.fr
SUMMARY:办公时间
DESCRIPTION:
URL:https://tcheklian-notaires.fr/event/%e5%8a%9e%e5%85%ac%e6%97%b6%e9%97%b4/2026-11-28/
END:VEVENT
BEGIN:VEVENT
DTSTART;VALUE=DATE:20261129
DTEND;VALUE=DATE:20261130
DTSTAMP:20260421T034545
CREATED:20240125T095649Z
LAST-MODIFIED:20240125T095649Z
UID:10031980-1795910400-1795996799@tcheklian-notaires.fr
SUMMARY:休息
DESCRIPTION:
URL:https://tcheklian-notaires.fr/event/%e4%bc%91%e6%81%af/2026-11-29/
END:VEVENT
BEGIN:VEVENT
DTSTART;VALUE=DATE:20261130
DTEND;VALUE=DATE:20261201
DTSTAMP:20260421T034545
CREATED:20240125T095335Z
LAST-MODIFIED:20240125T095335Z
UID:10030357-1795996800-1796083199@tcheklian-notaires.fr
SUMMARY:办公时间
DESCRIPTION:
URL:https://tcheklian-notaires.fr/event/%e5%8a%9e%e5%85%ac%e6%97%b6%e9%97%b4/2026-11-30/
END:VEVENT
BEGIN:VEVENT
DTSTART;VALUE=DATE:20261201
DTEND;VALUE=DATE:20261202
DTSTAMP:20260421T034545
CREATED:20240125T095335Z
LAST-MODIFIED:20240125T095335Z
UID:10030358-1796083200-1796169599@tcheklian-notaires.fr
SUMMARY:办公时间
DESCRIPTION:
URL:https://tcheklian-notaires.fr/event/%e5%8a%9e%e5%85%ac%e6%97%b6%e9%97%b4/2026-12-01/
END:VEVENT
BEGIN:VEVENT
DTSTART;VALUE=DATE:20261202
DTEND;VALUE=DATE:20261203
DTSTAMP:20260421T034545
CREATED:20240125T095335Z
LAST-MODIFIED:20240125T095335Z
UID:10030359-1796169600-1796255999@tcheklian-notaires.fr
SUMMARY:办公时间
DESCRIPTION:
URL:https://tcheklian-notaires.fr/event/%e5%8a%9e%e5%85%ac%e6%97%b6%e9%97%b4/2026-12-02/
END:VEVENT
BEGIN:VEVENT
DTSTART;VALUE=DATE:20261203
DTEND;VALUE=DATE:20261204
DTSTAMP:20260421T034545
CREATED:20240125T095335Z
LAST-MODIFIED:20240125T095335Z
UID:10030360-1796256000-1796342399@tcheklian-notaires.fr
SUMMARY:办公时间
DESCRIPTION:
URL:https://tcheklian-notaires.fr/event/%e5%8a%9e%e5%85%ac%e6%97%b6%e9%97%b4/2026-12-03/
END:VEVENT
BEGIN:VEVENT
DTSTART;VALUE=DATE:20261204
DTEND;VALUE=DATE:20261205
DTSTAMP:20260421T034545
CREATED:20240125T095335Z
LAST-MODIFIED:20240125T095335Z
UID:10030361-1796342400-1796428799@tcheklian-notaires.fr
SUMMARY:办公时间
DESCRIPTION:
URL:https://tcheklian-notaires.fr/event/%e5%8a%9e%e5%85%ac%e6%97%b6%e9%97%b4/2026-12-04/
END:VEVENT
BEGIN:VEVENT
DTSTART;VALUE=DATE:20261205
DTEND;VALUE=DATE:20261206
DTSTAMP:20260421T034545
CREATED:20240125T095335Z
LAST-MODIFIED:20240125T095335Z
UID:10030362-1796428800-1796515199@tcheklian-notaires.fr
SUMMARY:办公时间
DESCRIPTION:
URL:https://tcheklian-notaires.fr/event/%e5%8a%9e%e5%85%ac%e6%97%b6%e9%97%b4/2026-12-05/
END:VEVENT
BEGIN:VEVENT
DTSTART;VALUE=DATE:20261206
DTEND;VALUE=DATE:20261207
DTSTAMP:20260421T034545
CREATED:20240125T095649Z
LAST-MODIFIED:20240125T095649Z
UID:10031981-1796515200-1796601599@tcheklian-notaires.fr
SUMMARY:休息
DESCRIPTION:
URL:https://tcheklian-notaires.fr/event/%e4%bc%91%e6%81%af/2026-12-06/
END:VEVENT
BEGIN:VEVENT
DTSTART;VALUE=DATE:20261207
DTEND;VALUE=DATE:20261208
DTSTAMP:20260421T034545
CREATED:20240125T095335Z
LAST-MODIFIED:20240125T095335Z
UID:10030363-1796601600-1796687999@tcheklian-notaires.fr
SUMMARY:办公时间
DESCRIPTION:
URL:https://tcheklian-notaires.fr/event/%e5%8a%9e%e5%85%ac%e6%97%b6%e9%97%b4/2026-12-07/
END:VEVENT
BEGIN:VEVENT
DTSTART;VALUE=DATE:20261208
DTEND;VALUE=DATE:20261209
DTSTAMP:20260421T034545
CREATED:20240125T095335Z
LAST-MODIFIED:20240125T095335Z
UID:10030364-1796688000-1796774399@tcheklian-notaires.fr
SUMMARY:办公时间
DESCRIPTION:
URL:https://tcheklian-notaires.fr/event/%e5%8a%9e%e5%85%ac%e6%97%b6%e9%97%b4/2026-12-08/
END:VEVENT
BEGIN:VEVENT
DTSTART;VALUE=DATE:20261209
DTEND;VALUE=DATE:20261210
DTSTAMP:20260421T034545
CREATED:20240125T095335Z
LAST-MODIFIED:20240125T095335Z
UID:10030365-1796774400-1796860799@tcheklian-notaires.fr
SUMMARY:办公时间
DESCRIPTION:
URL:https://tcheklian-notaires.fr/event/%e5%8a%9e%e5%85%ac%e6%97%b6%e9%97%b4/2026-12-09/
END:VEVENT
BEGIN:VEVENT
DTSTART;VALUE=DATE:20261210
DTEND;VALUE=DATE:20261211
DTSTAMP:20260421T034545
CREATED:20240125T095335Z
LAST-MODIFIED:20240125T095335Z
UID:10030366-1796860800-1796947199@tcheklian-notaires.fr
SUMMARY:办公时间
DESCRIPTION:
URL:https://tcheklian-notaires.fr/event/%e5%8a%9e%e5%85%ac%e6%97%b6%e9%97%b4/2026-12-10/
END:VEVENT
BEGIN:VEVENT
DTSTART;VALUE=DATE:20261211
DTEND;VALUE=DATE:20261212
DTSTAMP:20260421T034545
CREATED:20240125T095335Z
LAST-MODIFIED:20240125T095335Z
UID:10030367-1796947200-1797033599@tcheklian-notaires.fr
SUMMARY:办公时间
DESCRIPTION:
URL:https://tcheklian-notaires.fr/event/%e5%8a%9e%e5%85%ac%e6%97%b6%e9%97%b4/2026-12-11/
END:VEVENT
BEGIN:VEVENT
DTSTART;VALUE=DATE:20261212
DTEND;VALUE=DATE:20261213
DTSTAMP:20260421T034545
CREATED:20240125T095335Z
LAST-MODIFIED:20240125T095335Z
UID:10030368-1797033600-1797119999@tcheklian-notaires.fr
SUMMARY:办公时间
DESCRIPTION:
URL:https://tcheklian-notaires.fr/event/%e5%8a%9e%e5%85%ac%e6%97%b6%e9%97%b4/2026-12-12/
END:VEVENT
END:VCALENDAR