BEGIN:VCALENDAR
VERSION:2.0
PRODID:-//TCHEKLIAN - ECPv6.2.9//NONSGML v1.0//EN
CALSCALE:GREGORIAN
METHOD:PUBLISH
X-WR-CALNAME:TCHEKLIAN
X-ORIGINAL-URL:https://tcheklian-notaires.fr
X-WR-CALDESC:TCHEKLIAN的活动
REFRESH-INTERVAL;VALUE=DURATION:PT1H
X-Robots-Tag:noindex
X-PUBLISHED-TTL:PT1H
BEGIN:VTIMEZONE
TZID:UTC
BEGIN:STANDARD
TZOFFSETFROM:+0000
TZOFFSETTO:+0000
TZNAME:UTC
DTSTART:20260101T000000
END:STANDARD
END:VTIMEZONE
BEGIN:VEVENT
DTSTART;VALUE=DATE:20261223
DTEND;VALUE=DATE:20261224
DTSTAMP:20260421T105613
CREATED:20240125T095335Z
LAST-MODIFIED:20240125T095335Z
UID:10030377-1797984000-1798070399@tcheklian-notaires.fr
SUMMARY:办公时间
DESCRIPTION:
URL:https://tcheklian-notaires.fr/event/%e5%8a%9e%e5%85%ac%e6%97%b6%e9%97%b4/2026-12-23/
END:VEVENT
BEGIN:VEVENT
DTSTART;VALUE=DATE:20261224
DTEND;VALUE=DATE:20261225
DTSTAMP:20260421T105613
CREATED:20240125T095335Z
LAST-MODIFIED:20240125T095335Z
UID:10030378-1798070400-1798156799@tcheklian-notaires.fr
SUMMARY:办公时间
DESCRIPTION:
URL:https://tcheklian-notaires.fr/event/%e5%8a%9e%e5%85%ac%e6%97%b6%e9%97%b4/2026-12-24/
END:VEVENT
BEGIN:VEVENT
DTSTART;VALUE=DATE:20261225
DTEND;VALUE=DATE:20261226
DTSTAMP:20260421T105613
CREATED:20240125T095335Z
LAST-MODIFIED:20240125T095335Z
UID:10030379-1798156800-1798243199@tcheklian-notaires.fr
SUMMARY:办公时间
DESCRIPTION:
URL:https://tcheklian-notaires.fr/event/%e5%8a%9e%e5%85%ac%e6%97%b6%e9%97%b4/2026-12-25/
END:VEVENT
BEGIN:VEVENT
DTSTART;VALUE=DATE:20261226
DTEND;VALUE=DATE:20261227
DTSTAMP:20260421T105614
CREATED:20240125T095335Z
LAST-MODIFIED:20240125T095335Z
UID:10030380-1798243200-1798329599@tcheklian-notaires.fr
SUMMARY:办公时间
DESCRIPTION:
URL:https://tcheklian-notaires.fr/event/%e5%8a%9e%e5%85%ac%e6%97%b6%e9%97%b4/2026-12-26/
END:VEVENT
BEGIN:VEVENT
DTSTART;VALUE=DATE:20261227
DTEND;VALUE=DATE:20261228
DTSTAMP:20260421T105614
CREATED:20240125T095649Z
LAST-MODIFIED:20240125T095649Z
UID:10031984-1798329600-1798415999@tcheklian-notaires.fr
SUMMARY:休息
DESCRIPTION:
URL:https://tcheklian-notaires.fr/event/%e4%bc%91%e6%81%af/2026-12-27/
END:VEVENT
BEGIN:VEVENT
DTSTART;VALUE=DATE:20261228
DTEND;VALUE=DATE:20261229
DTSTAMP:20260421T105614
CREATED:20240125T095335Z
LAST-MODIFIED:20240125T095335Z
UID:10030381-1798416000-1798502399@tcheklian-notaires.fr
SUMMARY:办公时间
DESCRIPTION:
URL:https://tcheklian-notaires.fr/event/%e5%8a%9e%e5%85%ac%e6%97%b6%e9%97%b4/2026-12-28/
END:VEVENT
BEGIN:VEVENT
DTSTART;VALUE=DATE:20261229
DTEND;VALUE=DATE:20261230
DTSTAMP:20260421T105614
CREATED:20240125T095335Z
LAST-MODIFIED:20240125T095335Z
UID:10030382-1798502400-1798588799@tcheklian-notaires.fr
SUMMARY:办公时间
DESCRIPTION:
URL:https://tcheklian-notaires.fr/event/%e5%8a%9e%e5%85%ac%e6%97%b6%e9%97%b4/2026-12-29/
END:VEVENT
BEGIN:VEVENT
DTSTART;VALUE=DATE:20261230
DTEND;VALUE=DATE:20261231
DTSTAMP:20260421T105614
CREATED:20240125T095335Z
LAST-MODIFIED:20240125T095335Z
UID:10030383-1798588800-1798675199@tcheklian-notaires.fr
SUMMARY:办公时间
DESCRIPTION:
URL:https://tcheklian-notaires.fr/event/%e5%8a%9e%e5%85%ac%e6%97%b6%e9%97%b4/2026-12-30/
END:VEVENT
BEGIN:VEVENT
DTSTART;VALUE=DATE:20261231
DTEND;VALUE=DATE:20270101
DTSTAMP:20260421T105614
CREATED:20240125T095335Z
LAST-MODIFIED:20240125T095335Z
UID:10030384-1798675200-1798761599@tcheklian-notaires.fr
SUMMARY:办公时间
DESCRIPTION:
URL:https://tcheklian-notaires.fr/event/%e5%8a%9e%e5%85%ac%e6%97%b6%e9%97%b4/2026-12-31/
END:VEVENT
BEGIN:VEVENT
DTSTART;VALUE=DATE:20270101
DTEND;VALUE=DATE:20270102
DTSTAMP:20260421T105614
CREATED:20240125T095335Z
LAST-MODIFIED:20240125T095335Z
UID:10030385-1798761600-1798847999@tcheklian-notaires.fr
SUMMARY:办公时间
DESCRIPTION:
URL:https://tcheklian-notaires.fr/event/%e5%8a%9e%e5%85%ac%e6%97%b6%e9%97%b4/2027-01-01/
END:VEVENT
BEGIN:VEVENT
DTSTART;VALUE=DATE:20270102
DTEND;VALUE=DATE:20270103
DTSTAMP:20260421T105614
CREATED:20240125T095335Z
LAST-MODIFIED:20240125T095335Z
UID:10030386-1798848000-1798934399@tcheklian-notaires.fr
SUMMARY:办公时间
DESCRIPTION:
URL:https://tcheklian-notaires.fr/event/%e5%8a%9e%e5%85%ac%e6%97%b6%e9%97%b4/2027-01-02/
END:VEVENT
BEGIN:VEVENT
DTSTART;VALUE=DATE:20270103
DTEND;VALUE=DATE:20270104
DTSTAMP:20260421T105614
CREATED:20240125T095649Z
LAST-MODIFIED:20240125T095649Z
UID:10031985-1798934400-1799020799@tcheklian-notaires.fr
SUMMARY:休息
DESCRIPTION:
URL:https://tcheklian-notaires.fr/event/%e4%bc%91%e6%81%af/2027-01-03/
END:VEVENT
BEGIN:VEVENT
DTSTART;VALUE=DATE:20270104
DTEND;VALUE=DATE:20270105
DTSTAMP:20260421T105614
CREATED:20240125T095335Z
LAST-MODIFIED:20240125T095335Z
UID:10030387-1799020800-1799107199@tcheklian-notaires.fr
SUMMARY:办公时间
DESCRIPTION:
URL:https://tcheklian-notaires.fr/event/%e5%8a%9e%e5%85%ac%e6%97%b6%e9%97%b4/2027-01-04/
END:VEVENT
BEGIN:VEVENT
DTSTART;VALUE=DATE:20270105
DTEND;VALUE=DATE:20270106
DTSTAMP:20260421T105614
CREATED:20240125T095335Z
LAST-MODIFIED:20240125T095335Z
UID:10030388-1799107200-1799193599@tcheklian-notaires.fr
SUMMARY:办公时间
DESCRIPTION:
URL:https://tcheklian-notaires.fr/event/%e5%8a%9e%e5%85%ac%e6%97%b6%e9%97%b4/2027-01-05/
END:VEVENT
BEGIN:VEVENT
DTSTART;VALUE=DATE:20270106
DTEND;VALUE=DATE:20270107
DTSTAMP:20260421T105614
CREATED:20240125T095335Z
LAST-MODIFIED:20240125T095335Z
UID:10030389-1799193600-1799279999@tcheklian-notaires.fr
SUMMARY:办公时间
DESCRIPTION:
URL:https://tcheklian-notaires.fr/event/%e5%8a%9e%e5%85%ac%e6%97%b6%e9%97%b4/2027-01-06/
END:VEVENT
BEGIN:VEVENT
DTSTART;VALUE=DATE:20270107
DTEND;VALUE=DATE:20270108
DTSTAMP:20260421T105614
CREATED:20240125T095335Z
LAST-MODIFIED:20240125T095335Z
UID:10030390-1799280000-1799366399@tcheklian-notaires.fr
SUMMARY:办公时间
DESCRIPTION:
URL:https://tcheklian-notaires.fr/event/%e5%8a%9e%e5%85%ac%e6%97%b6%e9%97%b4/2027-01-07/
END:VEVENT
BEGIN:VEVENT
DTSTART;VALUE=DATE:20270108
DTEND;VALUE=DATE:20270109
DTSTAMP:20260421T105614
CREATED:20240125T095335Z
LAST-MODIFIED:20240125T095335Z
UID:10030391-1799366400-1799452799@tcheklian-notaires.fr
SUMMARY:办公时间
DESCRIPTION:
URL:https://tcheklian-notaires.fr/event/%e5%8a%9e%e5%85%ac%e6%97%b6%e9%97%b4/2027-01-08/
END:VEVENT
BEGIN:VEVENT
DTSTART;VALUE=DATE:20270109
DTEND;VALUE=DATE:20270110
DTSTAMP:20260421T105614
CREATED:20240125T095335Z
LAST-MODIFIED:20240125T095335Z
UID:10030392-1799452800-1799539199@tcheklian-notaires.fr
SUMMARY:办公时间
DESCRIPTION:
URL:https://tcheklian-notaires.fr/event/%e5%8a%9e%e5%85%ac%e6%97%b6%e9%97%b4/2027-01-09/
END:VEVENT
BEGIN:VEVENT
DTSTART;VALUE=DATE:20270110
DTEND;VALUE=DATE:20270111
DTSTAMP:20260421T105614
CREATED:20240125T095649Z
LAST-MODIFIED:20240125T095649Z
UID:10031986-1799539200-1799625599@tcheklian-notaires.fr
SUMMARY:休息
DESCRIPTION:
URL:https://tcheklian-notaires.fr/event/%e4%bc%91%e6%81%af/2027-01-10/
END:VEVENT
BEGIN:VEVENT
DTSTART;VALUE=DATE:20270111
DTEND;VALUE=DATE:20270112
DTSTAMP:20260421T105614
CREATED:20240125T095335Z
LAST-MODIFIED:20240125T095335Z
UID:10030393-1799625600-1799711999@tcheklian-notaires.fr
SUMMARY:办公时间
DESCRIPTION:
URL:https://tcheklian-notaires.fr/event/%e5%8a%9e%e5%85%ac%e6%97%b6%e9%97%b4/2027-01-11/
END:VEVENT
BEGIN:VEVENT
DTSTART;VALUE=DATE:20270112
DTEND;VALUE=DATE:20270113
DTSTAMP:20260421T105614
CREATED:20240125T095335Z
LAST-MODIFIED:20240125T095335Z
UID:10030394-1799712000-1799798399@tcheklian-notaires.fr
SUMMARY:办公时间
DESCRIPTION:
URL:https://tcheklian-notaires.fr/event/%e5%8a%9e%e5%85%ac%e6%97%b6%e9%97%b4/2027-01-12/
END:VEVENT
BEGIN:VEVENT
DTSTART;VALUE=DATE:20270113
DTEND;VALUE=DATE:20270114
DTSTAMP:20260421T105614
CREATED:20240125T095335Z
LAST-MODIFIED:20240125T095335Z
UID:10030395-1799798400-1799884799@tcheklian-notaires.fr
SUMMARY:办公时间
DESCRIPTION:
URL:https://tcheklian-notaires.fr/event/%e5%8a%9e%e5%85%ac%e6%97%b6%e9%97%b4/2027-01-13/
END:VEVENT
BEGIN:VEVENT
DTSTART;VALUE=DATE:20270114
DTEND;VALUE=DATE:20270115
DTSTAMP:20260421T105614
CREATED:20240125T095335Z
LAST-MODIFIED:20240125T095335Z
UID:10030396-1799884800-1799971199@tcheklian-notaires.fr
SUMMARY:办公时间
DESCRIPTION:
URL:https://tcheklian-notaires.fr/event/%e5%8a%9e%e5%85%ac%e6%97%b6%e9%97%b4/2027-01-14/
END:VEVENT
BEGIN:VEVENT
DTSTART;VALUE=DATE:20270115
DTEND;VALUE=DATE:20270116
DTSTAMP:20260421T105614
CREATED:20240125T095335Z
LAST-MODIFIED:20240125T095335Z
UID:10030397-1799971200-1800057599@tcheklian-notaires.fr
SUMMARY:办公时间
DESCRIPTION:
URL:https://tcheklian-notaires.fr/event/%e5%8a%9e%e5%85%ac%e6%97%b6%e9%97%b4/2027-01-15/
END:VEVENT
BEGIN:VEVENT
DTSTART;VALUE=DATE:20270116
DTEND;VALUE=DATE:20270117
DTSTAMP:20260421T105614
CREATED:20240125T095335Z
LAST-MODIFIED:20240125T095335Z
UID:10030398-1800057600-1800143999@tcheklian-notaires.fr
SUMMARY:办公时间
DESCRIPTION:
URL:https://tcheklian-notaires.fr/event/%e5%8a%9e%e5%85%ac%e6%97%b6%e9%97%b4/2027-01-16/
END:VEVENT
BEGIN:VEVENT
DTSTART;VALUE=DATE:20270117
DTEND;VALUE=DATE:20270118
DTSTAMP:20260421T105614
CREATED:20240125T095649Z
LAST-MODIFIED:20240125T095649Z
UID:10031987-1800144000-1800230399@tcheklian-notaires.fr
SUMMARY:休息
DESCRIPTION:
URL:https://tcheklian-notaires.fr/event/%e4%bc%91%e6%81%af/2027-01-17/
END:VEVENT
BEGIN:VEVENT
DTSTART;VALUE=DATE:20270118
DTEND;VALUE=DATE:20270119
DTSTAMP:20260421T105614
CREATED:20240125T095335Z
LAST-MODIFIED:20240125T095335Z
UID:10030399-1800230400-1800316799@tcheklian-notaires.fr
SUMMARY:办公时间
DESCRIPTION:
URL:https://tcheklian-notaires.fr/event/%e5%8a%9e%e5%85%ac%e6%97%b6%e9%97%b4/2027-01-18/
END:VEVENT
BEGIN:VEVENT
DTSTART;VALUE=DATE:20270119
DTEND;VALUE=DATE:20270120
DTSTAMP:20260421T105614
CREATED:20240125T095335Z
LAST-MODIFIED:20240125T095335Z
UID:10030400-1800316800-1800403199@tcheklian-notaires.fr
SUMMARY:办公时间
DESCRIPTION:
URL:https://tcheklian-notaires.fr/event/%e5%8a%9e%e5%85%ac%e6%97%b6%e9%97%b4/2027-01-19/
END:VEVENT
BEGIN:VEVENT
DTSTART;VALUE=DATE:20270120
DTEND;VALUE=DATE:20270121
DTSTAMP:20260421T105614
CREATED:20240125T095335Z
LAST-MODIFIED:20240125T095335Z
UID:10030401-1800403200-1800489599@tcheklian-notaires.fr
SUMMARY:办公时间
DESCRIPTION:
URL:https://tcheklian-notaires.fr/event/%e5%8a%9e%e5%85%ac%e6%97%b6%e9%97%b4/2027-01-20/
END:VEVENT
BEGIN:VEVENT
DTSTART;VALUE=DATE:20270121
DTEND;VALUE=DATE:20270122
DTSTAMP:20260421T105614
CREATED:20240125T095335Z
LAST-MODIFIED:20240125T095335Z
UID:10030402-1800489600-1800575999@tcheklian-notaires.fr
SUMMARY:办公时间
DESCRIPTION:
URL:https://tcheklian-notaires.fr/event/%e5%8a%9e%e5%85%ac%e6%97%b6%e9%97%b4/2027-01-21/
END:VEVENT
END:VCALENDAR